From mboxrd@z Thu Jan 1 00:00:00 1970 Return-Path: Received: from mails.dpdk.org (mails.dpdk.org [217.70.189.124]) by inbox.dpdk.org (Postfix) with ESMTP id 3B28A48AA4 for ; Sat, 8 Nov 2025 03:04:51 +0100 (CET) Received: from mails.dpdk.org (localhost [127.0.0.1]) by mails.dpdk.org (Postfix) with ESMTP id 11E6D40261; Sat, 8 Nov 2025 03:04:51 +0100 (CET) Received: from mail-pf1-f228.google.com (mail-pf1-f228.google.com [209.85.210.228]) by mails.dpdk.org (Postfix) with ESMTP id 2AE2740261 for ; Sat, 8 Nov 2025 03:04:50 +0100 (CET) Received: by mail-pf1-f228.google.com with SMTP id d2e1a72fcca58-7a9fb6fccabso1133104b3a.0 for ; Fri, 07 Nov 2025 18:04:50 -0800 (PST) DKIM-Signature: v=1; a=rsa-sha256; c=relaxed/relaxed; d=iol.unh.edu; s=unh-iol; t=1762567489; x=1763172289; darn=dpdk.org; h=cc:to:from:subject:message-id:date:from:to:cc:subject:date :message-id:reply-to; bh=AgKVt0NTO+eOoL2Li5XPUTk6v3uN6W5+535F5mWr/VQ=; b=AYjid+k0ncz/50eaIZ4CF7mUaGwCE+d1gWt4eRB59VBT81DnD7k/3qYzKWVkJBjv2k a8UVQtA6Ij7oqz4FFvKBz18m6h4CPT5Up7pHD40M4ZlhDJ1F51LIcesCHXtivVwaIJEv oO5yJSDDY+tvSJUcwOJDXKLL7Tg32x4gJLWVg= X-Google-DKIM-Signature: v=1; a=rsa-sha256; c=relaxed/relaxed; d=1e100.net; s=20230601; t=1762567489; x=1763172289; h=cc:to:from:subject:message-id:date:x-gm-gg:x-gm-message-state:from :to:cc:subject:date:message-id:reply-to; bh=AgKVt0NTO+eOoL2Li5XPUTk6v3uN6W5+535F5mWr/VQ=; b=ATsvxpTevMrMXcGI7xw++sBLVMi11sqCmu+ey+o1GtGvmuXoctIsbfA0ZCzUpdtEan cvBuXSXVOCi+v4jqPSAtglxQ6n+FVVulToArfues5N2iWoYf8ls8lx1vKGYiGUqznFuG Za4iyxU3I6PGrYSI6U68tRRKWQGZ4CLe6PDOVENa2Ubr3fR0zEnvgbHV1kYHqa2mtmMY +9sylZiLw5vOAUu28fayqBSjVvT8LKELqvuKuCuT0Morw0qDJzCNALXLv68wBsbQ1TQ9 GspMDrCGO1glX0b5NwqGHkGMR7DwVKAO4GJCMLwBL5ufweUGDTSocGC51eU2qH/QnXmw a3Ww== X-Gm-Message-State: AOJu0YzERUx/TLrcyLPhoHHbXrThMpnmPZkSleqZGaW6Il0UKLJmO5KF /RFPYm9q5bOb3Oj73+gdNqhm6Yi1Re1lg0YEouY7jZWf1XuUQqDJM1Dn9UgU+m8qEmbzof3iMmU 01faMTFvMM6631uk55sHDtX+fmw2OXFlQdPbYqXGMyFNP X-Gm-Gg: ASbGncvvjnpyy0rGI5NGb3Xvc8mxq6DjPL+ww1rtUUVT01+A9CXCC7mv/GrdTH7R43h glTrozsXKPbDTzTosE2W6NHkMago5wJXCCk+4qeFWaG21tux3BFzbaa4GwFJG68DgFrB6w9TaAi nyqFNkmTyRnicZ1ePACxVACYhI/4rndjv2sOiLPWQreYbEd+aPkQXZ2jWwKYkh7SPbVepR1LT3J XZpV36b7HqD6hFGTRVJUSTSotwjDlmZYXXSQbLxkYk3w5czB/TGduAgNfjwPUSA7159BWUmo8gn uZdVeZjQ5BAICOscVPLdbNwZ7hKbNyhykTpDgw0NFcVfpYk/m/saavY6eakd7584AF1rl/7HnQs uY4jVKMfbmWfPnDvUACBKtXUQKIWGrrw= X-Google-Smtp-Source: AGHT+IFB/Zmuu+FcNsPmoIYOvvSm+23JJM2/2AMgzkUcmF9sV11UieqkwdHm7fy3K3ung4BpZR0befNmwlbl X-Received: by 2002:a05:6300:218d:b0:306:2a14:d0d4 with SMTP id adf61e73a8af0-353a3760a5emr1533304637.43.1762567489209; Fri, 07 Nov 2025 18:04:49 -0800 (PST) Received: from postal.iol.unh.edu (postal.iol.unh.edu. [132.177.123.84]) by smtp-relay.gmail.com with ESMTPS id d2e1a72fcca58-7b0cbe59ceesm362151b3a.7.2025.11.07.18.04.49 (version=TLS1_2 cipher=ECDHE-ECDSA-AES128-GCM-SHA256 bits=128/128); Fri, 07 Nov 2025 18:04:49 -0800 (PST) X-Relaying-Domain: iol.unh.edu Date: Fri, 07 Nov 2025 18:04:49 -0800 (PST) Message-ID: <690ea541.050a0220.75f5c.2c5dSMTPIN_ADDED_MISSING@mx.google.com> Received: from [172.21.0.2] (unknown [172.18.0.240]) by postal.iol.unh.edu (Postfix) with ESMTP id CF7ED6051830; Fri, 7 Nov 2025 21:04:47 -0500 (EST) Subject: |SUCCESS| [GIT MASTER] 87f7895e470c13e13efd6762d701139d0987294a From: dpdklab@iol.unh.edu To: Test Report Cc: dpdk-test-reports@iol.unh.edu Content-Type: text/plain X-BeenThere: test-report@dpdk.org X-Mailman-Version: 2.1.29 Precedence: list List-Id: automatic DPDK test reports List-Unsubscribe: , List-Archive: List-Post: List-Help: List-Subscribe: , Errors-To: test-report-bounces@dpdk.org _Testing PASS_ Branch: dpdk 87f7895e470c13e13efd6762d701139d0987294a --> testing pass Upstream job id: Generic-VM-Unit-Test-DPDK#32391 Test environment and result as below: +-------------------------------+----------------+ | Environment | dpdk_unit_test | +===============================+================+ | Arch Linux 20250613.0.365270 | PASS | +-------------------------------+----------------+ | CentOS Stream 9 | PASS | +-------------------------------+----------------+ | CentOS Stream 10 | PASS | +-------------------------------+----------------+ | Fedora Linux 40 | PASS | +-------------------------------+----------------+ | Debian GNU/Linux 12 | PASS | +-------------------------------+----------------+ | Fedora Linux 41 | PASS | +-------------------------------+----------------+ | Ubuntu 20.04 | PASS | +-------------------------------+----------------+ | Fedora Linux 42 | PASS | +-------------------------------+----------------+ | Windows Server 2022 | PASS | +-------------------------------+----------------+ | Red Hat Enterprise Linux 8.10 | PASS | +-------------------------------+----------------+ | Red Hat Enterprise Linux 9.5 | PASS | +-------------------------------+----------------+ | Ubuntu 24.04 | PASS | +-------------------------------+----------------+ | Ubuntu 22.04 | PASS | +-------------------------------+----------------+ Arch Linux 20250613.0.365270 Kernel: 5.15 Compiler: gcc gcc (GCC) 15.1.1 20250425 CentOS Stream 9 Kernel: 5.15 Compiler: gcc gcc (GCC) 11.5.0 20240719 (Red Hat 11.5.0-11) CentOS Stream 10 Kernel: 5.15 Compiler: gcc gcc (GCC) 14.2.1 20250110 (Red Hat 14.2.1-8) Fedora Linux 40 Kernel: 5.15 Compiler: gcc gcc (GCC) 14.2.1 20240912 (Red Hat 14.2.1-3) Debian GNU/Linux 12 Kernel: 5.15 Compiler: gcc gcc (Debian 12.2.0-14+deb12u1) 12.2.0 Fedora Linux 41 Kernel: 5.15 Compiler: gcc gcc (GCC) 14.3.1 20250523 (Red Hat 14.3.1-1) Ubuntu 20.04 Kernel: 5.15 Compiler: gcc gcc (Ubuntu 9.4.0-1ubuntu1~20.04.2) 9.4.0 Fedora Linux 42 Kernel: 5.15 Compiler: clang gcc (GCC) 15.2.1 20250808 (Red Hat 15.2.1-1) Windows Server 2022 Kernel: 10.0.20348.2031 Compiler: clang 15.0.7, gcc 14.1.0 (MinGW), and MSVC VS 19.39.33521 Red Hat Enterprise Linux 8.10 Kernel: 5.15 Compiler: gcc gcc (GCC) 8.5.0 20210514 (Red Hat 8.5.0-22) Red Hat Enterprise Linux 9.5 Kernel: 5.15 Compiler: gcc gcc (GCC) 11.5.0 20240719 (Red Hat 11.5.0-2) Ubuntu 24.04 Kernel: 5.15 Compiler: gcc gcc (Ubuntu 13.3.0-6ubuntu2~24.04) 13.3.0 Ubuntu 22.04 Kernel: 5.15 Compiler: gcc gcc (Ubuntu 11.4.0-1ubuntu1~22.04) 11.4.0 To view detailed results, visit: https://lab.dpdk.org/results/dashboard/tarballs/35505/ UNH-IOL DPDK Community Lab To manage your email subscriptions, visit: https://lab.dpdk.org/results/dashboard/preferences/subscriptions/