From mboxrd@z Thu Jan 1 00:00:00 1970 Return-Path: Received: from mails.dpdk.org (mails.dpdk.org [217.70.189.124]) by inbox.dpdk.org (Postfix) with ESMTP id 458FE48AA4 for ; Sat, 8 Nov 2025 03:06:21 +0100 (CET) Received: from mails.dpdk.org (localhost [127.0.0.1]) by mails.dpdk.org (Postfix) with ESMTP id 402E940261; Sat, 8 Nov 2025 03:06:21 +0100 (CET) Received: from mail-qt1-f228.google.com (mail-qt1-f228.google.com [209.85.160.228]) by mails.dpdk.org (Postfix) with ESMTP id 117C740261 for ; Sat, 8 Nov 2025 03:06:20 +0100 (CET) Received: by mail-qt1-f228.google.com with SMTP id d75a77b69052e-4ed9d230e6dso12083201cf.1 for ; Fri, 07 Nov 2025 18:06:20 -0800 (PST) DKIM-Signature: v=1; a=rsa-sha256; c=relaxed/relaxed; d=iol.unh.edu; s=unh-iol; t=1762567579; x=1763172379; darn=dpdk.org; h=references:in-reply-to:cc:to:from:subject:message-id:date:from:to :cc:subject:date:message-id:reply-to; bh=3OUnRPP5jqNYTA/IlufiljIA0GK5xyIIe3YLMKtdBXo=; b=Xr8u2g9E7Ps+8wdd0IGVYLo7Rx+WZ7JHgqiEreMNRbL8pYiHe4pPCLd1ijQCE1ClIK IXnJx5Fl/IKmaDyCn0kB5ktbmkX82CArlPfXcwydK4QOZ7ulBjePTl8oj97HP8kRHrkX GTay/5kC7asY5rJ+eIElkQZdRZFCD9d/uOP90= X-Google-DKIM-Signature: v=1; a=rsa-sha256; c=relaxed/relaxed; d=1e100.net; s=20230601; t=1762567579; x=1763172379; h=references:in-reply-to:cc:to:from:subject:message-id:date:x-gm-gg :x-gm-message-state:from:to:cc:subject:date:message-id:reply-to; bh=3OUnRPP5jqNYTA/IlufiljIA0GK5xyIIe3YLMKtdBXo=; b=SIjE5D4tZh3/W4jhRsLVGSGjz/vt6axirsy1JJcxnfkJQzEGAiN3lvDFN+N1qbNjnB 9eK6b8NrpdyGZ/WsjKV0pgonLuTeU3T+a5ekRnIoPVDDc8BB4mQalZL/SFpUS2sc35S2 2p/N2gb2tP1ma4QWXmEopFp144VXRm/USaaGeu8+qlf4BIY45g4kLJjPb9sRkl9aroJ8 C2MOytx0cuVystgBAFKW57gtSCARlTcSE3WrBYBwuyT+/OxTvD/bX7WlGGwg3CmYEX4b joNKCtrLpsVFK4YSosv3wAL0CzgmhSByylcf01XgVMQNFX5h9pVdMyDYKDHyckQE5Qgf S8Hw== X-Gm-Message-State: AOJu0YyIBY9FzOJjE2srVxHeJqk4ektmdRO4fUh8gA7PfQcjQz06CxtX RX93HWGMpfLSBGAHggAjZKzOu2xxdUFtIwt1YmENaA0t9RFqhAENSw8fNPPXrThkQnp2Xp9yUjY 3GaIldF+1J4ZDJFqJ7FoWUMtRW3FMdN1Y2hHOKa4r18Oz X-Gm-Gg: ASbGncv6tm+No8jvjIx4+sxe7Nzx29OFjmv/glO5cIQbXV7ePyd7EsuATUI7BOCNq/y pbqCDvqfmdhwZFNeKyMVT77PbiY3DPO6m6c/8X/gCy5rXW4el7sC1ZS0DbMCIR+wfgJ6DtM1KlM vonkYibne8SQhFYcDKlvQJgmVXHQTOQxFk4eM4xHEUOp2ey7+Qg0F/oU/ZMMKidQ9P573VktlV5 ABTV7b+Im7hxSasfECNLIKPUKwsWfpeaVhsRqdatH12QjamOh2SoDd3oq77RAK8BTV+67taS//5 4hzxNbglVNwbbhJ7Xn4BV3x5Evq1gXknpQDb6uY1aK1aJfpmfrNVTzhRPaT4zqCWgJEYHwUWNch 9lq4/lrNNQSwLdS06jeBEXmIhhejSRd4= X-Google-Smtp-Source: AGHT+IG+eyLrKBj3c1V5tS1P4jC2MI0MZ8Pl2omg0K45rfDOdvufyU4xt0nBqhVLt4C/29NxAJ8lVA5hzli4 X-Received: by 2002:a05:622a:1311:b0:4ed:6215:a8c9 with SMTP id d75a77b69052e-4eda4e7e649mr19388681cf.12.1762567579446; Fri, 07 Nov 2025 18:06:19 -0800 (PST) Received: from postal.iol.unh.edu (postal.iol.unh.edu. [132.177.123.84]) by smtp-relay.gmail.com with ESMTPS id d75a77b69052e-4eda5609a6bsm405491cf.3.2025.11.07.18.06.19 (version=TLS1_2 cipher=ECDHE-ECDSA-AES128-GCM-SHA256 bits=128/128); Fri, 07 Nov 2025 18:06:19 -0800 (PST) X-Relaying-Domain: iol.unh.edu Date: Fri, 07 Nov 2025 18:06:19 -0800 (PST) Message-ID: <690ea59b.050a0220.18798a.22b3SMTPIN_ADDED_MISSING@mx.google.com> Received: from [172.21.0.2] (unknown [172.18.0.240]) by postal.iol.unh.edu (Postfix) with ESMTP id E5D5B6051830; Fri, 7 Nov 2025 21:06:18 -0500 (EST) Subject: |SUCCESS| pw158608-158611 [PATCH] [v5,4/4] dts: add virtio forwardin From: dpdklab@iol.unh.edu To: Test Report Cc: dpdk-test-reports@iol.unh.edu In-Reply-To: <20251107215020.255182-4-dmarx@iol.unh.edu> References: <20251107215020.255182-4-dmarx@iol.unh.edu> Content-Type: text/plain X-BeenThere: test-report@dpdk.org X-Mailman-Version: 2.1.29 Precedence: list List-Id: automatic DPDK test reports List-Unsubscribe: , List-Archive: List-Post: List-Help: List-Subscribe: , Errors-To: test-report-bounces@dpdk.org Test-Label: iol-compile-arm64-testing Test-Status: SUCCESS http://dpdk.org/patch/158611 _Testing PASS_ Submitter: Dean Marx Date: Friday, November 07 2025 21:50:18 DPDK git baseline: Repo:dpdk-next-dts Branch: master CommitID:86938398c8d6d8b88ff8237e30d3b7024d52c7bc 158608-158611 --> testing pass Upstream job id: Generic-DPDK-Compile-Meson#442075 Test environment and result as below: +------------------------------+--------------------+ | Environment | dpdk_meson_compile | +==============================+====================+ | Red Hat Enterprise Linux 9.5 | PASS | +------------------------------+--------------------+ | Ubuntu 20.04 | PASS | +------------------------------+--------------------+ | Debian GNU/Linux 12 | PASS | +------------------------------+--------------------+ | Fedora Linux 42 | PASS | +------------------------------+--------------------+ | Ubuntu 22.04 | PASS | +------------------------------+--------------------+ | CentOS Stream 9 | PASS | +------------------------------+--------------------+ | Ubuntu 24.04 | PASS | +------------------------------+--------------------+ | CentOS Stream 10 | PASS | +------------------------------+--------------------+ Red Hat Enterprise Linux 9.5 Kernel: 5.4 Compiler: gcc gcc (GCC) 11.5.0 20240719 (Red Hat 11.5.0-2) Ubuntu 20.04 Kernel: 5.15 Compiler: aarch64-linux-gnu-gcc gcc (Ubuntu 9.4.0-1ubuntu1~20.04.2) 9.4.0 Debian GNU/Linux 12 Kernel: 5.4 Compiler: gcc gcc (Debian 12.2.0-14+deb12u1) 12.2.0 Fedora Linux 42 Kernel: 5.4 Compiler: gcc gcc (GCC) 15.2.1 20250808 (Red Hat 15.2.1-1) Ubuntu 22.04 Kernel: 5.4 Compiler: gcc gcc (Ubuntu 11.4.0-1ubuntu1~22.04) 11.4.0 CentOS Stream 9 Kernel: 5.4 Compiler: gcc gcc (GCC) 11.5.0 20240719 (Red Hat 11.5.0-11) Ubuntu 24.04 Kernel: 5.4 Compiler: gcc gcc (Ubuntu 13.3.0-6ubuntu2~24.04) 13.3.0 CentOS Stream 10 Kernel: 5.4 Compiler: gcc gcc (GCC) 14.2.1 20250110 (Red Hat 14.2.1-8) To view detailed results, visit: https://lab.dpdk.org/results/dashboard/patchsets/34511/ UNH-IOL DPDK Community Lab To manage your email subscriptions, visit: https://lab.dpdk.org/results/dashboard/preferences/subscriptions/