From mboxrd@z Thu Jan 1 00:00:00 1970 Return-Path: Received: from mails.dpdk.org (mails.dpdk.org [217.70.189.124]) by inbox.dpdk.org (Postfix) with ESMTP id 53F6D48AA4 for ; Sat, 8 Nov 2025 03:06:37 +0100 (CET) Received: from mails.dpdk.org (localhost [127.0.0.1]) by mails.dpdk.org (Postfix) with ESMTP id 4ECA640261; Sat, 8 Nov 2025 03:06:37 +0100 (CET) Received: from mail-pl1-f226.google.com (mail-pl1-f226.google.com [209.85.214.226]) by mails.dpdk.org (Postfix) with ESMTP id 94ECC40261 for ; Sat, 8 Nov 2025 03:06:36 +0100 (CET) Received: by mail-pl1-f226.google.com with SMTP id d9443c01a7336-297dd95ffe4so6444995ad.3 for ; Fri, 07 Nov 2025 18:06:36 -0800 (PST) DKIM-Signature: v=1; a=rsa-sha256; c=relaxed/relaxed; d=iol.unh.edu; s=unh-iol; t=1762567595; x=1763172395; darn=dpdk.org; h=cc:to:from:subject:message-id:date:from:to:cc:subject:date :message-id:reply-to; bh=46Lohz8m4I/uvpUN3Em2UOxt/OIS9FqGnGRhXL2Ozp0=; b=Ex7UskVDNMEUPpNZH4IdYuX7PpOCDfzkbzmFJ/lxYaErXg6EZjm4g9LoCTW0mAopnb 4nrhJ+G9XFlTKmbAxXrplkcsVGJTWKmokaoZQktz5AoCgvwWzQouDQak08vzqyeM0J1K f0yycfjCOcjjCZnYk/ewUQSi+T5BDgQPOPWwE= X-Google-DKIM-Signature: v=1; a=rsa-sha256; c=relaxed/relaxed; d=1e100.net; s=20230601; t=1762567595; x=1763172395; h=cc:to:from:subject:message-id:date:x-gm-gg:x-gm-message-state:from :to:cc:subject:date:message-id:reply-to; bh=46Lohz8m4I/uvpUN3Em2UOxt/OIS9FqGnGRhXL2Ozp0=; b=KFAAJijDoNhzkHcH3avTymRTDTLYfoOEeb/5Tfc3nE+9L8YrGSs6pvDO1PpMLEjG/S GAJ7nTr+zE6up0K/ntb0siU8bIL9Porp1lXpyE/SCRkOciJMm0fHPfEFNlJqAI8D/7Kp V5XFGRGdZ1k58WTG0pMhaau4O4CW8urZy41cFcChaOsPSBA7PGGZhTAxrFYN5F9gaDCg Km3lhI3bfLZ7F/wlT21O6QIFQa5xRIW2mu5p0eJaKCnuj7S2xaDiuJq9p4CowkqXKx1m WW5sfFTYUm+YHIXYV7VT2v1giHCEg7K0LwRT6UcTzdlCa/UicoLLQ6EcYdPheMpplCUB Aj4A== X-Gm-Message-State: AOJu0YykxrGPdjGq93b9WAP4rEuD21GHqEnMC5U6lr5tRIJ91Qogiuih sDATY5VzKjw8GdSEEt97IQB53RxTDQpA3xIi3pwxJv65t4QFrexjV70EX1r0d1lo0tqQoXs60YN oh+vwRIebFGq08iNFThbRcFdl8De6tF28VUdidSQhhB5r X-Gm-Gg: ASbGncuvmSthPj0xYKmC0BuijEdzre4JhOUZCquRiDVn0/IBiJP4ExeotXo3ahorNIF l4jYa7eiF6I0zH+kaA5vyPFk2sariuNaP00LCMFRU3LBKw2JXoKUnzXS6b6xcFKzxxROQkWqs2O Kx6ENO4dGrFbekzyOEre3fYo3lqfIzhefyCpXN8ihVi20A0gFEgw71V8rgEeCo5mP4/paIg2Ddn K3NxJuZKQAN5M8oIEi0EXUA0gF0u7NmglpmHusZW53Uf685DRrGvtSswBuQ4yRL/ZbMZHQeqm6n xLGh0TzI/NqcI3CMkia09JZDQpSOFOCdZlIhXR1wTy0x/5WHXflCq+3f9lcbL7H0PpuGdLYkzvF dG9JXaYKYCLZQGHDIVZ65iOMYU91TmUs= X-Google-Smtp-Source: AGHT+IE+rGJxKjSDg/YecyqTn1THXVoEPsgE1tKV//h6ZYWio9YqvjJcLgrR/PNpAzYOQ2uhc/CGp6Bk1JPq X-Received: by 2002:a17:903:983:b0:23f:fa79:15d0 with SMTP id d9443c01a7336-297e56f9addmr15921335ad.46.1762567595608; Fri, 07 Nov 2025 18:06:35 -0800 (PST) Received: from postal.iol.unh.edu (postal.iol.unh.edu. [132.177.123.84]) by smtp-relay.gmail.com with ESMTPS id d9443c01a7336-29651c8de62sm6274505ad.53.2025.11.07.18.06.35 (version=TLS1_2 cipher=ECDHE-ECDSA-AES128-GCM-SHA256 bits=128/128); Fri, 07 Nov 2025 18:06:35 -0800 (PST) X-Relaying-Domain: iol.unh.edu Date: Fri, 07 Nov 2025 18:06:35 -0800 (PST) Message-ID: <690ea5ab.170a0220.1bd208.0d41SMTPIN_ADDED_MISSING@mx.google.com> Received: from [172.21.0.2] (unknown [172.18.0.240]) by postal.iol.unh.edu (Postfix) with ESMTP id 0F3716051830; Fri, 7 Nov 2025 21:06:35 -0500 (EST) Subject: |SUCCESS| [GIT MASTER] 87f7895e470c13e13efd6762d701139d0987294a From: dpdklab@iol.unh.edu To: Test Report Cc: dpdk-test-reports@iol.unh.edu Content-Type: text/plain X-BeenThere: test-report@dpdk.org X-Mailman-Version: 2.1.29 Precedence: list List-Id: automatic DPDK test reports List-Unsubscribe: , List-Archive: List-Post: List-Help: List-Subscribe: , Errors-To: test-report-bounces@dpdk.org _Testing PASS_ Branch: dpdk 87f7895e470c13e13efd6762d701139d0987294a --> testing pass Upstream job id: Windows-Compile-DPDK-Native#32218 Test environment and result as below: +-------------------------------+-------------------------+--------------------+------------------+-------------------+----------------------+ | Environment | dpdk_llvm_clang_compile | dpdk_meson_compile | dpdk_compile_ovs | dpdk_msvc_compile | dpdk_mingw64_compile | +===============================+=========================+====================+==================+===================+======================+ | Windows Server 2022 | PASS | SKIPPED | SKIPPED | PASS | PASS | +-------------------------------+-------------------------+--------------------+------------------+-------------------+----------------------+ | Ubuntu 20.04 | SKIPPED | PASS | SKIPPED | SKIPPED | SKIPPED | +-------------------------------+-------------------------+--------------------+------------------+-------------------+----------------------+ | CentOS Stream 9 | SKIPPED | PASS | SKIPPED | SKIPPED | SKIPPED | +-------------------------------+-------------------------+--------------------+------------------+-------------------+----------------------+ | CentOS Stream 10 | SKIPPED | PASS | SKIPPED | SKIPPED | SKIPPED | +-------------------------------+-------------------------+--------------------+------------------+-------------------+----------------------+ | Fedora Linux 42 | SKIPPED | PASS | PASS | SKIPPED | SKIPPED | +-------------------------------+-------------------------+--------------------+------------------+-------------------+----------------------+ | openSUSE Leap 15.6 | SKIPPED | PASS | SKIPPED | SKIPPED | SKIPPED | +-------------------------------+-------------------------+--------------------+------------------+-------------------+----------------------+ | FreeBSD 14.2 | SKIPPED | PASS | SKIPPED | SKIPPED | SKIPPED | +-------------------------------+-------------------------+--------------------+------------------+-------------------+----------------------+ | Red Hat Enterprise Linux 8.10 | SKIPPED | PASS | SKIPPED | SKIPPED | SKIPPED | +-------------------------------+-------------------------+--------------------+------------------+-------------------+----------------------+ | Debian GNU/Linux 12 | SKIPPED | PASS | SKIPPED | SKIPPED | SKIPPED | +-------------------------------+-------------------------+--------------------+------------------+-------------------+----------------------+ | Red Hat Enterprise Linux 9.5 | SKIPPED | PASS | SKIPPED | SKIPPED | SKIPPED | +-------------------------------+-------------------------+--------------------+------------------+-------------------+----------------------+ | Ubuntu 22.04 | SKIPPED | PASS | SKIPPED | SKIPPED | SKIPPED | +-------------------------------+-------------------------+--------------------+------------------+-------------------+----------------------+ | Ubuntu 24.04 | SKIPPED | PASS | PASS | SKIPPED | SKIPPED | +-------------------------------+-------------------------+--------------------+------------------+-------------------+----------------------+ | Alpine Linux 3.22.0 | SKIPPED | PASS | SKIPPED | SKIPPED | SKIPPED | +-------------------------------+-------------------------+--------------------+------------------+-------------------+----------------------+ | Arch Linux 20250613.0.365270 | SKIPPED | PASS | SKIPPED | SKIPPED | SKIPPED | +-------------------------------+-------------------------+--------------------+------------------+-------------------+----------------------+ Windows Server 2022 Kernel: 10.0.20348.2031 Compiler: clang 15.0.7, gcc 14.1.0 (MinGW), and MSVC VS 19.39.33521 Ubuntu 20.04 Kernel: 4.19 Compiler: gcc gcc (Ubuntu 9.4.0-1ubuntu1~20.04.2) 9.4.0 CentOS Stream 9 Kernel: 5.15 Compiler: gcc gcc (GCC) 11.5.0 20240719 (Red Hat 11.5.0-11) CentOS Stream 10 Kernel: 5.15 Compiler: gcc gcc (GCC) 14.2.1 20250110 (Red Hat 14.2.1-8) Fedora Linux 42 Kernel: 5.15 Compiler: clang gcc (GCC) 15.2.1 20250808 (Red Hat 15.2.1-1) openSUSE Leap 15.6 Kernel: 5.15 Compiler: gcc gcc (SUSE Linux) 7.5.0 FreeBSD 14.2 Kernel: 14.2-RELEASE Compiler: clang 18.1.6 Red Hat Enterprise Linux 8.10 Kernel: 5.15 Compiler: gcc gcc (GCC) 8.5.0 20210514 (Red Hat 8.5.0-22) Debian GNU/Linux 12 Kernel: 5.15 Compiler: gcc gcc (Debian 12.2.0-14+deb12u1) 12.2.0 Red Hat Enterprise Linux 9.5 Kernel: 5.15 Compiler: gcc gcc (GCC) 11.5.0 20240719 (Red Hat 11.5.0-2) Ubuntu 22.04 Kernel: 5.15 Compiler: gcc gcc (Ubuntu 11.4.0-1ubuntu1~22.04) 11.4.0 Ubuntu 24.04 Kernel: 5.15 Compiler: gcc gcc (Ubuntu 13.3.0-6ubuntu2~24.04) 13.3.0 Alpine Linux 3.22.0 Kernel: 5.15 Compiler: gcc gcc (Alpine 14.2.0) 14.2.0 Arch Linux 20250613.0.365270 Kernel: 5.15 Compiler: gcc gcc (GCC) 15.1.1 20250425 To view detailed results, visit: https://lab.dpdk.org/results/dashboard/tarballs/35505/ UNH-IOL DPDK Community Lab To manage your email subscriptions, visit: https://lab.dpdk.org/results/dashboard/preferences/subscriptions/