From mboxrd@z Thu Jan 1 00:00:00 1970 Return-Path: Received: from mails.dpdk.org (mails.dpdk.org [217.70.189.124]) by inbox.dpdk.org (Postfix) with ESMTP id E36CA48AA4 for ; Sat, 8 Nov 2025 03:11:53 +0100 (CET) Received: from mails.dpdk.org (localhost [127.0.0.1]) by mails.dpdk.org (Postfix) with ESMTP id C062240261; Sat, 8 Nov 2025 03:11:53 +0100 (CET) Received: from mail-io1-f97.google.com (mail-io1-f97.google.com [209.85.166.97]) by mails.dpdk.org (Postfix) with ESMTP id 9F89040261 for ; Sat, 8 Nov 2025 03:11:52 +0100 (CET) Received: by mail-io1-f97.google.com with SMTP id ca18e2360f4ac-9486d008fdbso54436539f.1 for ; Fri, 07 Nov 2025 18:11:52 -0800 (PST) DKIM-Signature: v=1; a=rsa-sha256; c=relaxed/relaxed; d=iol.unh.edu; s=unh-iol; t=1762567912; x=1763172712; darn=dpdk.org; h=cc:to:from:subject:message-id:date:from:to:cc:subject:date :message-id:reply-to; bh=5+VHHUDHgut4bHR+ZoRXygR61mTZvCsGYn10tIj4F4Y=; b=NTJW4VvltQZ2AezqFyxac+zmJaD8z+mAPPv9uRYx6u3higyi7VEger50GDgkdR8aol N3/60se8ST9IQYdlF+Dc+OVe2/NrrT7r3d5a7uKtnxPKTbp+STJS2dddNxe1IcZPuMkw vqm8+DLia1sFfeWY9Ljaa7IT90AF1yZALwGEU= X-Google-DKIM-Signature: v=1; a=rsa-sha256; c=relaxed/relaxed; d=1e100.net; s=20230601; t=1762567912; x=1763172712; h=cc:to:from:subject:message-id:date:x-gm-gg:x-gm-message-state:from :to:cc:subject:date:message-id:reply-to; bh=5+VHHUDHgut4bHR+ZoRXygR61mTZvCsGYn10tIj4F4Y=; b=G2tkAYG4hCfwghOWmUe8aEubcS+OGC0LPSC7/L5VmWltlkJUdYl8pmOJpPsBppkpCN PFPPkREm+Yt3Pk0xxSVCCnGfQDGnnFmVrrvG3NELqRR3iMKPkWAZ5CZymzy6pOE2D39l DzLRp9roSAgVpqc2DvzLTpS1U2QASQXEmyRINLEbqjbpN+r5ZXro4eBYqUYHWeU1ea1Y ZR0sKXeZuyK69bdmLJcJy1DWukOf87Nc4aEXrsKTza5tGFKs8bqoumz3aESGUL3nWBg0 AJHUTW2YTotSA0wIA5FNwJHQkJgZqGJNFKYCPPP+b1bd7LKeMP6hHEFtXpjRFCt+hC9a emjA== X-Gm-Message-State: AOJu0YzILzqkewSnGTmSk8sbpJxegybVNtXgEuN7MsZVPNYDXxX/RHvM J1W5+vyE3XLEKgxqucbz68OKvHiGk6wOp8wewaBWZsPP60CgH7w+yU27wAsUjGGr/bkPCqEFDiq eaNY200CYhDGKAIDWc7jC4S7k8EeJPB6cgwB9i4zMf3Jn X-Gm-Gg: ASbGncsC2HJs9lpidePr6lWOKhtDCFMcpEcDkd4JqIgu43VfiUIC2ohM3DGgyEZ/ZlH nviqpWgXnfhZvWnM0Hh1veF5vFlQso4KhBHz5wC6UsAWniiVadGSxKSrlnT1Ht66y6zc1l7EJtw OItMikxzJNgm7eg9u2ynj1HNcY43xkhRg/abu86VrlLiq7eL4PaeZKpLN4V84Vu3WBP3rdMoiTn Wu7yIVC7/wXmwcTL9VjzGHa25lAxf5qbtkyMgKKXFex1HsiGylhbkqn5WKMX1dWPBlS8wapAgUG eOIw/QZ6Wchl4bYTDYwzfOFnBwNQ5QzzUlkuOLpDd3wVklnfg/mlyQuf+iwM1kvbGdtbWtUC7eR Bn/PLsgN0PNKbjxAv4WEqjM7UnN0Oxvs= X-Google-Smtp-Source: AGHT+IGzL+jsFKOQukOoXsHnH/xM/DpNFrh5hZDshAZdxwljmjSNDI3EaCJBgO6Qw+DX1k8W8jF/LI41XYUP X-Received: by 2002:a05:6602:1553:b0:948:74c8:6a6a with SMTP id ca18e2360f4ac-94895c1c6f3mr239757239f.9.1762567911825; Fri, 07 Nov 2025 18:11:51 -0800 (PST) Received: from postal.iol.unh.edu (postal.iol.unh.edu. [132.177.123.84]) by smtp-relay.gmail.com with ESMTPS id ca18e2360f4ac-94888b31bb1sm24779439f.6.2025.11.07.18.11.51 (version=TLS1_2 cipher=ECDHE-ECDSA-AES128-GCM-SHA256 bits=128/128); Fri, 07 Nov 2025 18:11:51 -0800 (PST) X-Relaying-Domain: iol.unh.edu Date: Fri, 07 Nov 2025 18:11:51 -0800 (PST) Message-ID: <690ea6e7.5d0a0220.2c710b.cf5cSMTPIN_ADDED_MISSING@mx.google.com> Received: from [172.21.0.2] (unknown [172.18.0.240]) by postal.iol.unh.edu (Postfix) with ESMTP id 34A2F6051830; Fri, 7 Nov 2025 21:11:51 -0500 (EST) Subject: |SUCCESS| [GIT MASTER] 87f7895e470c13e13efd6762d701139d0987294a From: dpdklab@iol.unh.edu To: Test Report Cc: dpdk-test-reports@iol.unh.edu Content-Type: text/plain X-BeenThere: test-report@dpdk.org X-Mailman-Version: 2.1.29 Precedence: list List-Id: automatic DPDK test reports List-Unsubscribe: , List-Archive: List-Post: List-Help: List-Subscribe: , Errors-To: test-report-bounces@dpdk.org _Testing PASS_ Branch: dpdk 87f7895e470c13e13efd6762d701139d0987294a --> testing pass Upstream job id: Generic-VM-Unit-Test-DPDK#32392 Test environment and result as below: +-------------------------------+----------------+ | Environment | dpdk_unit_test | +===============================+================+ | Arch Linux 20250613.0.365270 | PASS | +-------------------------------+----------------+ | CentOS Stream 9 | PASS | +-------------------------------+----------------+ | CentOS Stream 10 | PASS | +-------------------------------+----------------+ | Fedora Linux 40 | PASS | +-------------------------------+----------------+ | Debian GNU/Linux 12 | PASS | +-------------------------------+----------------+ | Fedora Linux 41 | PASS | +-------------------------------+----------------+ | Ubuntu 20.04 | PASS | +-------------------------------+----------------+ | Fedora Linux 42 | PASS | +-------------------------------+----------------+ | Windows Server 2022 | PASS | +-------------------------------+----------------+ | Red Hat Enterprise Linux 8.10 | PASS | +-------------------------------+----------------+ | Red Hat Enterprise Linux 9.5 | PASS | +-------------------------------+----------------+ | Ubuntu 24.04 | PASS | +-------------------------------+----------------+ | Ubuntu 22.04 | PASS | +-------------------------------+----------------+ Arch Linux 20250613.0.365270 Kernel: 5.15 Compiler: gcc gcc (GCC) 15.1.1 20250425 CentOS Stream 9 Kernel: 5.15 Compiler: gcc gcc (GCC) 11.5.0 20240719 (Red Hat 11.5.0-11) CentOS Stream 10 Kernel: 5.15 Compiler: gcc gcc (GCC) 14.2.1 20250110 (Red Hat 14.2.1-8) Fedora Linux 40 Kernel: 5.15 Compiler: gcc gcc (GCC) 14.2.1 20240912 (Red Hat 14.2.1-3) Debian GNU/Linux 12 Kernel: 5.15 Compiler: gcc gcc (Debian 12.2.0-14+deb12u1) 12.2.0 Fedora Linux 41 Kernel: 5.15 Compiler: gcc gcc (GCC) 14.3.1 20250523 (Red Hat 14.3.1-1) Ubuntu 20.04 Kernel: 5.15 Compiler: gcc gcc (Ubuntu 9.4.0-1ubuntu1~20.04.2) 9.4.0 Fedora Linux 42 Kernel: 5.15 Compiler: clang gcc (GCC) 15.2.1 20250808 (Red Hat 15.2.1-1) Windows Server 2022 Kernel: 10.0.20348.2031 Compiler: clang 15.0.7, gcc 14.1.0 (MinGW), and MSVC VS 19.39.33521 Red Hat Enterprise Linux 8.10 Kernel: 5.15 Compiler: gcc gcc (GCC) 8.5.0 20210514 (Red Hat 8.5.0-22) Red Hat Enterprise Linux 9.5 Kernel: 5.15 Compiler: gcc gcc (GCC) 11.5.0 20240719 (Red Hat 11.5.0-2) Ubuntu 24.04 Kernel: 5.15 Compiler: gcc gcc (Ubuntu 13.3.0-6ubuntu2~24.04) 13.3.0 Ubuntu 22.04 Kernel: 5.15 Compiler: gcc gcc (Ubuntu 11.4.0-1ubuntu1~22.04) 11.4.0 To view detailed results, visit: https://lab.dpdk.org/results/dashboard/tarballs/35505/ UNH-IOL DPDK Community Lab To manage your email subscriptions, visit: https://lab.dpdk.org/results/dashboard/preferences/subscriptions/