From mboxrd@z Thu Jan 1 00:00:00 1970 Return-Path: Received: from mails.dpdk.org (mails.dpdk.org [217.70.189.124]) by inbox.dpdk.org (Postfix) with ESMTP id 4905748AA6 for ; Sat, 8 Nov 2025 05:42:19 +0100 (CET) Received: from mails.dpdk.org (localhost [127.0.0.1]) by mails.dpdk.org (Postfix) with ESMTP id 23B6140261; Sat, 8 Nov 2025 05:42:19 +0100 (CET) Received: from mail-qv1-f97.google.com (mail-qv1-f97.google.com [209.85.219.97]) by mails.dpdk.org (Postfix) with ESMTP id 5C31440261 for ; Sat, 8 Nov 2025 05:42:17 +0100 (CET) Received: by mail-qv1-f97.google.com with SMTP id 6a1803df08f44-880570bdef8so14920316d6.3 for ; Fri, 07 Nov 2025 20:42:17 -0800 (PST) DKIM-Signature: v=1; a=rsa-sha256; c=relaxed/relaxed; d=iol.unh.edu; s=unh-iol; t=1762576936; x=1763181736; darn=dpdk.org; h=cc:to:from:subject:message-id:date:from:to:cc:subject:date :message-id:reply-to; bh=/75spDnDmtuwjbgagFbofDGpePD2dCsaSeCHNBaKyzI=; b=GT7TKwuY5ookMRKubHawct/49jDrASSKyZjVB9XsrLARBTWy7aXP5El1NYEh9ts+V1 qh9Wz13OfVDJCgJEnDfwAonTHp4Q/ED30fJOJ5SQgq1HOxxjtCBxyMjvW3bl8yPb/Dgg QxTtwK0+m23j9X8TJMUhODvnCsxggJJOSKUpQ= X-Google-DKIM-Signature: v=1; a=rsa-sha256; c=relaxed/relaxed; d=1e100.net; s=20230601; t=1762576936; x=1763181736; h=cc:to:from:subject:message-id:date:x-gm-gg:x-gm-message-state:from :to:cc:subject:date:message-id:reply-to; bh=/75spDnDmtuwjbgagFbofDGpePD2dCsaSeCHNBaKyzI=; b=uxVfjOAdB1c81+BejtEvkLkYQkAtaG7CxzXw9PZb0yYMG4unOdLeC+zibDpo/SiLX6 6PsbOzosWNZLg5wj2J05TfM7IH2ZSvmRGHKopbRLyUaqaTK7/0rn4LZqempiSW3NQ+Aj 8IrCmJzV1KZf+xzE4qdAKvCsP/mizfuAOs76MAKPXrMewWXb/xNXLcEd7K3JQD5mXoel qhVq5tbpcZp2yQp4tLj8rG56vyvk/t2cZfqeLwi5PvOc2IPdDNOBmt/ATSSAdkVpftIB +i+NNtdwGYm/Dp2ZIx1kxiU9X0VyEuK0hT2LmZCqSQ5NivGkBdQu3DGQh2HWh9512MNe mmWg== X-Gm-Message-State: AOJu0Yzl+1dgEFmXaPC3Bl+IQ0p/pkztS8g2S/mAmNXTn5iktkY8SGR6 hvS74YWuKLW1+QQWoohFkOIz5QGZh1ByfMEG+j1IgOmwq/k3yybsO43zu3G0ygfSmCyAu8dV3OM LHYvftR6fdTCIgmOietnSYCY5j1F1ZIHG5moQURmC4uA3 X-Gm-Gg: ASbGnctvZvkFDHXeKhmFYMwHLZedn1Uxk4Xf95xT6sdXAGN0UWvbFtNA/hAUXNjYYas aOwY/r6cyx4pYxnwlFxhgeZ23cImCuGrAvtBnlrr84akLZuYZp+n16OQPiZBuaS6mMVeqgvDtPp TqHlQfrzV67wh6B1/FOijLq3IElQVryagSd4mOD5i6gVmLuwwL/2gnxlUEMRJu1y7b6q6YJomkF QOuw1Y6XdDYka9KR587Wr0+E++wlYqqWTUcaZTpeGCKoInJM+XK7yjT2VofbcozFag5Pqhsvr4G BItSSb2OcNWwnCq0DRYd+x0n7k4u6n3ET3CVWLXuUTApy6pokWvDrpWVphXO1V6hdDOwRdi1yg+ MJcOaqNCDL8F7VN7t3wzqhRH1P739zOI= X-Google-Smtp-Source: AGHT+IFfroNMlexJ8VpqXTIQjcesJ7jzC2CFdBs0xWkm2saqvZs03p5wisJb1xJ0WxMt8Tc9LO8c7gNvTsOX X-Received: by 2002:a05:6214:491:b0:7e3:cc6e:3c89 with SMTP id 6a1803df08f44-882386ed58bmr21946206d6.56.1762576936572; Fri, 07 Nov 2025 20:42:16 -0800 (PST) Received: from postal.iol.unh.edu (postal.iol.unh.edu. [132.177.123.84]) by smtp-relay.gmail.com with ESMTPS id 6a1803df08f44-88238b21678sm1315356d6.18.2025.11.07.20.42.16 (version=TLS1_2 cipher=ECDHE-ECDSA-AES128-GCM-SHA256 bits=128/128); Fri, 07 Nov 2025 20:42:16 -0800 (PST) X-Relaying-Domain: iol.unh.edu Date: Fri, 07 Nov 2025 20:42:16 -0800 (PST) Message-ID: <690eca28.d40a0220.374019.7489SMTPIN_ADDED_MISSING@mx.google.com> Received: from [172.21.0.2] (unknown [172.18.0.240]) by postal.iol.unh.edu (Postfix) with ESMTP id 541066051830; Fri, 7 Nov 2025 23:42:16 -0500 (EST) Subject: |SUCCESS| [GIT MASTER] 87f7895e470c13e13efd6762d701139d0987294a From: dpdklab@iol.unh.edu To: Test Report Cc: dpdk-test-reports@iol.unh.edu Content-Type: text/plain X-BeenThere: test-report@dpdk.org X-Mailman-Version: 2.1.29 Precedence: list List-Id: automatic DPDK test reports List-Unsubscribe: , List-Archive: List-Post: List-Help: List-Subscribe: , Errors-To: test-report-bounces@dpdk.org _Testing PASS_ Branch: dpdk 87f7895e470c13e13efd6762d701139d0987294a --> testing pass Upstream job id: Generic-DPDK-Compile-Meson#442105 Test environment and result as below: +------------------------------+--------------------+ | Environment | dpdk_meson_compile | +==============================+====================+ | Red Hat Enterprise Linux 9.5 | PASS | +------------------------------+--------------------+ | Ubuntu 20.04 | PASS | +------------------------------+--------------------+ | Debian GNU/Linux 12 | PASS | +------------------------------+--------------------+ | Fedora Linux 42 | PASS | +------------------------------+--------------------+ | Ubuntu 22.04 | PASS | +------------------------------+--------------------+ | Ubuntu 24.04 | PASS | +------------------------------+--------------------+ | CentOS Stream 9 | PASS | +------------------------------+--------------------+ | CentOS Stream 10 | PASS | +------------------------------+--------------------+ Red Hat Enterprise Linux 9.5 Kernel: 5.4 Compiler: gcc gcc (GCC) 11.5.0 20240719 (Red Hat 11.5.0-2) Ubuntu 20.04 Kernel: 5.15 Compiler: aarch64-linux-gnu-gcc gcc (Ubuntu 9.4.0-1ubuntu1~20.04.2) 9.4.0 Debian GNU/Linux 12 Kernel: 5.4 Compiler: gcc gcc (Debian 12.2.0-14+deb12u1) 12.2.0 Fedora Linux 42 Kernel: 5.4 Compiler: gcc gcc (GCC) 15.2.1 20250808 (Red Hat 15.2.1-1) Ubuntu 22.04 Kernel: 5.4 Compiler: gcc gcc (Ubuntu 11.4.0-1ubuntu1~22.04) 11.4.0 Ubuntu 24.04 Kernel: 5.4 Compiler: gcc gcc (Ubuntu 13.3.0-6ubuntu2~24.04) 13.3.0 CentOS Stream 9 Kernel: 5.4 Compiler: gcc gcc (GCC) 11.5.0 20240719 (Red Hat 11.5.0-11) CentOS Stream 10 Kernel: 5.4 Compiler: gcc gcc (GCC) 14.2.1 20250110 (Red Hat 14.2.1-8) To view detailed results, visit: https://lab.dpdk.org/results/dashboard/tarballs/35505/ UNH-IOL DPDK Community Lab To manage your email subscriptions, visit: https://lab.dpdk.org/results/dashboard/preferences/subscriptions/