From mboxrd@z Thu Jan 1 00:00:00 1970 Return-Path: Received: from mails.dpdk.org (mails.dpdk.org [217.70.189.124]) by inbox.dpdk.org (Postfix) with ESMTP id 2472148AA8 for ; Sat, 8 Nov 2025 07:45:45 +0100 (CET) Received: from mails.dpdk.org (localhost [127.0.0.1]) by mails.dpdk.org (Postfix) with ESMTP id ECD0F400D5; Sat, 8 Nov 2025 07:45:44 +0100 (CET) Received: from mail-io1-f98.google.com (mail-io1-f98.google.com [209.85.166.98]) by mails.dpdk.org (Postfix) with ESMTP id 4A315400D5 for ; Sat, 8 Nov 2025 07:45:44 +0100 (CET) Received: by mail-io1-f98.google.com with SMTP id ca18e2360f4ac-9435969137aso116441939f.1 for ; Fri, 07 Nov 2025 22:45:44 -0800 (PST) DKIM-Signature: v=1; a=rsa-sha256; c=relaxed/relaxed; d=iol.unh.edu; s=unh-iol; t=1762584343; x=1763189143; darn=dpdk.org; h=references:in-reply-to:cc:to:from:subject:message-id:date:from:to :cc:subject:date:message-id:reply-to; bh=upyiDSNzJIGt7GW7iuB4OswdY+lIXcELUd/vornf/RU=; b=h0ps0amghhUqdjztsnQpcujNNGIMiyDlfcvq4U+r6UPAW6gZCnm+zSicvnLbaFn9+A rtq8Yx8ZVKzByFWqJ1ULJ6SqDFoQMiRvkMJ0MXhgFicsht2MTs9prvAwl5Ua1Gf/ilJG 8AuJet3qinacYTtiRZJW9ly3BUItlzMP8Q/Is= X-Google-DKIM-Signature: v=1; a=rsa-sha256; c=relaxed/relaxed; d=1e100.net; s=20230601; t=1762584343; x=1763189143; h=references:in-reply-to:cc:to:from:subject:message-id:date:x-gm-gg :x-gm-message-state:from:to:cc:subject:date:message-id:reply-to; bh=upyiDSNzJIGt7GW7iuB4OswdY+lIXcELUd/vornf/RU=; b=dfRUka71N4qa3uKoBHyzv2wty1HzO2yc5k1vwT+jbTt5csJ7oeZ0esPO7ivtlSZ9Ik 7oxvdlcHqW+kvBdEKvxgwiWeNB44N+YpBaYptaS4ETPTpcyZZKzJeFmMv6nHxPRi5qr7 4cA15beYh5yfYQ7PpFppiLc2ompjVxjycY7RSPqN+S5nzRxzFKUPtN3g/yLKfRQ6tS5h cjfM7yX7OH9StigLRihPdAJdHwXwLH8ZRakqt02YH1np8W1wEYi3Nj3aRGVIgoBfCxIh oj5qsgnpzxR17DT4wrBO6i7/J9qV/RjyGlEaV1z+BjRQbOTeSJn4xBR98zaec+LNu4fq VvWA== X-Gm-Message-State: AOJu0YxwA79K76hhj7wFh68Pj/FjomRIf5EM7bSZ6HOjC9fIp4Lf3ycA nmPNpEDRsKP61wf49bU0WwbT80u77Mm3as9sUsGDWFCGgeD9uWfYi+XU/k5pNQq72I3PS4bzYkj nNpEzPIzubOcpyYBPW+ya6AIOjcgL/i9sZDKevv0+4kuS X-Gm-Gg: ASbGncts5GTeXcu5ZtuhMyD5RbSR6Zd5M7R60caCgrWOu3c2oDYiDGgvntbehAE6dpe 1y2yqMWjo9+syQ5N8c/thEK/39Erb9FDULJBwaHdfVWsYgNoD+vd4gCe7HRjEz+EyvO1CcCRCSV cy7UIk1PFK/BBMrRG7/kDgwwebNzzy7HDADuwTLMO4yLZcuUmhWsEJZGaJ3fxNgrt48kn8v/VrE pgjT4OXcMHF0/BtOFRLkIQeYsq+wEtPlWQLpVGEInia0xZFEfmbrithfAUovDzCGG+RHpVWUC/D jme2TMpfWKfXCT8vKFgDx5xKYYgthUq6wc8NYK7ZcEPzXup3HIWSkpaSGQkETL7GS28lC3NcN/5 GpW6BeYhlL7W4X/2JnBzgTxRxbLAaDKM= X-Google-Smtp-Source: AGHT+IGRPn7v9VCaw0hXb5ioCJsNoXPIobt8wTwYDLNkoNJeHazJ/kbpe6T7iLHqFhl+WEhimWTzhK30owMV X-Received: by 2002:a05:6602:2b0f:b0:948:8aac:7ee0 with SMTP id ca18e2360f4ac-94895fdadfdmr242096439f.9.1762584343567; Fri, 07 Nov 2025 22:45:43 -0800 (PST) Received: from postal.iol.unh.edu (postal.iol.unh.edu. [132.177.123.84]) by smtp-relay.gmail.com with ESMTPS id 8926c6da1cb9f-5b746739a70sm733646173.2.2025.11.07.22.45.43 (version=TLS1_2 cipher=ECDHE-ECDSA-AES128-GCM-SHA256 bits=128/128); Fri, 07 Nov 2025 22:45:43 -0800 (PST) X-Relaying-Domain: iol.unh.edu Date: Fri, 07 Nov 2025 22:45:43 -0800 (PST) Message-ID: <690ee717.050a0220.19fbee.677eSMTPIN_ADDED_MISSING@mx.google.com> Received: from [172.21.0.2] (unknown [172.18.0.240]) by postal.iol.unh.edu (Postfix) with ESMTP id 2F4616051830; Sat, 8 Nov 2025 01:45:43 -0500 (EST) Subject: |SUCCESS| pw158572 [PATCH] [v2] mbuf: improve mbuf comments From: dpdklab@iol.unh.edu To: Test Report Cc: dpdk-test-reports@iol.unh.edu In-Reply-To: <20251107143629.612723-1-mb@smartsharesystems.com> References: <20251107143629.612723-1-mb@smartsharesystems.com> Content-Type: text/plain X-BeenThere: test-report@dpdk.org X-Mailman-Version: 2.1.29 Precedence: list List-Id: automatic DPDK test reports List-Unsubscribe: , List-Archive: List-Post: List-Help: List-Subscribe: , Errors-To: test-report-bounces@dpdk.org Test-Label: iol-unit-arm64-testing Test-Status: SUCCESS http://dpdk.org/patch/158572 _Testing PASS_ Submitter: Morten Brorup Date: Friday, November 07 2025 14:36:29 DPDK git baseline: Repo:dpdk Branch: master CommitID:87f7895e470c13e13efd6762d701139d0987294a 158572 --> testing pass Upstream job id: Generic-Unit-Test-DPDK#389952 Test environment and result as below: +------------------------------+--------------+----------------+------------------------------+---------------------------+ | Environment | lpm_autotest | dpdk_unit_test | cryptodev_sw_snow3g_autotest | cryptodev_sw_zuc_autotest | +==============================+==============+================+==============================+===========================+ | Ubuntu 20.04 | PASS | PASS | SKIPPED | SKIPPED | +------------------------------+--------------+----------------+------------------------------+---------------------------+ | CentOS Stream 9 | SKIPPED | PASS | SKIPPED | SKIPPED | +------------------------------+--------------+----------------+------------------------------+---------------------------+ | CentOS Stream 10 | SKIPPED | PASS | SKIPPED | SKIPPED | +------------------------------+--------------+----------------+------------------------------+---------------------------+ | Debian GNU/Linux 12 | SKIPPED | PASS | SKIPPED | SKIPPED | +------------------------------+--------------+----------------+------------------------------+---------------------------+ | Ubuntu 22.04 | SKIPPED | PASS | SKIPPED | SKIPPED | +------------------------------+--------------+----------------+------------------------------+---------------------------+ | Fedora Linux 40 | SKIPPED | PASS | SKIPPED | SKIPPED | +------------------------------+--------------+----------------+------------------------------+---------------------------+ | Fedora Linux 41 | SKIPPED | PASS | SKIPPED | SKIPPED | +------------------------------+--------------+----------------+------------------------------+---------------------------+ | Fedora Linux 42 | SKIPPED | PASS | SKIPPED | SKIPPED | +------------------------------+--------------+----------------+------------------------------+---------------------------+ | Ubuntu 24.04 | SKIPPED | PASS | SKIPPED | SKIPPED | +------------------------------+--------------+----------------+------------------------------+---------------------------+ | Red Hat Enterprise Linux 9.5 | SKIPPED | PASS | SKIPPED | SKIPPED | +------------------------------+--------------+----------------+------------------------------+---------------------------+ | Debian 12 (arm) | SKIPPED | SKIPPED | PASS | PASS | +------------------------------+--------------+----------------+------------------------------+---------------------------+ Ubuntu 20.04 Kernel: 5.4 Compiler: gcc gcc (Ubuntu 9.4.0-1ubuntu1~20.04.2) 9.4.0 CentOS Stream 9 Kernel: 5.4 Compiler: gcc gcc (GCC) 11.5.0 20240719 (Red Hat 11.5.0-11) CentOS Stream 10 Kernel: 5.4 Compiler: gcc gcc (GCC) 14.2.1 20250110 (Red Hat 14.2.1-8) Debian GNU/Linux 12 Kernel: 5.4 Compiler: gcc gcc (Debian 12.2.0-14+deb12u1) 12.2.0 Ubuntu 22.04 Kernel: 5.15 Compiler: gcc gcc (Ubuntu 11.4.0-1ubuntu1~22.04.2) 11.4.0 Fedora Linux 40 Kernel: 5.4 Compiler: clang gcc (GCC) 14.2.1 20240912 (Red Hat 14.2.1-3) Fedora Linux 41 Kernel: 5.4 Compiler: gcc gcc (GCC) 14.3.1 20250523 (Red Hat 14.3.1-1) Fedora Linux 42 Kernel: 5.4 Compiler: gcc gcc (GCC) 15.2.1 20250808 (Red Hat 15.2.1-1) Ubuntu 24.04 Kernel: 5.4 Compiler: gcc gcc (Ubuntu 13.3.0-6ubuntu2~24.04) 13.3.0 Red Hat Enterprise Linux 9.5 Kernel: 5.4 Compiler: gcc gcc (GCC) 11.5.0 20240719 (Red Hat 11.5.0-2) Debian 12 (arm) Kernel: Depends on container host Compiler: gcc (Debian 12.2.0-14) 12.2.0 To view detailed results, visit: https://lab.dpdk.org/results/dashboard/patchsets/34506/ UNH-IOL DPDK Community Lab To manage your email subscriptions, visit: https://lab.dpdk.org/results/dashboard/preferences/subscriptions/