From mboxrd@z Thu Jan 1 00:00:00 1970 Return-Path: Received: from mails.dpdk.org (mails.dpdk.org [217.70.189.124]) by inbox.dpdk.org (Postfix) with ESMTP id 659A448AA8 for ; Sat, 8 Nov 2025 07:48:52 +0100 (CET) Received: from mails.dpdk.org (localhost [127.0.0.1]) by mails.dpdk.org (Postfix) with ESMTP id 41F0E400D5; Sat, 8 Nov 2025 07:48:52 +0100 (CET) Received: from mail-qk1-f225.google.com (mail-qk1-f225.google.com [209.85.222.225]) by mails.dpdk.org (Postfix) with ESMTP id A0A64400D5 for ; Sat, 8 Nov 2025 07:48:51 +0100 (CET) Received: by mail-qk1-f225.google.com with SMTP id af79cd13be357-8b23b6d9f11so148208485a.3 for ; Fri, 07 Nov 2025 22:48:51 -0800 (PST) DKIM-Signature: v=1; a=rsa-sha256; c=relaxed/relaxed; d=iol.unh.edu; s=unh-iol; t=1762584531; x=1763189331; darn=dpdk.org; h=cc:to:from:subject:message-id:date:from:to:cc:subject:date :message-id:reply-to; bh=0ioC8AuCATEh750pfQUH7t8cQnK3pJvf4TgahQmNnMo=; b=OMf9dkTSGHONpEqrY+Bvol8Qu64zh/xENz3qEIYK2lxFiNhNUlqsbR9UGVvvYNuoiu 0EwlGnokw1lVljKq1CAmG9cjgOEf+GnjceMH9eB0aOPSqxvW8WQo+jvRuFPr+ZopJ1+m eQ5WYGBYIETiRixlxJHz7pkZpO34e7u4zlZjg= X-Google-DKIM-Signature: v=1; a=rsa-sha256; c=relaxed/relaxed; d=1e100.net; s=20230601; t=1762584531; x=1763189331; h=cc:to:from:subject:message-id:date:x-gm-gg:x-gm-message-state:from :to:cc:subject:date:message-id:reply-to; bh=0ioC8AuCATEh750pfQUH7t8cQnK3pJvf4TgahQmNnMo=; b=tuiHr5JzRknLM/na5VptR04n+38ZBDTMTdcZw9CYXHDRpQYWXYRlIPbWYHZLR6Bpj0 IFeQ335FmJYol7JPxiruxCIF2afshd63/FU/kkaowbFFZW0dRpN0rn9YCSbXKExDEVlQ 3Q1n6Mo+B6P9GPMJ8HIll33ga1ZIt/Ojr/EptQ4rDsDeAivT+d9Uhv8XwIgFUZoCMjyC kr1J1vbn4riXU7lAvOhjKsr5sQ34opqHoYGpqsNXNLn22kcfjXv36aoer8Hup+cUoebC VrmVuuazoIf+zQCCGjluELWxJ+XVTiQMZ9YiOHZCDkZe13+hrKFhn/X11hnCMcicccyn jjgA== X-Gm-Message-State: AOJu0YxotEsTXz10HfRUShVtqvnZQo1EgrNNN5AUImECReOHfTWdh7AA RYXvxuBfHkoU7lWyafEfzy4jEA2qlzwAb0c/e2awoINCd272My0eALGjdTmOGuN3nuYQ7HbgKb7 2cnvxhX/1G9udkXD5h36kg9xKpgt4pAVFPYMo X-Gm-Gg: ASbGnctv+itwnsa9S5wZ+TdmWMtkPtQjP436wydfuGuQ92Q0M3szWpdwfvQc47Lo3tq yUoeT6LtGmamlJogd5v7L0AujUwTkvkynPJYHxojzTaKvR4BB9jqW1ss9gNSokQ2kWoc87vmRc7 OkqpI8gQ3lJ8buacgHUnncDE+1OJ1G/9IwEQhSLLTRIi4fcCaV8bu1p+q+dt3alT8wRIhXBrDx7 GxsYn16/RMJZ5FLLI5WxiI4zBOTMfL9EJRiDO1WCi6ULW9Jfo7IovM8EY0hqxJ/fCCJ1/9t9Cg1 9uB0QMka77AP2kIdDhAa3ibuxNVF6OpIzlB/2ssvjp9V5YZ/jWfSqvMg9osWNnnDkdbt3L3aRBE HQxm/rzlQ6xWrirBmbccypruubG+3uD0= X-Google-Smtp-Source: AGHT+IFbwN2lB4Aaiz92e+YCfqJd5qSowo/unJhgjZFBUwVFaVgaQXmrL8BYz0GkUr8qjJAAym/ZwwS8TUSC X-Received: by 2002:a05:620a:118d:b0:8b2:3855:bd27 with SMTP id af79cd13be357-8b257f55ffbmr174029385a.57.1762584530900; Fri, 07 Nov 2025 22:48:50 -0800 (PST) Received: from postal.iol.unh.edu (postal.iol.unh.edu. [132.177.123.84]) by smtp-relay.gmail.com with ESMTPS id af79cd13be357-8b2354c0abfsm55732285a.1.2025.11.07.22.48.50 (version=TLS1_2 cipher=ECDHE-ECDSA-AES128-GCM-SHA256 bits=128/128); Fri, 07 Nov 2025 22:48:50 -0800 (PST) X-Relaying-Domain: iol.unh.edu Date: Fri, 07 Nov 2025 22:48:50 -0800 (PST) Message-ID: <690ee7d2.050a0220.24db01.d098SMTPIN_ADDED_MISSING@mx.google.com> Received: from [172.21.0.2] (unknown [172.18.0.240]) by postal.iol.unh.edu (Postfix) with ESMTP id 9714E6051830; Sat, 8 Nov 2025 01:48:50 -0500 (EST) Subject: |SUCCESS| [GIT MASTER] 0bd935abcb823f581ce53986986aa54eaf6f8140 From: dpdklab@iol.unh.edu To: Test Report Cc: dpdk-test-reports@iol.unh.edu, Xueming Li , Christian Ehrhardt , Kevin Traynor , Luca Boccassi Content-Type: text/plain X-BeenThere: test-report@dpdk.org X-Mailman-Version: 2.1.29 Precedence: list List-Id: automatic DPDK test reports List-Unsubscribe: , List-Archive: List-Post: List-Help: List-Subscribe: , Errors-To: test-report-bounces@dpdk.org _Testing PASS_ Branch: tags/v24.11 0bd935abcb823f581ce53986986aa54eaf6f8140 --> testing pass Upstream job id: Generic-DPDK-Compile-Meson#442173 Test environment and result as below: +-------------------------------+--------------------+------------------+-------------------+-------------------------+----------------------+ | Environment | dpdk_meson_compile | dpdk_compile_ovs | dpdk_msvc_compile | dpdk_llvm_clang_compile | dpdk_mingw64_compile | +===============================+====================+==================+===================+=========================+======================+ | CentOS Stream 10 | PASS | SKIPPED | SKIPPED | SKIPPED | SKIPPED | +-------------------------------+--------------------+------------------+-------------------+-------------------------+----------------------+ | Debian GNU/Linux 12 | PASS | SKIPPED | SKIPPED | SKIPPED | SKIPPED | +-------------------------------+--------------------+------------------+-------------------+-------------------------+----------------------+ | Fedora Linux 42 | PASS | PASS | SKIPPED | SKIPPED | SKIPPED | +-------------------------------+--------------------+------------------+-------------------+-------------------------+----------------------+ | openSUSE Leap 15.6 | PASS | SKIPPED | SKIPPED | SKIPPED | SKIPPED | +-------------------------------+--------------------+------------------+-------------------+-------------------------+----------------------+ | Red Hat Enterprise Linux 8.10 | PASS | SKIPPED | SKIPPED | SKIPPED | SKIPPED | +-------------------------------+--------------------+------------------+-------------------+-------------------------+----------------------+ | Red Hat Enterprise Linux 9.5 | PASS | SKIPPED | SKIPPED | SKIPPED | SKIPPED | +-------------------------------+--------------------+------------------+-------------------+-------------------------+----------------------+ | Ubuntu 20.04 | PASS | SKIPPED | SKIPPED | SKIPPED | SKIPPED | +-------------------------------+--------------------+------------------+-------------------+-------------------------+----------------------+ | Ubuntu 22.04 | PASS | SKIPPED | SKIPPED | SKIPPED | SKIPPED | +-------------------------------+--------------------+------------------+-------------------+-------------------------+----------------------+ | Ubuntu 24.04 | PASS | PASS | SKIPPED | SKIPPED | SKIPPED | +-------------------------------+--------------------+------------------+-------------------+-------------------------+----------------------+ | Alpine Linux 3.22.0 | PASS | SKIPPED | SKIPPED | SKIPPED | SKIPPED | +-------------------------------+--------------------+------------------+-------------------+-------------------------+----------------------+ | CentOS Stream 9 | PASS | SKIPPED | SKIPPED | SKIPPED | SKIPPED | +-------------------------------+--------------------+------------------+-------------------+-------------------------+----------------------+ | FreeBSD 14.2 | PASS | SKIPPED | SKIPPED | SKIPPED | SKIPPED | +-------------------------------+--------------------+------------------+-------------------+-------------------------+----------------------+ | Windows Server 2022 | SKIPPED | SKIPPED | PASS | PASS | PASS | +-------------------------------+--------------------+------------------+-------------------+-------------------------+----------------------+ CentOS Stream 10 Kernel: 5.15 Compiler: gcc gcc (GCC) 14.2.1 20250110 (Red Hat 14.2.1-8) Debian GNU/Linux 12 Kernel: 5.15 Compiler: gcc gcc (Debian 12.2.0-14+deb12u1) 12.2.0 Fedora Linux 42 Kernel: 5.15 Compiler: clang gcc (GCC) 15.2.1 20250808 (Red Hat 15.2.1-1) openSUSE Leap 15.6 Kernel: 5.15 Compiler: gcc gcc (SUSE Linux) 7.5.0 Red Hat Enterprise Linux 8.10 Kernel: 5.15 Compiler: gcc gcc (GCC) 8.5.0 20210514 (Red Hat 8.5.0-22) Red Hat Enterprise Linux 9.5 Kernel: 5.15 Compiler: gcc gcc (GCC) 11.5.0 20240719 (Red Hat 11.5.0-2) Ubuntu 20.04 Kernel: 5.15 Compiler: gcc gcc (Ubuntu 9.4.0-1ubuntu1~20.04.2) 9.4.0 Ubuntu 22.04 Kernel: 5.15 Compiler: gcc gcc (Ubuntu 11.4.0-1ubuntu1~22.04) 11.4.0 Ubuntu 24.04 Kernel: 5.15 Compiler: gcc gcc (Ubuntu 13.3.0-6ubuntu2~24.04) 13.3.0 Alpine Linux 3.22.0 Kernel: 5.15 Compiler: gcc gcc (Alpine 14.2.0) 14.2.0 CentOS Stream 9 Kernel: 5.15 Compiler: gcc gcc (GCC) 11.5.0 20240719 (Red Hat 11.5.0-11) FreeBSD 14.2 Kernel: 14.2-RELEASE Compiler: clang 18.1.6 Windows Server 2022 Kernel: 10.0.20348.2031 Compiler: clang 15.0.7, gcc 14.1.0 (MinGW), and MSVC VS 19.39.33521 To view detailed results, visit: https://lab.dpdk.org/results/dashboard/tarballs/35508/ UNH-IOL DPDK Community Lab To manage your email subscriptions, visit: https://lab.dpdk.org/results/dashboard/preferences/subscriptions/