From mboxrd@z Thu Jan 1 00:00:00 1970 Return-Path: Received: from mails.dpdk.org (mails.dpdk.org [217.70.189.124]) by inbox.dpdk.org (Postfix) with ESMTP id 1560648AAA for ; Sat, 8 Nov 2025 08:12:12 +0100 (CET) Received: from mails.dpdk.org (localhost [127.0.0.1]) by mails.dpdk.org (Postfix) with ESMTP id EDE15400D5; Sat, 8 Nov 2025 08:12:11 +0100 (CET) Received: from mail-pl1-f228.google.com (mail-pl1-f228.google.com [209.85.214.228]) by mails.dpdk.org (Postfix) with ESMTP id 899A0400D5 for ; Sat, 8 Nov 2025 08:12:10 +0100 (CET) Received: by mail-pl1-f228.google.com with SMTP id d9443c01a7336-297e239baecso4105405ad.1 for ; Fri, 07 Nov 2025 23:12:10 -0800 (PST) DKIM-Signature: v=1; a=rsa-sha256; c=relaxed/relaxed; d=iol.unh.edu; s=unh-iol; t=1762585929; x=1763190729; darn=dpdk.org; h=cc:to:from:subject:message-id:date:from:to:cc:subject:date :message-id:reply-to; bh=uHs6DWpB0ZUWQ/qOyClgPoSzzqmduIXsLis6MxfSq2w=; b=IxmFgtXv4pDCa2fsN+DnaVe4UsjCqIw+xFlaBAoBjgOMSEUwzLapAdBNcOdIoBoIlE oXnI4L3TCMV4qqvn236z5lKvdOhpyfAZKBkOsdou37fF9vVl1obpXshnvCtgtKoizzdp 4Fdqmenf3qk0tRyX0GoS5TSbL/MIQJG5TA+20= X-Google-DKIM-Signature: v=1; a=rsa-sha256; c=relaxed/relaxed; d=1e100.net; s=20230601; t=1762585929; x=1763190729; h=cc:to:from:subject:message-id:date:x-gm-gg:x-gm-message-state:from :to:cc:subject:date:message-id:reply-to; bh=uHs6DWpB0ZUWQ/qOyClgPoSzzqmduIXsLis6MxfSq2w=; b=BjQHhXBi+HuAR0ib9BCZP+zbJA4H3dooHJBJNfYaXA/h3jJSWbpn/Sz8MU56sa8Rq1 ilneEo1OuWuHlKXFAZmvf6sjZOZyue4YYdDd3QdIqAmDeyHlMqG4A7M2JJMbVHFMGDu7 NnlNrZ8/sh3zSTYtfNjC4yTYx+8WB1gg5DoAy24+Y++88xOh1a5yRbOFbq4cybdtg4Fx XlWI/JiIfq8j0tGv2WTOUv55rI/XGJ7qbROCryK/8Ja9BrtUICtgE8JgLK2bZUayyKlp TFWoaIVZ7g0bhFnATp1mwXfR4+kDDNzLmoQ9azlEKs5PKWdKfTPLoNZn7holtuHyXovi JzMA== X-Gm-Message-State: AOJu0YxMuYkxZ+NGoIDvD/EhLb+ugWavPxZPEbGqV/s+lzbo336d5RXb FwdmKuoNPqfjPQ0cm+cFuqYBPyHIPDTjemAlwiejPlaN0hTGTiOKwgnR7w1ZEThxBQUWe+3X2AV TAwYSZohPVe/sWOqnQ3hU1lqceA5VYq6VkYkW X-Gm-Gg: ASbGnctOaaNN5QLPhBIodV/oe+PXsD1OCeAa1I8MFOTAiodPTy/f1hRZLscsrJDViET xABTc15VbifHeyBRTQXR9n63dmA/WKCEXSqY6aTrImb4PWqW6yhVp3IXW4QE4EQg4MIs8gPRw9e oQVWfyek1IEc0c5weLm8AI34VQAgqm2rpMPip64bhfeFP8hquh6db06npWlZLY99j9tSkgWRczl 21IADj1ogG/Sbc7IirqKfyIVXOYUWbFfvY3Pv52oT7P7Za9K+FP14A5fRTPXl9Fkl+cNjT696mO h0dK+fNaLHKRS9i7ObQ7b/6lvWZ4sNa3pW4jPap7dX3WVTbbLZbnaI09HM8oiZlyfulPXCT+zJq fkFRttkLSDIB18WX9iAuOSr3LZ2mxMfk= X-Google-Smtp-Source: AGHT+IG57uU6ZkBxPCFReiig3QW+OANMaXMNvj2BukqWxwjkSnJSavX36VLDeHuRIO5c5AGJrK8s1OkjDKAO X-Received: by 2002:a17:903:3884:b0:294:8c99:f318 with SMTP id d9443c01a7336-297e1d76b60mr26841175ad.3.1762585929671; Fri, 07 Nov 2025 23:12:09 -0800 (PST) Received: from postal.iol.unh.edu (postal.iol.unh.edu. [132.177.123.84]) by smtp-relay.gmail.com with ESMTPS id d9443c01a7336-297ea618d56sm922045ad.19.2025.11.07.23.12.09 (version=TLS1_2 cipher=ECDHE-ECDSA-AES128-GCM-SHA256 bits=128/128); Fri, 07 Nov 2025 23:12:09 -0800 (PST) X-Relaying-Domain: iol.unh.edu Date: Fri, 07 Nov 2025 23:12:09 -0800 (PST) Message-ID: <690eed49.170a0220.37a9e9.4afcSMTPIN_ADDED_MISSING@mx.google.com> Received: from [172.21.0.3] (unknown [172.18.0.240]) by postal.iol.unh.edu (Postfix) with ESMTP id 811DB6051830; Sat, 8 Nov 2025 02:12:08 -0500 (EST) Subject: |SUCCESS| [GIT MASTER] 9784db2c5af1eecd02fc21132b59b5b266039b87 From: dpdklab@iol.unh.edu To: Test Report Cc: dpdk-test-reports@iol.unh.edu, Xueming Li , Christian Ehrhardt , Kevin Traynor , Luca Boccassi Content-Type: text/plain X-BeenThere: test-report@dpdk.org X-Mailman-Version: 2.1.29 Precedence: list List-Id: automatic DPDK test reports List-Unsubscribe: , List-Archive: List-Post: List-Help: List-Subscribe: , Errors-To: test-report-bounces@dpdk.org _Testing PASS_ Branch: tags/v22.11 9784db2c5af1eecd02fc21132b59b5b266039b87 --> testing pass Upstream job id: Generic-DPDK-Compile-Meson#442155 Test environment and result as below: +-------------------------------+--------------------+-------------------------+----------------------+ | Environment | dpdk_meson_compile | dpdk_llvm_clang_compile | dpdk_mingw64_compile | +===============================+====================+=========================+======================+ | Ubuntu 20.04 | PASS | SKIPPED | SKIPPED | +-------------------------------+--------------------+-------------------------+----------------------+ | FreeBSD 14.2 | PASS | SKIPPED | SKIPPED | +-------------------------------+--------------------+-------------------------+----------------------+ | Fedora Linux 42 | PASS | SKIPPED | SKIPPED | +-------------------------------+--------------------+-------------------------+----------------------+ | CentOS Stream 10 | PASS | SKIPPED | SKIPPED | +-------------------------------+--------------------+-------------------------+----------------------+ | Debian GNU/Linux 12 | PASS | SKIPPED | SKIPPED | +-------------------------------+--------------------+-------------------------+----------------------+ | openSUSE Leap 15.6 | PASS | SKIPPED | SKIPPED | +-------------------------------+--------------------+-------------------------+----------------------+ | Red Hat Enterprise Linux 9.5 | PASS | SKIPPED | SKIPPED | +-------------------------------+--------------------+-------------------------+----------------------+ | Red Hat Enterprise Linux 8.10 | PASS | SKIPPED | SKIPPED | +-------------------------------+--------------------+-------------------------+----------------------+ | Ubuntu 22.04 | PASS | SKIPPED | SKIPPED | +-------------------------------+--------------------+-------------------------+----------------------+ | Ubuntu 24.04 | PASS | SKIPPED | SKIPPED | +-------------------------------+--------------------+-------------------------+----------------------+ | CentOS Stream 9 | PASS | SKIPPED | SKIPPED | +-------------------------------+--------------------+-------------------------+----------------------+ | Windows Server 2022 | SKIPPED | PASS | PASS | +-------------------------------+--------------------+-------------------------+----------------------+ Ubuntu 20.04 Kernel: 4.19 Compiler: gcc gcc (Ubuntu 9.4.0-1ubuntu1~20.04.2) 9.4.0 FreeBSD 14.2 Kernel: 14.2-RELEASE Compiler: clang 18.1.6 Fedora Linux 42 Kernel: 5.15 Compiler: clang gcc (GCC) 15.2.1 20250808 (Red Hat 15.2.1-1) CentOS Stream 10 Kernel: 5.15 Compiler: gcc gcc (GCC) 14.2.1 20250110 (Red Hat 14.2.1-8) Debian GNU/Linux 12 Kernel: 5.15 Compiler: gcc gcc (Debian 12.2.0-14+deb12u1) 12.2.0 openSUSE Leap 15.6 Kernel: 5.15 Compiler: gcc gcc (SUSE Linux) 7.5.0 Red Hat Enterprise Linux 9.5 Kernel: 5.15 Compiler: gcc gcc (GCC) 11.5.0 20240719 (Red Hat 11.5.0-2) Red Hat Enterprise Linux 8.10 Kernel: 5.15 Compiler: gcc gcc (GCC) 8.5.0 20210514 (Red Hat 8.5.0-22) Ubuntu 22.04 Kernel: 5.15 Compiler: gcc gcc (Ubuntu 11.4.0-1ubuntu1~22.04) 11.4.0 Ubuntu 24.04 Kernel: 5.15 Compiler: gcc gcc (Ubuntu 13.3.0-6ubuntu2~24.04) 13.3.0 CentOS Stream 9 Kernel: 5.15 Compiler: gcc gcc (GCC) 11.5.0 20240719 (Red Hat 11.5.0-11) Windows Server 2022 Kernel: 10.0.20348.2031 Compiler: clang 15.0.7, gcc 14.1.0 (MinGW), and MSVC VS 19.39.33521 To view detailed results, visit: https://lab.dpdk.org/results/dashboard/tarballs/35506/ UNH-IOL DPDK Community Lab To manage your email subscriptions, visit: https://lab.dpdk.org/results/dashboard/preferences/subscriptions/