From mboxrd@z Thu Jan 1 00:00:00 1970 Return-Path: Received: from mails.dpdk.org (mails.dpdk.org [217.70.189.124]) by inbox.dpdk.org (Postfix) with ESMTP id 6287D48AAA for ; Sat, 8 Nov 2025 08:29:01 +0100 (CET) Received: from mails.dpdk.org (localhost [127.0.0.1]) by mails.dpdk.org (Postfix) with ESMTP id 5CD3F400D5; Sat, 8 Nov 2025 08:29:01 +0100 (CET) Received: from mail-io1-f97.google.com (mail-io1-f97.google.com [209.85.166.97]) by mails.dpdk.org (Postfix) with ESMTP id 59394400D5 for ; Sat, 8 Nov 2025 08:29:00 +0100 (CET) Received: by mail-io1-f97.google.com with SMTP id ca18e2360f4ac-9487e2b9622so115507339f.2 for ; Fri, 07 Nov 2025 23:29:00 -0800 (PST) DKIM-Signature: v=1; a=rsa-sha256; c=relaxed/relaxed; d=iol.unh.edu; s=unh-iol; t=1762586939; x=1763191739; darn=dpdk.org; h=cc:to:from:subject:message-id:date:from:to:cc:subject:date :message-id:reply-to; bh=40mSYALhy83UZ/VuWakf8VZunn3u7VUyUQuoGK1Tiv8=; b=dDyvyHUrqSs62+TehUtysNLcQFucuJ0hCNSob0PWkIT+Cu3gjtSkA3WW/NyCTnbkPJ fsulf2ep3fLftntpnJwXDOKKiUDBv7gANKIxLxkIA9dYYxCkVu4pflL4xybTP1CVCzI6 cw+3tKiBt7wGjNX+SrWLME+F4c/KN8XIDdbOY= X-Google-DKIM-Signature: v=1; a=rsa-sha256; c=relaxed/relaxed; d=1e100.net; s=20230601; t=1762586939; x=1763191739; h=cc:to:from:subject:message-id:date:x-gm-gg:x-gm-message-state:from :to:cc:subject:date:message-id:reply-to; bh=40mSYALhy83UZ/VuWakf8VZunn3u7VUyUQuoGK1Tiv8=; b=MNH3sw3CZ9R9WCsiiN6vDXTMX/hRG180KsQLyBmRHNRtnqxTdHrpS930WVbspCCc5E qs6YZc4FPOqyGVMKbfT2TKKlFVYB8P5KdeEAk0jsiX2yexM4GO3czP1Z7CQJo0cpQYkA BJYz5zwpfX0Wvk+It5YIQuIdbgHI8Af6Ju6YLGoEfJAkcFyYHOnx0cH1xvxEPLZN7IDX b89l2PxSeXYsfIo50k/fzISybEUSS9+qZHN25IVBdeKnRdLSM722jSQOtG0oGF45Sv6p wuFLkUdTRI8sYRmoAhhCv76J1GGaGHuBghCjcnjyEtstiwoSNc4vORW0G5kz9l4DHA3N 0TmA== X-Gm-Message-State: AOJu0YwM8paCG9a1cF6ZKeTsJ6FZIwtHYj6gPjfjvbARPNe23x8D6onf 3rBQ7KsSHI/Zw+9+5qbXAXP+7bT02DZr4eT284dh8MlPcsPIX+dMTTLITglFuB2NsPxzdKM6KKn Ajit/5DqryiQ2KREiUZSj/El4spdJ8IB4kb9T X-Gm-Gg: ASbGncs0GQXJAnz8gnyJ0TZftuaBooqUOEUIqNV8h+j0qOWavSisG0vsFuH6ri9+3Ph yFz5yTEcdfYHheOr8uszfcCvXWnj2oGCte9BbZECUTB+5ybFqeUjpS/Gf7yLAJkNoXzVprlRIv7 tWxV6tGd7ERCg3M/zhPj4G3CaL21GOvXAC4gk6hFxKbSgCmZVVus9C5oqDGDWFDbryaOWPeEiLv ZMWCdfXALBgBnMkSiYyI5rprt9qVmAyBTqrbQRLi29QNBdS+KUG3ZchkEy34od3A4C2BHSa3we9 u63jauHNl3A2DFCI6CZLh7Djeu1rWadK3OV7NEYF5j2rxhQa/sxgpdVcJMBUZroue1j+AJ19t0Q L0i65Y57ToxccDjkYZhCtKbkUx6qyIgQ= X-Google-Smtp-Source: AGHT+IGAAdgIgD/BvX6QcQICqo22bPMmLnGKqOQMbYR4tLXxVIiCyJYWQ+hs+61zcPmu0bGkfZoE8AxVJkct X-Received: by 2002:a05:6e02:440b:20b0:433:68e3:7679 with SMTP id e9e14a558f8ab-43368e37b6bmr16558425ab.8.1762586939635; Fri, 07 Nov 2025 23:28:59 -0800 (PST) Received: from postal.iol.unh.edu (postal.iol.unh.edu. [132.177.123.84]) by smtp-relay.gmail.com with ESMTPS id 8926c6da1cb9f-5b746739b36sm764850173.5.2025.11.07.23.28.59 (version=TLS1_2 cipher=ECDHE-ECDSA-AES128-GCM-SHA256 bits=128/128); Fri, 07 Nov 2025 23:28:59 -0800 (PST) X-Relaying-Domain: iol.unh.edu Date: Fri, 07 Nov 2025 23:28:59 -0800 (PST) Message-ID: <690ef13b.050a0220.32194d.7c41SMTPIN_ADDED_MISSING@mx.google.com> Received: from [172.21.0.2] (unknown [172.18.0.240]) by postal.iol.unh.edu (Postfix) with ESMTP id 355666051830; Sat, 8 Nov 2025 02:28:59 -0500 (EST) Subject: |SUCCESS| [GIT MASTER] 0bd935abcb823f581ce53986986aa54eaf6f8140 From: dpdklab@iol.unh.edu To: Test Report Cc: dpdk-test-reports@iol.unh.edu, Xueming Li , Christian Ehrhardt , Kevin Traynor , Luca Boccassi Content-Type: text/plain X-BeenThere: test-report@dpdk.org X-Mailman-Version: 2.1.29 Precedence: list List-Id: automatic DPDK test reports List-Unsubscribe: , List-Archive: List-Post: List-Help: List-Subscribe: , Errors-To: test-report-bounces@dpdk.org _Testing PASS_ Branch: tags/v24.11 0bd935abcb823f581ce53986986aa54eaf6f8140 --> testing pass Upstream job id: Generic-Unit-Test-DPDK#390147 Test environment and result as below: +-------------------------------+----------------+ | Environment | dpdk_unit_test | +===============================+================+ | CentOS Stream 10 | PASS | +-------------------------------+----------------+ | CentOS Stream 9 | PASS | +-------------------------------+----------------+ | Debian GNU/Linux 12 | PASS | +-------------------------------+----------------+ | Fedora Linux 40 | PASS | +-------------------------------+----------------+ | Fedora Linux 41 | PASS | +-------------------------------+----------------+ | Fedora Linux 42 | PASS | +-------------------------------+----------------+ | Red Hat Enterprise Linux 8.10 | PASS | +-------------------------------+----------------+ | Ubuntu 22.04 | PASS | +-------------------------------+----------------+ | Ubuntu 20.04 | PASS | +-------------------------------+----------------+ | Red Hat Enterprise Linux 9.5 | PASS | +-------------------------------+----------------+ | Ubuntu 24.04 | PASS | +-------------------------------+----------------+ | Windows Server 2022 | PASS | +-------------------------------+----------------+ CentOS Stream 10 Kernel: 5.15 Compiler: gcc gcc (GCC) 14.2.1 20250110 (Red Hat 14.2.1-8) CentOS Stream 9 Kernel: 5.15 Compiler: gcc gcc (GCC) 11.5.0 20240719 (Red Hat 11.5.0-11) Debian GNU/Linux 12 Kernel: 5.15 Compiler: gcc gcc (Debian 12.2.0-14+deb12u1) 12.2.0 Fedora Linux 40 Kernel: 5.15 Compiler: gcc gcc (GCC) 14.2.1 20240912 (Red Hat 14.2.1-3) Fedora Linux 41 Kernel: 5.15 Compiler: gcc gcc (GCC) 14.3.1 20250523 (Red Hat 14.3.1-1) Fedora Linux 42 Kernel: 5.15 Compiler: clang gcc (GCC) 15.2.1 20250808 (Red Hat 15.2.1-1) Red Hat Enterprise Linux 8.10 Kernel: 5.15 Compiler: gcc gcc (GCC) 8.5.0 20210514 (Red Hat 8.5.0-22) Ubuntu 22.04 Kernel: 5.15 Compiler: gcc gcc (Ubuntu 11.4.0-1ubuntu1~22.04) 11.4.0 Ubuntu 20.04 Kernel: 5.15 Compiler: gcc gcc (Ubuntu 9.4.0-1ubuntu1~20.04.2) 9.4.0 Red Hat Enterprise Linux 9.5 Kernel: 5.15 Compiler: gcc gcc (GCC) 11.5.0 20240719 (Red Hat 11.5.0-2) Ubuntu 24.04 Kernel: 5.15 Compiler: gcc gcc (Ubuntu 13.3.0-6ubuntu2~24.04) 13.3.0 Windows Server 2022 Kernel: 10.0.20348.2031 Compiler: clang 15.0.7, gcc 14.1.0 (MinGW), and MSVC VS 19.39.33521 To view detailed results, visit: https://lab.dpdk.org/results/dashboard/tarballs/35508/ UNH-IOL DPDK Community Lab To manage your email subscriptions, visit: https://lab.dpdk.org/results/dashboard/preferences/subscriptions/