From mboxrd@z Thu Jan 1 00:00:00 1970 Return-Path: Received: from mails.dpdk.org (mails.dpdk.org [217.70.189.124]) by inbox.dpdk.org (Postfix) with ESMTP id 8B0AA48AAA for ; Sat, 8 Nov 2025 08:41:17 +0100 (CET) Received: from mails.dpdk.org (localhost [127.0.0.1]) by mails.dpdk.org (Postfix) with ESMTP id 6C3EB400D5; Sat, 8 Nov 2025 08:41:17 +0100 (CET) Received: from mail-pl1-f227.google.com (mail-pl1-f227.google.com [209.85.214.227]) by mails.dpdk.org (Postfix) with ESMTP id B9627400D5 for ; Sat, 8 Nov 2025 08:41:16 +0100 (CET) Received: by mail-pl1-f227.google.com with SMTP id d9443c01a7336-29555b384acso13944405ad.1 for ; Fri, 07 Nov 2025 23:41:16 -0800 (PST) DKIM-Signature: v=1; a=rsa-sha256; c=relaxed/relaxed; d=iol.unh.edu; s=unh-iol; t=1762587676; x=1763192476; darn=dpdk.org; h=references:in-reply-to:cc:to:from:subject:message-id:date:from:to :cc:subject:date:message-id:reply-to; bh=etVoMAuLr86CoHbrhUyI4tVegdIC39HHJMHjFtwQ0/E=; b=Vv/w3KPIJedE8PqlWgbJAnTxzEBoqQmiPxxXekLvSctMT6EVGJVjh5cNg7frv6s1Sb GrhOtEUXMcBuKuMxUHZibVlruwM97BO7lMkLo9zOD+BMAEQvyCWTYtvIxzNoXz4Zan/Y 2OkdWjGVa613RRERP+3xkeRvNbud+5iLKuDIw= X-Google-DKIM-Signature: v=1; a=rsa-sha256; c=relaxed/relaxed; d=1e100.net; s=20230601; t=1762587676; x=1763192476; h=references:in-reply-to:cc:to:from:subject:message-id:date:x-gm-gg :x-gm-message-state:from:to:cc:subject:date:message-id:reply-to; bh=etVoMAuLr86CoHbrhUyI4tVegdIC39HHJMHjFtwQ0/E=; b=PtIKcEFhMhZYz89sTYxeAioP734fj6owSrKHO8Hz14WseWrLT+eFVoi70y56jdfc47 kEbEojMxxgAScAQOEKXilLPSkv0uOZQkHjCGI+y+lA7wswBM/47oMzMDPzL0ObPavh/u C17SC1hn54F1Stv0O8Wy3JDPXDQROwVb0e2FbQRZkCeux0Uuun4okmJ7Svs1e++2I/yv Q2cVq1uW+2TRMgWoBVcQuVwNFkuB8KE5QIEyHfIfVgkXaNOY7glYpi3DP1RIltCXyZ3B DpFbZ6r4ngXooyDMkWcKh/lZMm78MlESfUgfpSKixGtaJJKj+KELjysCDRe+xldTbJTK B3zg== X-Gm-Message-State: AOJu0Yzf/Iv09WmE6d4Visfb+az7hL4fI+Hv1KiGA3S6mZANCCdlEif4 XaoPVpszyhLUll9Cw9KDnShNwa4BShohOS0CmonzOo1+5vC02j2BnH98tRvuwlx9TtnVJJcCqO6 0y6Ef5kqr8gKFuE3ue+Hj+28yVj2GvKrCbGs8+BvAsmNi X-Gm-Gg: ASbGncsEr6M4d4ufvFQ2FclJ3sa4tE0jz6s2xhRkAWk2iK1bF/65816JGrZKXKk1IM2 u0OK2uOg+DjnOdfifFCkxbCgX2Ma8v5bzG47wC4PQrH/Pjy4Fn2ByJnUa81pBGfpDb6NeSojN63 +FlSnhcoxGggF6VY8duJv9NFN336PdY9mIt9oi/b/tUhfV3bfXJEaS0FOvQh8Eo44+3eQI6wTFk AdtlaUV2+ZtlVMOt7hOEhFv/vp0CxvYSUSSVUJvOknzXgZJN8/WoQl+n1NAnBQ4wYdIOixHygIt OkecMXEdZA9gLmSqMMbAmOuyPPmSg3OLUJCpdI3EtgxxQyQeIyXhhaKHVAHaaSEZNQCEz5ohBH6 mW6UMP0UepoHo8bzVCXDOflKHD8e9g2I= X-Google-Smtp-Source: AGHT+IHx741CCfiTx5u6S1IZqtIckhMNLQI12f8EWO9GUQfW+v2ZVsDYcd4RfpdKL4sNoPwEx1C9lVY/HgVm X-Received: by 2002:a17:902:daca:b0:295:6427:87e4 with SMTP id d9443c01a7336-297e56f6b25mr24669265ad.40.1762587675877; Fri, 07 Nov 2025 23:41:15 -0800 (PST) Received: from postal.iol.unh.edu (postal.iol.unh.edu. [132.177.123.84]) by smtp-relay.gmail.com with ESMTPS id d9443c01a7336-29651c8ab3dsm6641525ad.44.2025.11.07.23.41.15 (version=TLS1_2 cipher=ECDHE-ECDSA-AES128-GCM-SHA256 bits=128/128); Fri, 07 Nov 2025 23:41:15 -0800 (PST) X-Relaying-Domain: iol.unh.edu Date: Fri, 07 Nov 2025 23:41:15 -0800 (PST) Message-ID: <690ef41b.170a0220.3431d.3133SMTPIN_ADDED_MISSING@mx.google.com> Received: from [172.21.0.2] (unknown [172.18.0.240]) by postal.iol.unh.edu (Postfix) with ESMTP id D05316051830; Sat, 8 Nov 2025 02:41:14 -0500 (EST) Subject: |SUCCESS| pw158606 [PATCH] crypto/qat: fix CCM request descriptor ha From: dpdklab@iol.unh.edu To: Test Report Cc: dpdk-test-reports@iol.unh.edu, Akhil Goyal In-Reply-To: <20251107162308.2150642-1-emma.finn@intel.com> References: <20251107162308.2150642-1-emma.finn@intel.com> Content-Type: text/plain X-BeenThere: test-report@dpdk.org X-Mailman-Version: 2.1.29 Precedence: list List-Id: automatic DPDK test reports List-Unsubscribe: , List-Archive: List-Post: List-Help: List-Subscribe: , Errors-To: test-report-bounces@dpdk.org Test-Label: iol-unit-arm64-testing Test-Status: SUCCESS http://dpdk.org/patch/158606 _Testing PASS_ Submitter: Emma Finn Date: Friday, November 07 2025 16:23:08 DPDK git baseline: Repo:dpdk-next-crypto Branch: master CommitID:9cec61fe8175f6d0ce8067734d3f7e8b02afe697 158606 --> testing pass Upstream job id: Generic-Unit-Test-DPDK#389975 Test environment and result as below: +------------------------------+----------------+--------------+---------------------------+------------------------------+ | Environment | dpdk_unit_test | lpm_autotest | cryptodev_sw_zuc_autotest | cryptodev_sw_snow3g_autotest | +==============================+================+==============+===========================+==============================+ | CentOS Stream 9 | PASS | SKIPPED | SKIPPED | SKIPPED | +------------------------------+----------------+--------------+---------------------------+------------------------------+ | Debian GNU/Linux 12 | PASS | SKIPPED | SKIPPED | SKIPPED | +------------------------------+----------------+--------------+---------------------------+------------------------------+ | CentOS Stream 10 | PASS | SKIPPED | SKIPPED | SKIPPED | +------------------------------+----------------+--------------+---------------------------+------------------------------+ | Fedora Linux 40 | PASS | SKIPPED | SKIPPED | SKIPPED | +------------------------------+----------------+--------------+---------------------------+------------------------------+ | Fedora Linux 42 | PASS | SKIPPED | SKIPPED | SKIPPED | +------------------------------+----------------+--------------+---------------------------+------------------------------+ | Fedora Linux 41 | PASS | SKIPPED | SKIPPED | SKIPPED | +------------------------------+----------------+--------------+---------------------------+------------------------------+ | Ubuntu 22.04 | PASS | SKIPPED | SKIPPED | SKIPPED | +------------------------------+----------------+--------------+---------------------------+------------------------------+ | Ubuntu 20.04 | PASS | PASS | SKIPPED | SKIPPED | +------------------------------+----------------+--------------+---------------------------+------------------------------+ | Red Hat Enterprise Linux 9.5 | PASS | SKIPPED | SKIPPED | SKIPPED | +------------------------------+----------------+--------------+---------------------------+------------------------------+ | Ubuntu 24.04 | PASS | SKIPPED | SKIPPED | SKIPPED | +------------------------------+----------------+--------------+---------------------------+------------------------------+ | Debian 12 (arm) | SKIPPED | SKIPPED | PASS | PASS | +------------------------------+----------------+--------------+---------------------------+------------------------------+ CentOS Stream 9 Kernel: 5.4 Compiler: gcc gcc (GCC) 11.5.0 20240719 (Red Hat 11.5.0-11) Debian GNU/Linux 12 Kernel: 5.4 Compiler: gcc gcc (Debian 12.2.0-14+deb12u1) 12.2.0 CentOS Stream 10 Kernel: 5.4 Compiler: gcc gcc (GCC) 14.2.1 20250110 (Red Hat 14.2.1-8) Fedora Linux 40 Kernel: 5.4 Compiler: clang gcc (GCC) 14.2.1 20240912 (Red Hat 14.2.1-3) Fedora Linux 42 Kernel: 5.4 Compiler: gcc gcc (GCC) 15.2.1 20250808 (Red Hat 15.2.1-1) Fedora Linux 41 Kernel: 5.4 Compiler: gcc gcc (GCC) 14.3.1 20250523 (Red Hat 14.3.1-1) Ubuntu 22.04 Kernel: 5.4 Compiler: gcc gcc (Ubuntu 11.4.0-1ubuntu1~22.04) 11.4.0 Ubuntu 20.04 Kernel: 5.4 Compiler: gcc gcc (Ubuntu 9.4.0-1ubuntu1~20.04.2) 9.4.0 Red Hat Enterprise Linux 9.5 Kernel: 5.4 Compiler: gcc gcc (GCC) 11.5.0 20240719 (Red Hat 11.5.0-2) Ubuntu 24.04 Kernel: 5.4 Compiler: gcc gcc (Ubuntu 13.3.0-6ubuntu2~24.04) 13.3.0 Debian 12 (arm) Kernel: Depends on container host Compiler: gcc (Debian 12.2.0-14) 12.2.0 To view detailed results, visit: https://lab.dpdk.org/results/dashboard/patchsets/34509/ UNH-IOL DPDK Community Lab To manage your email subscriptions, visit: https://lab.dpdk.org/results/dashboard/preferences/subscriptions/