From mboxrd@z Thu Jan 1 00:00:00 1970 Return-Path: Received: from mails.dpdk.org (mails.dpdk.org [217.70.189.124]) by inbox.dpdk.org (Postfix) with ESMTP id 40EB748AAA for ; Sat, 8 Nov 2025 09:51:10 +0100 (CET) Received: from mails.dpdk.org (localhost [127.0.0.1]) by mails.dpdk.org (Postfix) with ESMTP id 1240F400D5; Sat, 8 Nov 2025 09:51:10 +0100 (CET) Received: from mail-pl1-f228.google.com (mail-pl1-f228.google.com [209.85.214.228]) by mails.dpdk.org (Postfix) with ESMTP id 1FDC7400D5 for ; Sat, 8 Nov 2025 09:51:08 +0100 (CET) Received: by mail-pl1-f228.google.com with SMTP id d9443c01a7336-297d4ac44fbso7581575ad.0 for ; Sat, 08 Nov 2025 00:51:08 -0800 (PST) DKIM-Signature: v=1; a=rsa-sha256; c=relaxed/relaxed; d=iol.unh.edu; s=unh-iol; t=1762591867; x=1763196667; darn=dpdk.org; h=references:in-reply-to:cc:to:from:subject:message-id:date:from:to :cc:subject:date:message-id:reply-to; bh=5a+2y/W9cYjTLxh4L7u+lNVuv7EIvns8TJTCKKQE6ok=; b=Ix1J2xBHESK7yA/XKYsi0SQfVFe7XQQPJwLPVBp04sKUoFuBRv3OTg7Xdkn64AZu25 L87zk63lmg4VeKDYKjIMDu2CyOv/28Fib6/gDsuYfzLs1rK0rZmunomPk3dhTQOlcMqH dmlVlnYcTafPa2MALFlbyx5ReJ51OYoShHwHA= X-Google-DKIM-Signature: v=1; a=rsa-sha256; c=relaxed/relaxed; d=1e100.net; s=20230601; t=1762591867; x=1763196667; h=references:in-reply-to:cc:to:from:subject:message-id:date:x-gm-gg :x-gm-message-state:from:to:cc:subject:date:message-id:reply-to; bh=5a+2y/W9cYjTLxh4L7u+lNVuv7EIvns8TJTCKKQE6ok=; b=jvywcfHbwwoCqsv8/rpgLkR807INW/YsMmosqcEsUvlzz+qsv0cojJ07Ll1C/o1+Da W+x8lgSBYfBUojFN7x5IhE3ueBa/90QaDH1YJUPK6S/n3uomuK9T2neQGR+pXJLKHtHg b3MCpskVFQ4pDDmZ5cjWMYV3mf+p1I0nO4deHBW2qpiY8PKClnyrPMo/JSgHelFUkATo SwIHV3CoDn6mlJGj4mRNOIEBv7nl7HYxJSLSWTAm7+lkGE5MsERRewkHa8Z6ngSA1ain NS2U4ww2Ohvdq70nzqm9Te5xxqG/mRWzT0I1byPb2xMqUyQsNH91gAL75oJkLc2f7uOl W4/w== X-Gm-Message-State: AOJu0Ywd+X0sVP6VhRy7cuC5JOL4BpjFexmKpAOLBFiPqMelUZLWdmYv W1rxQ9xp3ou3DSMJOIHxRKevHO17vkaEkSaQyBOU4KccgPWVnS/puzfqB8iwC0bcSfDTonRAhjC 80m1z17vTXFiL/7fsLhts0mWQxN0wOpq/i7NuXzjnlLqPjQNmm0Aay4OZA2nL X-Gm-Gg: ASbGncsTrEYXEp7xVMdNJHm/c/veHID/zUBnfDogoPcacX4ufbJFBDkDUGiok55tQAP kUybqE4Gx0Q1h19+QOyoMUzdCZ4hQ6F57o13+Nmpre7F+p+YQVmHLEyJRWYftOse6JHrtC+05SA N/5VxvWpNgvu7DrSW5H7BmwMQTRIc2f7ZhcXC/8/Lvzw0c2eRw4pY4RQnuiXbTsAvZNv5ue8Ff6 vEFG6WoOYj0cBa2zYcgCxgG1e5mH0npqasHPNUg7Co5T4XanUP2LUkY4ioWLywWdZViN2cn2o9p Gm/QVAXYj63tW0EdKk6LZ8v39/fnofwt61EqGfQAtT/fZq8mhFFirl01Q9Vu5rsvhUV4HtdfN+Y +egbWaUbM X-Google-Smtp-Source: AGHT+IGGNG8jV47sgtplyzwfPack5Gt+4XMdVzSSTV6pPaLIT6ZmNQtKMUg1IpDkx5h8R46oJw2h47udp0Dq X-Received: by 2002:a17:903:22d1:b0:297:f39d:90c5 with SMTP id d9443c01a7336-297f39d9517mr218265ad.24.1762591867131; Sat, 08 Nov 2025 00:51:07 -0800 (PST) Received: from postal.iol.unh.edu (postal.iol.unh.edu. [2606:4100:3880:1234::84]) by smtp-relay.gmail.com with ESMTPS id d9443c01a7336-29651c6a5cbsm7691145ad.33.2025.11.08.00.51.07 (version=TLS1_2 cipher=ECDHE-ECDSA-AES128-GCM-SHA256 bits=128/128); Sat, 08 Nov 2025 00:51:07 -0800 (PST) X-Relaying-Domain: iol.unh.edu Date: Sat, 08 Nov 2025 00:51:07 -0800 (PST) Message-ID: <690f047b.170a0220.107448.8758SMTPIN_ADDED_MISSING@mx.google.com> Received: from [172.21.0.2] (unknown [172.18.0.240]) by postal.iol.unh.edu (Postfix) with ESMTP id 816A16051830; Sat, 8 Nov 2025 03:51:06 -0500 (EST) Subject: |SUCCESS| pw158612 [PATCH] [v2,1/1] net/e1000: use device timestamp From: dpdklab@iol.unh.edu To: Test Report Cc: dpdk-test-reports@iol.unh.edu, Bruce Richardson In-Reply-To: <20251108080613.123969-1-yoong.siang.song@intel.com> References: <20251108080613.123969-1-yoong.siang.song@intel.com> Content-Type: text/plain X-BeenThere: test-report@dpdk.org X-Mailman-Version: 2.1.29 Precedence: list List-Id: automatic DPDK test reports List-Unsubscribe: , List-Archive: List-Post: List-Help: List-Subscribe: , Errors-To: test-report-bounces@dpdk.org Test-Label: iol-compile-amd64-testing Test-Status: SUCCESS http://dpdk.org/patch/158612 _Testing PASS_ Submitter: Song Yoong Siang Date: Saturday, November 08 2025 08:06:13 DPDK git baseline: Repo:dpdk-next-net-intel Branch: master CommitID:1655dc989bc95fa85fc76d32912d2e46c0851148 158612 --> testing pass Upstream job id: Generic-DPDK-Compile-Meson#442196 Test environment and result as below: +-------------------------------+--------------------+------------------+-------------------------+-------------------+----------------------+ | Environment | dpdk_meson_compile | dpdk_compile_ovs | dpdk_llvm_clang_compile | dpdk_msvc_compile | dpdk_mingw64_compile | +===============================+====================+==================+=========================+===================+======================+ | CentOS Stream 9 | PASS | SKIPPED | SKIPPED | SKIPPED | SKIPPED | +-------------------------------+--------------------+------------------+-------------------------+-------------------+----------------------+ | Debian GNU/Linux 12 | PASS | SKIPPED | SKIPPED | SKIPPED | SKIPPED | +-------------------------------+--------------------+------------------+-------------------------+-------------------+----------------------+ | Ubuntu 20.04 | PASS | SKIPPED | SKIPPED | SKIPPED | SKIPPED | +-------------------------------+--------------------+------------------+-------------------------+-------------------+----------------------+ | Fedora Linux 42 | PASS | PASS | SKIPPED | SKIPPED | SKIPPED | +-------------------------------+--------------------+------------------+-------------------------+-------------------+----------------------+ | CentOS Stream 10 | PASS | SKIPPED | SKIPPED | SKIPPED | SKIPPED | +-------------------------------+--------------------+------------------+-------------------------+-------------------+----------------------+ | FreeBSD 14.2 | PASS | SKIPPED | SKIPPED | SKIPPED | SKIPPED | +-------------------------------+--------------------+------------------+-------------------------+-------------------+----------------------+ | openSUSE Leap 15.6 | PASS | SKIPPED | SKIPPED | SKIPPED | SKIPPED | +-------------------------------+--------------------+------------------+-------------------------+-------------------+----------------------+ | Red Hat Enterprise Linux 8.10 | PASS | SKIPPED | SKIPPED | SKIPPED | SKIPPED | +-------------------------------+--------------------+------------------+-------------------------+-------------------+----------------------+ | Red Hat Enterprise Linux 9.5 | PASS | SKIPPED | SKIPPED | SKIPPED | SKIPPED | +-------------------------------+--------------------+------------------+-------------------------+-------------------+----------------------+ | Ubuntu 22.04 | PASS | SKIPPED | SKIPPED | SKIPPED | SKIPPED | +-------------------------------+--------------------+------------------+-------------------------+-------------------+----------------------+ | Ubuntu 24.04 | PASS | PASS | SKIPPED | SKIPPED | SKIPPED | +-------------------------------+--------------------+------------------+-------------------------+-------------------+----------------------+ | Alpine Linux 3.22.0 | PASS | SKIPPED | SKIPPED | SKIPPED | SKIPPED | +-------------------------------+--------------------+------------------+-------------------------+-------------------+----------------------+ | Windows Server 2022 | SKIPPED | SKIPPED | PASS | PASS | PASS | +-------------------------------+--------------------+------------------+-------------------------+-------------------+----------------------+ CentOS Stream 9 Kernel: 5.15 Compiler: gcc gcc (GCC) 11.5.0 20240719 (Red Hat 11.5.0-11) Debian GNU/Linux 12 Kernel: 5.15 Compiler: gcc gcc (Debian 12.2.0-14+deb12u1) 12.2.0 Ubuntu 20.04 Kernel: 4.19 Compiler: gcc gcc (Ubuntu 9.4.0-1ubuntu1~20.04.2) 9.4.0 Fedora Linux 42 Kernel: 5.15 Compiler: clang gcc (GCC) 15.2.1 20250808 (Red Hat 15.2.1-1) CentOS Stream 10 Kernel: 5.15 Compiler: gcc gcc (GCC) 14.2.1 20250110 (Red Hat 14.2.1-8) FreeBSD 14.2 Kernel: 14.2-RELEASE Compiler: clang 18.1.6 openSUSE Leap 15.6 Kernel: 5.15 Compiler: gcc gcc (SUSE Linux) 7.5.0 Red Hat Enterprise Linux 8.10 Kernel: 5.15 Compiler: gcc gcc (GCC) 8.5.0 20210514 (Red Hat 8.5.0-22) Red Hat Enterprise Linux 9.5 Kernel: 5.15 Compiler: gcc gcc (GCC) 11.5.0 20240719 (Red Hat 11.5.0-2) Ubuntu 22.04 Kernel: 5.15 Compiler: gcc gcc (Ubuntu 11.4.0-1ubuntu1~22.04) 11.4.0 Ubuntu 24.04 Kernel: 5.15 Compiler: gcc gcc (Ubuntu 13.3.0-6ubuntu2~24.04) 13.3.0 Alpine Linux 3.22.0 Kernel: 5.15 Compiler: gcc gcc (Alpine 14.2.0) 14.2.0 Windows Server 2022 Kernel: 10.0.20348.2031 Compiler: clang 15.0.7, gcc 14.1.0 (MinGW), and MSVC VS 19.39.33521 To view detailed results, visit: https://lab.dpdk.org/results/dashboard/patchsets/34512/ UNH-IOL DPDK Community Lab To manage your email subscriptions, visit: https://lab.dpdk.org/results/dashboard/preferences/subscriptions/