From mboxrd@z Thu Jan 1 00:00:00 1970 Return-Path: Received: from mails.dpdk.org (mails.dpdk.org [217.70.189.124]) by inbox.dpdk.org (Postfix) with ESMTP id 88FCA46E24 for ; Sat, 8 Nov 2025 10:32:38 +0100 (CET) Received: from mails.dpdk.org (localhost [127.0.0.1]) by mails.dpdk.org (Postfix) with ESMTP id 67798400D5; Sat, 8 Nov 2025 10:32:38 +0100 (CET) Received: from mail-pl1-f226.google.com (mail-pl1-f226.google.com [209.85.214.226]) by mails.dpdk.org (Postfix) with ESMTP id 1E925400D5 for ; Sat, 8 Nov 2025 10:32:37 +0100 (CET) Received: by mail-pl1-f226.google.com with SMTP id d9443c01a7336-294fe7c2e69so16415675ad.0 for ; Sat, 08 Nov 2025 01:32:37 -0800 (PST) DKIM-Signature: v=1; a=rsa-sha256; c=relaxed/relaxed; d=iol.unh.edu; s=unh-iol; t=1762594356; x=1763199156; darn=dpdk.org; h=cc:to:from:subject:message-id:date:from:to:cc:subject:date :message-id:reply-to; bh=Redeg4epqK/7FuG8EhPrIuaWhj3dNA8HxAEZSpYk6F8=; b=RxQvnXz3XWF8IbnJY2dW3FuasD6T2qyX+YNDCKWvzJplhOLrdLsK6W/Nw1evzIwX5Y 67tXBqy7nc+jYeB0z/BRS6qqfYfgAprDkhSesZpdPewfrtc4KJKjVALgGbfTR8dX0N/q 1zO0cq+cbSiGAO+LFqtTePSZwZ5cnMWn5/2Xw= X-Google-DKIM-Signature: v=1; a=rsa-sha256; c=relaxed/relaxed; d=1e100.net; s=20230601; t=1762594356; x=1763199156; h=cc:to:from:subject:message-id:date:x-gm-gg:x-gm-message-state:from :to:cc:subject:date:message-id:reply-to; bh=Redeg4epqK/7FuG8EhPrIuaWhj3dNA8HxAEZSpYk6F8=; b=gFsZ42EFbpGFNT3fdI6H9fNTeKYJ31IEdrFs14kC4+leeV+48y6uTACtA6Aaj5ay6p 5DKyNSHh0LbLotd3oA6Q6DP098pLjZNsGvnH0UeMLwkSqbhBuac3H+otVamIMmmxO7uF ZMGhFRTiR2Z2sbTk/eTK7YDNKxiqjmOigfaxDgf/RoJbUHCM8KeF6nZhSnbYO/5KjDZm 0cYcn9nc4M7etrLqyggzRq8tDCPAzgassKP8hjBVPPlmDZtBj4Gtc5QBH+tx6vtTsB3h +KKBbPCYAywWDzMPwn33+cX7a/KFsCsIeGWi9ia83JpzdEvXz2zguIWKp+ohXhIF3HjE iMkg== X-Gm-Message-State: AOJu0YySdE1EVHjmVyUG4njematJtKlUxV7Mc1E6m9ZwiHt3VVWommk1 mixWcyVDhdpTZFZCXBFWP6HM1JVuvr5uFlkGdQU9C3US9Gb5A6wL//PL1K/ORX61XX0c7nyVu7N bNa5Ls0FK6lvlxD3/wWONQZjEYF36mCgeWdQGtatmgC2oy8rAXHHw X-Gm-Gg: ASbGnctTRacpFjFosSUeU5Czmqyi63z22AbW4AYxH7UA4Csz/3PXGgVm3wvHcWzS7Eb wMlWrnG3A6nOKX8S3Rd2xgeBLR7E3D7IZM3kfgAQYBfD369ywuNePfYFr+1JbqEyA/PwxDbEBQB JpArVa6bAKR+/MC7R25wyhkYEdN64p+GuCOLZSCzohEzStCNNJ3pK+kFMSK6lxE4kINjV7t/c9f LR4CGufIbDed72RD9K/Q+GoX1H7QcGRYb9cM+ihnzPUM8DR/HtVrky/QK0NA8WSi/p9A8Z6JMA5 CBM6WIJqkzMd0UbneelQN+PzvKSFe6PZu1t+sifMwrOVSdEyUnD0/PmSgi1AlLzqX7AFf72fjly aN68oDw0z X-Google-Smtp-Source: AGHT+IEr4ZEb/V+l71u+N/3tmJmcunEFTEDKSL+F61yqbNgEs/AsaZEpWSX3f0dl6cQPuiK+1lASEIcuSFsP X-Received: by 2002:a17:902:d4cd:b0:295:5d0b:e119 with SMTP id d9443c01a7336-297e56719a1mr28935365ad.26.1762594356137; Sat, 08 Nov 2025 01:32:36 -0800 (PST) Received: from postal.iol.unh.edu (postal.iol.unh.edu. [2606:4100:3880:1234::84]) by smtp-relay.gmail.com with ESMTPS id d9443c01a7336-297d3675558sm3135945ad.18.2025.11.08.01.32.36 (version=TLS1_2 cipher=ECDHE-ECDSA-AES128-GCM-SHA256 bits=128/128); Sat, 08 Nov 2025 01:32:36 -0800 (PST) X-Relaying-Domain: iol.unh.edu Date: Sat, 08 Nov 2025 01:32:36 -0800 (PST) Message-ID: <690f0e34.170a0220.a6e9e.01abSMTPIN_ADDED_MISSING@mx.google.com> Received: from [172.21.0.2] (unknown [172.18.0.240]) by postal.iol.unh.edu (Postfix) with ESMTP id 854EA6051830; Sat, 8 Nov 2025 04:32:35 -0500 (EST) Subject: |SUCCESS| [GIT MASTER] 9784db2c5af1eecd02fc21132b59b5b266039b87 From: dpdklab@iol.unh.edu To: Test Report Cc: dpdk-test-reports@iol.unh.edu, Xueming Li , Christian Ehrhardt , Kevin Traynor , Luca Boccassi Content-Type: text/plain X-BeenThere: test-report@dpdk.org X-Mailman-Version: 2.1.29 Precedence: list List-Id: automatic DPDK test reports List-Unsubscribe: , List-Archive: List-Post: List-Help: List-Subscribe: , Errors-To: test-report-bounces@dpdk.org _Testing PASS_ Branch: tags/v22.11 9784db2c5af1eecd02fc21132b59b5b266039b87 --> testing pass Upstream job id: Generic-DPDK-Compile-Meson#442157 Test environment and result as below: +------------------------------+--------------------+ | Environment | dpdk_meson_compile | +==============================+====================+ | Red Hat Enterprise Linux 9.5 | PASS | +------------------------------+--------------------+ | Ubuntu 20.04 | PASS | +------------------------------+--------------------+ | Debian GNU/Linux 12 | PASS | +------------------------------+--------------------+ | Fedora Linux 42 | PASS | +------------------------------+--------------------+ | Ubuntu 22.04 | PASS | +------------------------------+--------------------+ | Ubuntu 24.04 | PASS | +------------------------------+--------------------+ | CentOS Stream 10 | PASS | +------------------------------+--------------------+ | CentOS Stream 9 | PASS | +------------------------------+--------------------+ Red Hat Enterprise Linux 9.5 Kernel: 5.4 Compiler: gcc gcc (GCC) 11.5.0 20240719 (Red Hat 11.5.0-2) Ubuntu 20.04 Kernel: 5.15 Compiler: aarch64-linux-gnu-gcc gcc (Ubuntu 9.4.0-1ubuntu1~20.04.2) 9.4.0 Debian GNU/Linux 12 Kernel: 5.4 Compiler: gcc gcc (Debian 12.2.0-14+deb12u1) 12.2.0 Fedora Linux 42 Kernel: 5.4 Compiler: gcc gcc (GCC) 15.2.1 20250808 (Red Hat 15.2.1-1) Ubuntu 22.04 Kernel: 5.4 Compiler: gcc gcc (Ubuntu 11.4.0-1ubuntu1~22.04) 11.4.0 Ubuntu 24.04 Kernel: 5.4 Compiler: gcc gcc (Ubuntu 13.3.0-6ubuntu2~24.04) 13.3.0 CentOS Stream 10 Kernel: 5.4 Compiler: gcc gcc (GCC) 14.2.1 20250110 (Red Hat 14.2.1-8) CentOS Stream 9 Kernel: 5.4 Compiler: gcc gcc (GCC) 11.5.0 20240719 (Red Hat 11.5.0-11) To view detailed results, visit: https://lab.dpdk.org/results/dashboard/tarballs/35506/ UNH-IOL DPDK Community Lab To manage your email subscriptions, visit: https://lab.dpdk.org/results/dashboard/preferences/subscriptions/