From mboxrd@z Thu Jan 1 00:00:00 1970 Return-Path: Received: from mails.dpdk.org (mails.dpdk.org [217.70.189.124]) by inbox.dpdk.org (Postfix) with ESMTP id C902448AAD for ; Sat, 8 Nov 2025 12:17:22 +0100 (CET) Received: from mails.dpdk.org (localhost [127.0.0.1]) by mails.dpdk.org (Postfix) with ESMTP id B286E400D5; Sat, 8 Nov 2025 12:17:22 +0100 (CET) Received: from mail-oa1-f100.google.com (mail-oa1-f100.google.com [209.85.160.100]) by mails.dpdk.org (Postfix) with ESMTP id 5A78F400D5 for ; Sat, 8 Nov 2025 12:17:21 +0100 (CET) Received: by mail-oa1-f100.google.com with SMTP id 586e51a60fabf-3e3dac349easo993347fac.2 for ; Sat, 08 Nov 2025 03:17:21 -0800 (PST) DKIM-Signature: v=1; a=rsa-sha256; c=relaxed/relaxed; d=iol.unh.edu; s=unh-iol; t=1762600640; x=1763205440; darn=dpdk.org; h=cc:to:from:subject:message-id:date:from:to:cc:subject:date :message-id:reply-to; bh=WJYCwd2BbX4Wy1OndHPDIn/Nj4RzuidahlF/8BrKgMc=; b=eidBt9kcVP5IE9+s4q17aKshHz2IMRd7jFYRmCpeHlj023HzhlCTdQaw7hCYk/x5FT pg8kRL6DZ9tt2mvjRY/Tnap4gIc28wB37ZFzgxQXguhdwv8rqG8+1wH+gIt9qddUa4Da NnY91tySnx7sMczLiahmAAbFOL4iL7D/rJVZY= X-Google-DKIM-Signature: v=1; a=rsa-sha256; c=relaxed/relaxed; d=1e100.net; s=20230601; t=1762600640; x=1763205440; h=cc:to:from:subject:message-id:date:x-gm-gg:x-gm-message-state:from :to:cc:subject:date:message-id:reply-to; bh=WJYCwd2BbX4Wy1OndHPDIn/Nj4RzuidahlF/8BrKgMc=; b=YKARpXyj9seR6u1ue7q0SeR89usRsv/eHxKQDUOfAv9so336ZaPub32LWj35yF8hrO 7iSWCaxJdqotbiPVPveLytbV6XIDz16018Rvv3ipHyYitdMuNKAaphyMaxdGnZmhzwX6 lkTygvmE8ong3yxbRmoJ7SjJ1Z4y+CL6ouDOM0tuVK8cOv+jkO30X1mwAs9k1K87/yya EJ7ziVkE6/PHH1SNHrcNllwdcl28Zy0U+9r6CGUI7ifDG/cU7xbX9g06YyPdzpGaqKHc 9MP/FeEUngfhjZV94EIUxmALqJIaQBqpiC9SMiUOgnBxMGtp3mhKv15rbQLqe9dhzWFj CtTw== X-Gm-Message-State: AOJu0Yzx8MGRS6ifaHQF1DsNJ+Z3pk7uZzHbCiQq9PhA3rr6nWF5w86u KDyLtedWH8JacCSP/VFFd+fX9FJBR2Da/vzn72YwKAQOQu/dNa8LBVvm1f3tzvreTX47/cUX1At VSIrRDJhCCh7drW/o38uiNzMaomgKcNcVzxwz X-Gm-Gg: ASbGncs1jWArg5MssSW15zk+YEBtqiwEeOyq1ZsM5LR6CrPWVmRizUiyZcGrXpJdFUS fGYqq/hkAVe8XFm5xDT6SJANhRE2UnpZuVgS4XSFPuhuZ59MAYZeXnPsqfGkRfTWojuxB8FQ4EB GXUojZjQVfgxqcL4L8kOYd9XIQ+AMLppbjWLzv+xdu3PRExAbVtuKbmVSbj4UlO89qV0X/tUg3f msDCAa+qrBQWfoZqYIT9T4D9xjCyB7bpR/xBSRP/b1VYDiMyGt4eWLD0Ec26o3b82Kd6QzU2ZYj DnSCnPUahKSO2K8zr02aY2ITtfMZjwWTOFHz+MxprcJygku3pP7cQguOuNabuw1pCWwMKRRNVVt s/2VfaTB2LCEvu9mrRuBvvG6rUv6bSck= X-Google-Smtp-Source: AGHT+IFLjqftxnbJd2HYZPlbYZdMBWzKfUBbL9rjS58OlcBcim8HTV1WwDoPOgAThBldZQeWykXGLsOfntiQ X-Received: by 2002:a05:6870:b50f:b0:35e:59ce:6c36 with SMTP id 586e51a60fabf-3e7c26d78e1mr1490395fac.12.1762600640369; Sat, 08 Nov 2025 03:17:20 -0800 (PST) Received: from postal.iol.unh.edu (postal.iol.unh.edu. [132.177.123.84]) by smtp-relay.gmail.com with ESMTPS id 586e51a60fabf-3e41f3260fasm377462fac.18.2025.11.08.03.17.20 (version=TLS1_2 cipher=ECDHE-ECDSA-AES128-GCM-SHA256 bits=128/128); Sat, 08 Nov 2025 03:17:20 -0800 (PST) X-Relaying-Domain: iol.unh.edu Date: Sat, 08 Nov 2025 03:17:20 -0800 (PST) Message-ID: <690f26c0.050a0220.20b19a.3699SMTPIN_ADDED_MISSING@mx.google.com> Received: from [172.21.0.2] (unknown [172.18.0.240]) by postal.iol.unh.edu (Postfix) with ESMTP id EC24B6051830; Sat, 8 Nov 2025 06:17:19 -0500 (EST) Subject: |SUCCESS| [GIT MASTER] 0bd935abcb823f581ce53986986aa54eaf6f8140 From: dpdklab@iol.unh.edu To: Test Report Cc: dpdk-test-reports@iol.unh.edu, Xueming Li , Christian Ehrhardt , Kevin Traynor , Luca Boccassi Content-Type: text/plain X-BeenThere: test-report@dpdk.org X-Mailman-Version: 2.1.29 Precedence: list List-Id: automatic DPDK test reports List-Unsubscribe: , List-Archive: List-Post: List-Help: List-Subscribe: , Errors-To: test-report-bounces@dpdk.org _Testing PASS_ Branch: tags/v24.11 0bd935abcb823f581ce53986986aa54eaf6f8140 --> testing pass Upstream job id: Generic-DPDK-Compile-Meson#442186 Test environment and result as below: +------------------------------+--------------------+ | Environment | dpdk_meson_compile | +==============================+====================+ | Red Hat Enterprise Linux 9.5 | PASS | +------------------------------+--------------------+ | Ubuntu 20.04 | PASS | +------------------------------+--------------------+ | Debian GNU/Linux 12 | PASS | +------------------------------+--------------------+ | Fedora Linux 42 | PASS | +------------------------------+--------------------+ | Ubuntu 22.04 | PASS | +------------------------------+--------------------+ | Ubuntu 24.04 | PASS | +------------------------------+--------------------+ | CentOS Stream 9 | PASS | +------------------------------+--------------------+ | CentOS Stream 10 | PASS | +------------------------------+--------------------+ Red Hat Enterprise Linux 9.5 Kernel: 5.4 Compiler: gcc gcc (GCC) 11.5.0 20240719 (Red Hat 11.5.0-2) Ubuntu 20.04 Kernel: 5.15 Compiler: aarch64-linux-gnu-gcc gcc (Ubuntu 9.4.0-1ubuntu1~20.04.2) 9.4.0 Debian GNU/Linux 12 Kernel: 5.4 Compiler: gcc gcc (Debian 12.2.0-14+deb12u1) 12.2.0 Fedora Linux 42 Kernel: 5.4 Compiler: gcc gcc (GCC) 15.2.1 20250808 (Red Hat 15.2.1-1) Ubuntu 22.04 Kernel: 5.4 Compiler: gcc gcc (Ubuntu 11.4.0-1ubuntu1~22.04) 11.4.0 Ubuntu 24.04 Kernel: 5.4 Compiler: gcc gcc (Ubuntu 13.3.0-6ubuntu2~24.04) 13.3.0 CentOS Stream 9 Kernel: 5.4 Compiler: gcc gcc (GCC) 11.5.0 20240719 (Red Hat 11.5.0-11) CentOS Stream 10 Kernel: 5.4 Compiler: gcc gcc (GCC) 14.2.1 20250110 (Red Hat 14.2.1-8) To view detailed results, visit: https://lab.dpdk.org/results/dashboard/tarballs/35508/ UNH-IOL DPDK Community Lab To manage your email subscriptions, visit: https://lab.dpdk.org/results/dashboard/preferences/subscriptions/