From mboxrd@z Thu Jan 1 00:00:00 1970 Return-Path: Received: from mails.dpdk.org (mails.dpdk.org [217.70.189.124]) by inbox.dpdk.org (Postfix) with ESMTP id D56E548AAD for ; Sat, 8 Nov 2025 12:18:23 +0100 (CET) Received: from mails.dpdk.org (localhost [127.0.0.1]) by mails.dpdk.org (Postfix) with ESMTP id CF886400D5; Sat, 8 Nov 2025 12:18:23 +0100 (CET) Received: from mail-io1-f99.google.com (mail-io1-f99.google.com [209.85.166.99]) by mails.dpdk.org (Postfix) with ESMTP id 5D3A6400D5 for ; Sat, 8 Nov 2025 12:18:22 +0100 (CET) Received: by mail-io1-f99.google.com with SMTP id ca18e2360f4ac-94880a46f3fso55157139f.2 for ; Sat, 08 Nov 2025 03:18:22 -0800 (PST) DKIM-Signature: v=1; a=rsa-sha256; c=relaxed/relaxed; d=iol.unh.edu; s=unh-iol; t=1762600701; x=1763205501; darn=dpdk.org; h=cc:to:from:subject:message-id:date:from:to:cc:subject:date :message-id:reply-to; bh=N9iJjzfMlbtVG0lyBrUMDRZ04oPuEfUxR1CJY2iPUKo=; b=T/TAnPAUITfRXAlnD7flVWJuK3tWSilzwh6DGxtKGOIFnfzfI1dV0M54jKes6UQsrk /lC+/gmrbRv941/MS5Pfdtx4ArUf+juayCw6yofZ4p0R/E6Q47d7Dr6WkQfxJSxoqJIA Ulrf6c2U8UrFneQkVNNxhsNNFy8lEioDHOYYc= X-Google-DKIM-Signature: v=1; a=rsa-sha256; c=relaxed/relaxed; d=1e100.net; s=20230601; t=1762600701; x=1763205501; h=cc:to:from:subject:message-id:date:x-gm-gg:x-gm-message-state:from :to:cc:subject:date:message-id:reply-to; bh=N9iJjzfMlbtVG0lyBrUMDRZ04oPuEfUxR1CJY2iPUKo=; b=TNwxobn0X0gb+BQEJo/pa5MQx20uBjB2BE8utcVRCeYA7wa7t8U6Owk++Qk2XQV0It 1Cfo54Zd2jt1wQWslc7KvBtpfIUQgrPIgcj57VF1MrKhtAW8/tsKMiCSvTFHT6uSeAuA RzJ5ARhIG3+YV0UDU06QwqsoRSSKCxhSMcemPsjd2SL52gX1F2rLZU2m0nuJx2tMlqWJ LwDEb9Nf+GCG79nEZJDboP16AqVHkyp2V5TVd+2XYK7sOKMdScaK6TdYMVuEF7cQOJoT cwY+zWHDdhE2kKMYgNFdnFapMJ/jkAcCc0l6AeTwFITKXhlFZzf8m51QouzoX22+kNFJ F9Bw== X-Gm-Message-State: AOJu0Ywr998u3QsDwWguoIo6zpIsAtC4MzVUw2jEWY/CO+aZNtDFs4k5 a6V4BVWSMn5KPr7FupMg+N3c3hYe4zRijsYUoy4YqPa4A3j3qTAu/x9rsMj3Fxnl3t+5EL6MV7p O3RZOG7HvOkHpHszuYGEWIBKgL0KOrFvwzZnCiS66pGah X-Gm-Gg: ASbGncsE3mBkben66rO9/8kZteNQ2hxqcy1VpAfXSRXJrDwSlgrbz4nAdhQStZyDnXO ubb9rBm5D+FTilC7EC1seUFPQ83zctlZAO3gcMMrkn8Wt3obuS3TRWx+iR7OQDyHo3hrfmPLM8S BnejPS89FBINQ2hIbstB6+1Xm4OuT89jSNEwQTJqQyXFy3H1lsK1rkemqBxKVCcHvaKv8k5DqXy SGqAa+IxZZ44VtgkNlmz8pjx3qp2Ag+q75K/JjhHz1BYU50gyvy5moATSZIegI9F5M0ENwuZxoh dX/MPeeRJt+yJABjfmx1jADDEcJkhAx7cnQSo85+HExsvsgLq1vKpJcCnYqB8FfQoOyUEt8D9TP A1hOW7PXaV8nrnwcqFFpnxfJpOdOGajo= X-Google-Smtp-Source: AGHT+IEFacjJCaYNjoQiB3M+V0c/CRspxLe52NzZXcfLTatEGfgwjCWoeBOWZ7+JbayM3NhdbII7mcCjbiwY X-Received: by 2002:a92:d290:0:b0:433:6c42:1817 with SMTP id e9e14a558f8ab-4336c421b5bmr14875435ab.6.1762600701653; Sat, 08 Nov 2025 03:18:21 -0800 (PST) Received: from postal.iol.unh.edu (postal.iol.unh.edu. [132.177.123.84]) by smtp-relay.gmail.com with ESMTPS id 8926c6da1cb9f-5b74676a695sm894719173.9.2025.11.08.03.18.21 (version=TLS1_2 cipher=ECDHE-ECDSA-AES128-GCM-SHA256 bits=128/128); Sat, 08 Nov 2025 03:18:21 -0800 (PST) X-Relaying-Domain: iol.unh.edu Date: Sat, 08 Nov 2025 03:18:21 -0800 (PST) Message-ID: <690f26fd.050a0220.2dee7.e04aSMTPIN_ADDED_MISSING@mx.google.com> Received: from [172.21.0.2] (unknown [172.18.0.240]) by postal.iol.unh.edu (Postfix) with ESMTP id A00816051830; Sat, 8 Nov 2025 06:18:20 -0500 (EST) Subject: |SUCCESS| [GIT MASTER] 87f7895e470c13e13efd6762d701139d0987294a From: dpdklab@iol.unh.edu To: Test Report Cc: dpdk-test-reports@iol.unh.edu Content-Type: text/plain X-BeenThere: test-report@dpdk.org X-Mailman-Version: 2.1.29 Precedence: list List-Id: automatic DPDK test reports List-Unsubscribe: , List-Archive: List-Post: List-Help: List-Subscribe: , Errors-To: test-report-bounces@dpdk.org _Testing PASS_ Branch: dpdk 87f7895e470c13e13efd6762d701139d0987294a --> testing pass Upstream job id: Generic-Unit-Test-DPDK#390062 Test environment and result as below: +------------------------------+----------------+--------------+---------------------------+------------------------------+ | Environment | dpdk_unit_test | lpm_autotest | cryptodev_sw_zuc_autotest | cryptodev_sw_snow3g_autotest | +==============================+================+==============+===========================+==============================+ | CentOS Stream 10 | PASS | SKIPPED | SKIPPED | SKIPPED | +------------------------------+----------------+--------------+---------------------------+------------------------------+ | CentOS Stream 9 | PASS | SKIPPED | SKIPPED | SKIPPED | +------------------------------+----------------+--------------+---------------------------+------------------------------+ | Fedora Linux 40 | PASS | SKIPPED | SKIPPED | SKIPPED | +------------------------------+----------------+--------------+---------------------------+------------------------------+ | Debian GNU/Linux 12 | PASS | SKIPPED | SKIPPED | SKIPPED | +------------------------------+----------------+--------------+---------------------------+------------------------------+ | Fedora Linux 41 | PASS | SKIPPED | SKIPPED | SKIPPED | +------------------------------+----------------+--------------+---------------------------+------------------------------+ | Ubuntu 22.04 | PASS | SKIPPED | SKIPPED | SKIPPED | +------------------------------+----------------+--------------+---------------------------+------------------------------+ | Fedora Linux 42 | PASS | SKIPPED | SKIPPED | SKIPPED | +------------------------------+----------------+--------------+---------------------------+------------------------------+ | Ubuntu 20.04 | PASS | PASS | SKIPPED | SKIPPED | +------------------------------+----------------+--------------+---------------------------+------------------------------+ | Red Hat Enterprise Linux 9.5 | PASS | SKIPPED | SKIPPED | SKIPPED | +------------------------------+----------------+--------------+---------------------------+------------------------------+ | Ubuntu 24.04 | PASS | SKIPPED | SKIPPED | SKIPPED | +------------------------------+----------------+--------------+---------------------------+------------------------------+ | Debian 12 (arm) | SKIPPED | SKIPPED | PASS | PASS | +------------------------------+----------------+--------------+---------------------------+------------------------------+ CentOS Stream 10 Kernel: 5.4 Compiler: gcc gcc (GCC) 14.2.1 20250110 (Red Hat 14.2.1-8) CentOS Stream 9 Kernel: 5.4 Compiler: gcc gcc (GCC) 11.5.0 20240719 (Red Hat 11.5.0-11) Fedora Linux 40 Kernel: 5.4 Compiler: gcc gcc (GCC) 14.2.1 20240912 (Red Hat 14.2.1-3) Debian GNU/Linux 12 Kernel: 5.4 Compiler: gcc gcc (Debian 12.2.0-14+deb12u1) 12.2.0 Fedora Linux 41 Kernel: 5.4 Compiler: gcc gcc (GCC) 14.3.1 20250523 (Red Hat 14.3.1-1) Ubuntu 22.04 Kernel: 5.15 Compiler: gcc gcc (Ubuntu 11.4.0-1ubuntu1~22.04.2) 11.4.0 Fedora Linux 42 Kernel: 5.4 Compiler: clang gcc (GCC) 15.2.1 20250808 (Red Hat 15.2.1-1) Ubuntu 20.04 Kernel: 5.4 Compiler: gcc gcc (Ubuntu 9.4.0-1ubuntu1~20.04.2) 9.4.0 Red Hat Enterprise Linux 9.5 Kernel: 5.4 Compiler: gcc gcc (GCC) 11.5.0 20240719 (Red Hat 11.5.0-2) Ubuntu 24.04 Kernel: 5.4 Compiler: gcc gcc (Ubuntu 13.3.0-6ubuntu2~24.04) 13.3.0 Debian 12 (arm) Kernel: Depends on container host Compiler: gcc (Debian 12.2.0-14) 12.2.0 To view detailed results, visit: https://lab.dpdk.org/results/dashboard/tarballs/35505/ UNH-IOL DPDK Community Lab To manage your email subscriptions, visit: https://lab.dpdk.org/results/dashboard/preferences/subscriptions/