From mboxrd@z Thu Jan 1 00:00:00 1970 Return-Path: Received: from mails.dpdk.org (mails.dpdk.org [217.70.189.124]) by inbox.dpdk.org (Postfix) with ESMTP id 1D30C48AAD for ; Sat, 8 Nov 2025 12:32:53 +0100 (CET) Received: from mails.dpdk.org (localhost [127.0.0.1]) by mails.dpdk.org (Postfix) with ESMTP id 00683400D5; Sat, 8 Nov 2025 12:32:52 +0100 (CET) Received: from mail-qv1-f100.google.com (mail-qv1-f100.google.com [209.85.219.100]) by mails.dpdk.org (Postfix) with ESMTP id 89DA3400D5 for ; Sat, 8 Nov 2025 12:32:51 +0100 (CET) Received: by mail-qv1-f100.google.com with SMTP id 6a1803df08f44-87fc4d29301so21607956d6.2 for ; Sat, 08 Nov 2025 03:32:51 -0800 (PST) DKIM-Signature: v=1; a=rsa-sha256; c=relaxed/relaxed; d=iol.unh.edu; s=unh-iol; t=1762601571; x=1763206371; darn=dpdk.org; h=references:in-reply-to:cc:to:from:subject:message-id:date:from:to :cc:subject:date:message-id:reply-to; bh=QUaCAVPOSC0pjtzTLO5l9lM/Veo/+aCmiWWdRgdMEFs=; b=FMIJeLZ6BxqFnWImfviZpChyKZJTN2C8D22UDDWtFuuydbEyHwxBTIkRzovgQ3U4nb YzquQqZ3NtGW6clbLmYYszzZsidsuJPA+NQn3tbYH63bV1yp4cUizag8BvKsptKyMtIn DBC+qKwvo2j7xMCMEPRHYh9vj4/wb5vlA4qo4= X-Google-DKIM-Signature: v=1; a=rsa-sha256; c=relaxed/relaxed; d=1e100.net; s=20230601; t=1762601571; x=1763206371; h=references:in-reply-to:cc:to:from:subject:message-id:date:x-gm-gg :x-gm-message-state:from:to:cc:subject:date:message-id:reply-to; bh=QUaCAVPOSC0pjtzTLO5l9lM/Veo/+aCmiWWdRgdMEFs=; b=N3EIVYCy5kpFL4CoLF8fkK6vTj7EpMCOPxAuq0marLeBvOcaLeq5bBu1yRc3ap+sMQ jw+Gx0QZq1IspPtIHPrTX02YDOKarb0feQnzsGkx5iiJ8tbpB9cD8axg1L2chqA4bz5E mFkRXVGdYGaG1c0vGhJ8TdRaiNiqiNI521tl++Tch2CQGAId64HqROXFn2QQGu6QUMLG 9i4dcUxM3Yvjm5JFFffCdU9eC8HZ8XNcaXp4qpFZ/nWm0qUiC1Dfql0k2Rk0bjKk+Bew zwN+w4avcsKRtnwyREOmjyc6YWXrjYscOy1bZLB4SgHCQrmvGvAe+WblO4hycylkbFEq ChTQ== X-Gm-Message-State: AOJu0Yzs2eewss+qkxQInh3WJR6PzcUoLuZP969be0omM0MguPA9JSgU y6JInNe5OnUja8opFLVuvNAl5w3YJ2BMLWIIM9BDjVOkcMQkZDHG9ao0SITpe3a4ArXsU7IRs3T Jjf9okqPXTIGTmrtkdZgK2x2zOqDdLx4O8xbTA+jraL7gB2cSr/QearxLMsu9 X-Gm-Gg: ASbGncvmZPDE2hQKwQZavVb7DaNilHkL7aaVYYWu0hYVbw3QqzzLhzwPPJS+gXQxLYW iUh0jEiz7pZYJsnkwZ81QJxg4VzU09e2bSu5qbDmtnsO4hSmKpVUWIEZiH9CGtxaCRyrspvpyhZ aG6czaEbu3GDc48TX+PvbQbr63NqhdzbjmemnGOzJMs9A/kErWfaU3mnYD8ZsXz0QQIbIYIWq4k iaaiE8/kCuS01yC66VtTIl2vV28bupBr8xF2h1RKB4f+xO4FwxmILjolJriDz4l+nE8RRy7c82v uUqbJFbRZBG6yvmLHe+ZNZchQVxn6rSFwjuFx2qvnbx0/fta03HTjCAth7I89XwSzJzdgC8yylA hO9xQMFLh X-Google-Smtp-Source: AGHT+IEKzVvbyZJeSRA5dikG4nj1uNUeem8Ql9pIN+ONRQM2o6NB/rl60pvDlRBjc13NoX3w2D4NudM+I4Zh X-Received: by 2002:a05:6214:224a:b0:880:46b6:fe3b with SMTP id 6a1803df08f44-882387552b1mr30799866d6.53.1762601570848; Sat, 08 Nov 2025 03:32:50 -0800 (PST) Received: from postal.iol.unh.edu (postal.iol.unh.edu. [2606:4100:3880:1234::84]) by smtp-relay.gmail.com with ESMTPS id 6a1803df08f44-88238b8201esm2330396d6.30.2025.11.08.03.32.50 (version=TLS1_2 cipher=ECDHE-ECDSA-AES128-GCM-SHA256 bits=128/128); Sat, 08 Nov 2025 03:32:50 -0800 (PST) X-Relaying-Domain: iol.unh.edu Date: Sat, 08 Nov 2025 03:32:50 -0800 (PST) Message-ID: <690f2a62.d40a0220.16ba6a.bf87SMTPIN_ADDED_MISSING@mx.google.com> Received: from [172.21.0.2] (unknown [172.18.0.240]) by postal.iol.unh.edu (Postfix) with ESMTP id 7837F6051830; Sat, 8 Nov 2025 06:32:50 -0500 (EST) Subject: |SUCCESS| pw158612 [PATCH] [v2,1/1] net/e1000: use device timestamp From: dpdklab@iol.unh.edu To: Test Report Cc: dpdk-test-reports@iol.unh.edu, Bruce Richardson In-Reply-To: <20251108080613.123969-1-yoong.siang.song@intel.com> References: <20251108080613.123969-1-yoong.siang.song@intel.com> Content-Type: text/plain X-BeenThere: test-report@dpdk.org X-Mailman-Version: 2.1.29 Precedence: list List-Id: automatic DPDK test reports List-Unsubscribe: , List-Archive: List-Post: List-Help: List-Subscribe: , Errors-To: test-report-bounces@dpdk.org Test-Label: iol-compile-arm64-testing Test-Status: SUCCESS http://dpdk.org/patch/158612 _Testing PASS_ Submitter: Song Yoong Siang Date: Saturday, November 08 2025 08:06:13 DPDK git baseline: Repo:dpdk-next-net-intel Branch: master CommitID:1655dc989bc95fa85fc76d32912d2e46c0851148 158612 --> testing pass Upstream job id: Generic-DPDK-Compile-Meson#442203 Test environment and result as below: +------------------------------+--------------------+ | Environment | dpdk_meson_compile | +==============================+====================+ | Red Hat Enterprise Linux 9.5 | PASS | +------------------------------+--------------------+ | Ubuntu 20.04 | PASS | +------------------------------+--------------------+ | Debian GNU/Linux 12 | PASS | +------------------------------+--------------------+ | Fedora Linux 42 | PASS | +------------------------------+--------------------+ | Ubuntu 22.04 | PASS | +------------------------------+--------------------+ | Ubuntu 24.04 | PASS | +------------------------------+--------------------+ | CentOS Stream 9 | PASS | +------------------------------+--------------------+ | CentOS Stream 10 | PASS | +------------------------------+--------------------+ Red Hat Enterprise Linux 9.5 Kernel: 5.4 Compiler: gcc gcc (GCC) 11.5.0 20240719 (Red Hat 11.5.0-2) Ubuntu 20.04 Kernel: 5.15 Compiler: aarch64-linux-gnu-gcc gcc (Ubuntu 9.4.0-1ubuntu1~20.04.2) 9.4.0 Debian GNU/Linux 12 Kernel: 5.4 Compiler: gcc gcc (Debian 12.2.0-14+deb12u1) 12.2.0 Fedora Linux 42 Kernel: 5.4 Compiler: clang gcc (GCC) 15.2.1 20250808 (Red Hat 15.2.1-1) Ubuntu 22.04 Kernel: 5.4 Compiler: gcc gcc (Ubuntu 11.4.0-1ubuntu1~22.04) 11.4.0 Ubuntu 24.04 Kernel: 5.4 Compiler: gcc gcc (Ubuntu 13.3.0-6ubuntu2~24.04) 13.3.0 CentOS Stream 9 Kernel: 5.4 Compiler: gcc gcc (GCC) 11.5.0 20240719 (Red Hat 11.5.0-11) CentOS Stream 10 Kernel: 5.4 Compiler: gcc gcc (GCC) 14.2.1 20250110 (Red Hat 14.2.1-8) To view detailed results, visit: https://lab.dpdk.org/results/dashboard/patchsets/34512/ UNH-IOL DPDK Community Lab To manage your email subscriptions, visit: https://lab.dpdk.org/results/dashboard/preferences/subscriptions/