From mboxrd@z Thu Jan 1 00:00:00 1970 Return-Path: Received: from mails.dpdk.org (mails.dpdk.org [217.70.189.124]) by inbox.dpdk.org (Postfix) with ESMTP id 07F7648AAD for ; Sat, 8 Nov 2025 13:21:15 +0100 (CET) Received: from mails.dpdk.org (localhost [127.0.0.1]) by mails.dpdk.org (Postfix) with ESMTP id DEC2D400D5; Sat, 8 Nov 2025 13:21:14 +0100 (CET) Received: from mail-qv1-f100.google.com (mail-qv1-f100.google.com [209.85.219.100]) by mails.dpdk.org (Postfix) with ESMTP id AA321400D5 for ; Sat, 8 Nov 2025 13:21:13 +0100 (CET) Received: by mail-qv1-f100.google.com with SMTP id 6a1803df08f44-87c13813464so20024736d6.1 for ; Sat, 08 Nov 2025 04:21:13 -0800 (PST) DKIM-Signature: v=1; a=rsa-sha256; c=relaxed/relaxed; d=iol.unh.edu; s=unh-iol; t=1762604473; x=1763209273; darn=dpdk.org; h=cc:to:from:subject:message-id:date:from:to:cc:subject:date :message-id:reply-to; bh=hX9PR591Qfmc4f0m14mMppqz79FwTG4IMu6R2erwyU4=; b=T+vHTIW7EnEDrVYj+RjF7n2gIJDFoQGh1DWsK58MfHK4/vD1BJnQmMAjM47/Btu8yd FvP7KlQ8bz5x1Fm4vB3+7e5H90i9y1ZdXm60E3SiePvz9FZsUK/5pJAuG2h5rQKvBvAc hOhQ0lEpiwHM64E9dDdnotILDjsUT/1Fg+nzQ= X-Google-DKIM-Signature: v=1; a=rsa-sha256; c=relaxed/relaxed; d=1e100.net; s=20230601; t=1762604473; x=1763209273; h=cc:to:from:subject:message-id:date:x-gm-gg:x-gm-message-state:from :to:cc:subject:date:message-id:reply-to; bh=hX9PR591Qfmc4f0m14mMppqz79FwTG4IMu6R2erwyU4=; b=jp6ltgbFug7vo9iDR1Cm7KrXAHPPVc8yH1KvWUvKlHDB94niqfMCZN+HuGTz6rVZ6p vWL85a25MQYNMFnhbsMnGSKkLSN4VlUiBzLExJTgAiyamoNoJ8ReJ2cZ0vPORAtS92Ab YXUDUCfnTyv9BKyXDmCFXcvMbaV1HOkIsLbFN3vsmm8EVrAXTWrWNo0WRxvTEmwXLjOj 4RAwo9Qx3lr2PVic3d4fmerLac9MXxvbH17RU2IL9Wf8BCQvFR1FrG8jXpgk8NGitKdI KBUAZHHbqfxQDryp2fIy2qfrqWeimwVbOgsV/Ilky/0jZ2/5ldWj2R/ovGbIHM3cy/kl glzw== X-Gm-Message-State: AOJu0Yz/hgx1j88rW/7XhS4kK51nk9GTax1ADM0Lo4KeeHqCkXAw/BC+ sg6LnVDWDtrI/1v4eLj0uJzhRqiGEax+ar9EazQoDTKAK3oq1OLqUl8I5vr1ajy9mQOD7kbe1aa 7b3g6kbBRRxtbIeRO3TeUOo1XCfXTrNzJHvyS X-Gm-Gg: ASbGncuuN6zqrZgOCI9Au+1eDzfXGYh6bSo2G93AnPAJcVpVtPmmrwno1nOW3iftDQr uXzWafvfIRyAwGh8A8t+rRh12X3/Oe35p2b6+F+s7UqgH6TmmOrl1wGmbVe0VAtBhxUSZpAT0xk +XFCyTFP3yvRzlBL/k73MmQ8rgM4KzCunj/DZwKOgRxqlj2ZFJ88XnKVOyU1ZsgTUjZvft4bcP5 TWMYFVLGkIAe9BCKFjcXvaoboQZeVMqKXT1459kzZ1b9nxtsfRjXEUJkKSv4nOcXR1Lf8DzEvS6 dRwsl8Q5KyTT8AYmjbfk0Q7zNZtBc4ZhsFR9rno1ghttduRBmd5Xn7+vYYedwwKx0kj7LP6XkGD yulAe2/Nr0CnIrrPZdXwSIpn15eu8DiI= X-Google-Smtp-Source: AGHT+IHZ8GYgFj1L4IYwpvLrGn4MnFGFPR+7eRQZft8UAND58O8OjKEU3cNmMDyqNxk5Clds7Qgrxvn3Me3n X-Received: by 2002:a05:6214:cc4:b0:880:4bb9:4c94 with SMTP id 6a1803df08f44-8823861121emr29214796d6.22.1762604473089; Sat, 08 Nov 2025 04:21:13 -0800 (PST) Received: from postal.iol.unh.edu (postal.iol.unh.edu. [132.177.123.84]) by smtp-relay.gmail.com with ESMTPS id 6a1803df08f44-88238b21ba2sm2292106d6.20.2025.11.08.04.21.13 (version=TLS1_2 cipher=ECDHE-ECDSA-AES128-GCM-SHA256 bits=128/128); Sat, 08 Nov 2025 04:21:13 -0800 (PST) X-Relaying-Domain: iol.unh.edu Date: Sat, 08 Nov 2025 04:21:13 -0800 (PST) Message-ID: <690f35b9.050a0220.333205.cf4fSMTPIN_ADDED_MISSING@mx.google.com> Received: from [172.21.0.2] (unknown [172.18.0.240]) by postal.iol.unh.edu (Postfix) with ESMTP id C9C5E6051830; Sat, 8 Nov 2025 07:21:12 -0500 (EST) Subject: |WARNING| [GIT MASTER] 62f583c49bf67dd4d6733ece14e55fe6839e66d1 From: dpdklab@iol.unh.edu To: Test Report Cc: dpdk-test-reports@iol.unh.edu, Xueming Li , Christian Ehrhardt , Kevin Traynor , Luca Boccassi Content-Type: text/plain X-BeenThere: test-report@dpdk.org X-Mailman-Version: 2.1.29 Precedence: list List-Id: automatic DPDK test reports List-Unsubscribe: , List-Archive: List-Post: List-Help: List-Subscribe: , Errors-To: test-report-bounces@dpdk.org _Testing issues_ Branch: tags/v23.11 62f583c49bf67dd4d6733ece14e55fe6839e66d1 --> testing issues Upstream job id: Generic-Unit-Test-DPDK#390103 Test environment and result as below: +------------------------------+----------------+---------------------------+------------------------------+--------------+ | Environment | dpdk_unit_test | cryptodev_sw_zuc_autotest | cryptodev_sw_snow3g_autotest | lpm_autotest | +==============================+================+===========================+==============================+==============+ | CentOS Stream 9 | PASS | SKIPPED | SKIPPED | SKIPPED | +------------------------------+----------------+---------------------------+------------------------------+--------------+ | Debian GNU/Linux 12 | PASS | SKIPPED | SKIPPED | SKIPPED | +------------------------------+----------------+---------------------------+------------------------------+--------------+ | CentOS Stream 10 | PASS | SKIPPED | SKIPPED | SKIPPED | +------------------------------+----------------+---------------------------+------------------------------+--------------+ | Fedora Linux 40 | PASS | SKIPPED | SKIPPED | SKIPPED | +------------------------------+----------------+---------------------------+------------------------------+--------------+ | Fedora Linux 41 | PASS | SKIPPED | SKIPPED | SKIPPED | +------------------------------+----------------+---------------------------+------------------------------+--------------+ | Fedora Linux 42 | PASS | SKIPPED | SKIPPED | SKIPPED | +------------------------------+----------------+---------------------------+------------------------------+--------------+ | Ubuntu 20.04 | PASS | SKIPPED | SKIPPED | PASS | +------------------------------+----------------+---------------------------+------------------------------+--------------+ | Ubuntu 22.04 | PASS | SKIPPED | SKIPPED | SKIPPED | +------------------------------+----------------+---------------------------+------------------------------+--------------+ | Ubuntu 24.04 | PASS | SKIPPED | SKIPPED | SKIPPED | +------------------------------+----------------+---------------------------+------------------------------+--------------+ | Red Hat Enterprise Linux 9.5 | PASS | SKIPPED | SKIPPED | SKIPPED | +------------------------------+----------------+---------------------------+------------------------------+--------------+ | Debian 12 (arm) | SKIPPED | PASS | PASS | SKIPPED | +------------------------------+----------------+---------------------------+------------------------------+--------------+ CentOS Stream 9 Kernel: 5.4 Compiler: gcc gcc (GCC) 11.5.0 20240719 (Red Hat 11.5.0-11) Debian GNU/Linux 12 Kernel: 5.4 Compiler: gcc gcc (Debian 12.2.0-14+deb12u1) 12.2.0 CentOS Stream 10 Kernel: 5.4 Compiler: gcc gcc (GCC) 14.2.1 20250110 (Red Hat 14.2.1-8) Fedora Linux 40 Kernel: 5.4 Compiler: gcc gcc (GCC) 14.2.1 20240912 (Red Hat 14.2.1-3) Fedora Linux 41 Kernel: 5.4 Compiler: gcc gcc (GCC) 14.3.1 20250523 (Red Hat 14.3.1-1) Fedora Linux 42 Kernel: 5.4 Compiler: gcc gcc (GCC) 15.2.1 20250808 (Red Hat 15.2.1-1) Ubuntu 20.04 Kernel: 5.4 Compiler: gcc gcc (Ubuntu 9.4.0-1ubuntu1~20.04.2) 9.4.0 Ubuntu 22.04 Kernel: 5.4 Compiler: gcc gcc (Ubuntu 11.4.0-1ubuntu1~22.04) 11.4.0 Ubuntu 24.04 Kernel: 5.4 Compiler: gcc gcc (Ubuntu 13.3.0-6ubuntu2~24.04) 13.3.0 Red Hat Enterprise Linux 9.5 Kernel: 5.4 Compiler: gcc gcc (GCC) 11.5.0 20240719 (Red Hat 11.5.0-2) Debian 12 (arm) Kernel: Depends on container host Compiler: gcc (Debian 12.2.0-14) 12.2.0 To view detailed results, visit: https://lab.dpdk.org/results/dashboard/tarballs/35507/ UNH-IOL DPDK Community Lab To manage your email subscriptions, visit: https://lab.dpdk.org/results/dashboard/preferences/subscriptions/