From mboxrd@z Thu Jan 1 00:00:00 1970 Return-Path: Received: from mails.dpdk.org (mails.dpdk.org [217.70.189.124]) by inbox.dpdk.org (Postfix) with ESMTP id B6DBB48ABC for ; Sun, 9 Nov 2025 07:04:44 +0100 (CET) Received: from mails.dpdk.org (localhost [127.0.0.1]) by mails.dpdk.org (Postfix) with ESMTP id B104C40268; Sun, 9 Nov 2025 07:04:44 +0100 (CET) Received: from mail-oa1-f99.google.com (mail-oa1-f99.google.com [209.85.160.99]) by mails.dpdk.org (Postfix) with ESMTP id 36DE440268 for ; Sun, 9 Nov 2025 07:04:43 +0100 (CET) Received: by mail-oa1-f99.google.com with SMTP id 586e51a60fabf-3d56d0cb3dbso998906fac.3 for ; Sat, 08 Nov 2025 22:04:43 -0800 (PST) DKIM-Signature: v=1; a=rsa-sha256; c=relaxed/relaxed; d=iol.unh.edu; s=unh-iol; t=1762668282; x=1763273082; darn=dpdk.org; h=cc:to:from:subject:message-id:date:from:to:cc:subject:date :message-id:reply-to; bh=k/w4Ed1rIKZnrIs3FwPtcRqLk7m5UgR3UKQrKY3ZHL0=; b=J+NOqpCYuIc08GMAo2jm1Ewob3odyt6bU/IAjPFAhq4MG0X7JbJfmFF/5izBruppHJ 5py66/lWwBvuPSe+qbxnD4Wx9TELEL7ctHuekZyS1+UCp3L0yxoxymyRQsDMCkxwo5nj +0qDGF8kPZz1XH5qz2vgevswKKZ8/4UFPbgtM= X-Google-DKIM-Signature: v=1; a=rsa-sha256; c=relaxed/relaxed; d=1e100.net; s=20230601; t=1762668282; x=1763273082; h=cc:to:from:subject:message-id:date:x-gm-gg:x-gm-message-state:from :to:cc:subject:date:message-id:reply-to; bh=k/w4Ed1rIKZnrIs3FwPtcRqLk7m5UgR3UKQrKY3ZHL0=; b=bBFTaqKtIK/ZLnOohngOVlaNskcx/Tl0c+yLZOBj85udAnGiznsreHF9zblPdIoEQP OGiyVICnOAHhbGUONG5iBMfSUYRa9Jaz0j1iM0VgbV5dwIkdOmku2+P+qusNSb1LbsiN Y7++UmbQClHxAlX0H8pFqgtSp6LKMv60H2chsiqLKTNeTEJ6/lSA/QNI9E/9+XaiGdQO KUo4ethboMSm6tUdZJUUfnSgsX2FfZYMu9SrupIHz7C4krmoDc6lFjztaGmo5Y458gj+ u402WztvOoiPxgAly8wDk4bF8h+5ug0krqhAI1FLG9yLrG8iWRhu/vX+NW/9dLT8G4BB hVGw== X-Gm-Message-State: AOJu0YwvnG+E7EXbvKK0jSwJ90WeRByB374B3ZaWpH3ebkHoN5aCwgMT jHqUzAzH8nonMOBMwruvCqM9gGceCRNO6kDhaF8Ir0i7HwZgQ3+zfjKeEJR8epNbfI5zc4Icf4v JaBPhbigyk6H4wj/qQEeIGfpmEC5NOi2jPhsK X-Gm-Gg: ASbGncv5FYOCp8rQpgvoJuXi4Ei+prBf0hl2PFr6EjAodwmWLU1UmLdF5gjzuy9nJEz Fpe+QS5eEPN4AAeNw5OwM0EUX2HUQKIH4vZ360qOUMQQXcYNnZasdHt0axUA2eYh5rKf+jteBd/ wgomFs8viGyyofC4ihX10JszPHBVYCFUpfEZ3xZykY1T/MAbNi9TVgcTBElcLONNBzhlVKYc6rx K+xaoK3/sobgASy3O43xktAU4m8JWN1xSfODGj3Owyt9QOEp587cBsrtEmN4gJIKjg56Sg3lf80 FUrAueV4GhN6WVPYgEHZSUEDhyHKSFbDrH8VpvYzplMXiXseCiJoQcBTF59fZTctFTTGuh3jtu2 421yQvfLCB/tRcntftSBX1F60SJqEDMQ= X-Google-Smtp-Source: AGHT+IEBxxNqVUwndKHatym+NQNDQ4yrvhdawOxP1mc+6a3hdNZgP9ykhtTrmfrEUBaoVdtyOS4mNW1mYgHd X-Received: by 2002:a05:6870:d415:b0:343:a20a:3fd5 with SMTP id 586e51a60fabf-3e7c2857267mr3040145fac.40.1762668282415; Sat, 08 Nov 2025 22:04:42 -0800 (PST) Received: from postal.iol.unh.edu (postal.iol.unh.edu. [132.177.123.84]) by smtp-relay.gmail.com with ESMTPS id 586e51a60fabf-3e41ebd57d0sm529457fac.2.2025.11.08.22.04.42 (version=TLS1_2 cipher=ECDHE-ECDSA-AES128-GCM-SHA256 bits=128/128); Sat, 08 Nov 2025 22:04:42 -0800 (PST) X-Relaying-Domain: iol.unh.edu Date: Sat, 08 Nov 2025 22:04:42 -0800 (PST) Message-ID: <69102efa.050a0220.102f10.b8bcSMTPIN_ADDED_MISSING@mx.google.com> Received: from [172.21.0.2] (unknown [172.18.0.240]) by postal.iol.unh.edu (Postfix) with ESMTP id E9EDC6051830; Sun, 9 Nov 2025 01:04:41 -0500 (EST) Subject: |SUCCESS| [GIT MASTER] 0bd935abcb823f581ce53986986aa54eaf6f8140 From: dpdklab@iol.unh.edu To: Test Report Cc: dpdk-test-reports@iol.unh.edu, Xueming Li , Christian Ehrhardt , Kevin Traynor , Luca Boccassi Content-Type: text/plain X-BeenThere: test-report@dpdk.org X-Mailman-Version: 2.1.29 Precedence: list List-Id: automatic DPDK test reports List-Unsubscribe: , List-Archive: List-Post: List-Help: List-Subscribe: , Errors-To: test-report-bounces@dpdk.org _Testing PASS_ Branch: tags/v24.11 0bd935abcb823f581ce53986986aa54eaf6f8140 --> testing pass Upstream job id: Generic-Unit-Test-DPDK#390187 Test environment and result as below: +-------------------------------+----------------+ | Environment | dpdk_unit_test | +===============================+================+ | Fedora Linux 40 | PASS | +-------------------------------+----------------+ | Fedora Linux 41 | PASS | +-------------------------------+----------------+ | Red Hat Enterprise Linux 9.5 | PASS | +-------------------------------+----------------+ | Red Hat Enterprise Linux 8.10 | PASS | +-------------------------------+----------------+ | Ubuntu 22.04 | PASS | +-------------------------------+----------------+ | Fedora Linux 42 | PASS | +-------------------------------+----------------+ | Ubuntu 24.04 | PASS | +-------------------------------+----------------+ | CentOS Stream 10 | PASS | +-------------------------------+----------------+ | Ubuntu 20.04 | PASS | +-------------------------------+----------------+ | CentOS Stream 9 | PASS | +-------------------------------+----------------+ | Debian GNU/Linux 12 | PASS | +-------------------------------+----------------+ | Windows Server 2022 | PASS | +-------------------------------+----------------+ Fedora Linux 40 Kernel: 5.15 Compiler: clang gcc (GCC) 14.2.1 20240912 (Red Hat 14.2.1-3) Fedora Linux 41 Kernel: 5.15 Compiler: gcc gcc (GCC) 14.3.1 20250523 (Red Hat 14.3.1-1) Red Hat Enterprise Linux 9.5 Kernel: 5.15 Compiler: gcc gcc (GCC) 11.5.0 20240719 (Red Hat 11.5.0-2) Red Hat Enterprise Linux 8.10 Kernel: 5.15 Compiler: gcc gcc (GCC) 8.5.0 20210514 (Red Hat 8.5.0-22) Ubuntu 22.04 Kernel: 5.15 Compiler: gcc gcc (Ubuntu 11.4.0-1ubuntu1~22.04) 11.4.0 Fedora Linux 42 Kernel: 5.15 Compiler: gcc gcc (GCC) 15.2.1 20250808 (Red Hat 15.2.1-1) Ubuntu 24.04 Kernel: 5.15 Compiler: gcc gcc (Ubuntu 13.3.0-6ubuntu2~24.04) 13.3.0 CentOS Stream 10 Kernel: 5.15 Compiler: gcc gcc (GCC) 14.2.1 20250110 (Red Hat 14.2.1-8) Ubuntu 20.04 Kernel: 5.15 Compiler: gcc gcc (Ubuntu 9.4.0-1ubuntu1~20.04.2) 9.4.0 CentOS Stream 9 Kernel: 5.15 Compiler: gcc gcc (GCC) 11.5.0 20240719 (Red Hat 11.5.0-11) Debian GNU/Linux 12 Kernel: 5.15 Compiler: gcc gcc (Debian 12.2.0-14+deb12u1) 12.2.0 Windows Server 2022 Kernel: 10.0.20348.2031 Compiler: clang 15.0.7, gcc 14.1.0 (MinGW), and MSVC VS 19.39.33521 To view detailed results, visit: https://lab.dpdk.org/results/dashboard/tarballs/35512/ UNH-IOL DPDK Community Lab To manage your email subscriptions, visit: https://lab.dpdk.org/results/dashboard/preferences/subscriptions/