From mboxrd@z Thu Jan 1 00:00:00 1970 Return-Path: Received: from mails.dpdk.org (mails.dpdk.org [217.70.189.124]) by inbox.dpdk.org (Postfix) with ESMTP id 1433148ABC for ; Sun, 9 Nov 2025 07:07:28 +0100 (CET) Received: from mails.dpdk.org (localhost [127.0.0.1]) by mails.dpdk.org (Postfix) with ESMTP id 0B92B40268; Sun, 9 Nov 2025 07:07:28 +0100 (CET) Received: from mail-qv1-f99.google.com (mail-qv1-f99.google.com [209.85.219.99]) by mails.dpdk.org (Postfix) with ESMTP id ED98540268 for ; Sun, 9 Nov 2025 07:07:26 +0100 (CET) Received: by mail-qv1-f99.google.com with SMTP id 6a1803df08f44-88059c28da1so20996886d6.2 for ; Sat, 08 Nov 2025 22:07:26 -0800 (PST) DKIM-Signature: v=1; a=rsa-sha256; c=relaxed/relaxed; d=iol.unh.edu; s=unh-iol; t=1762668446; x=1763273246; darn=dpdk.org; h=cc:to:from:subject:message-id:date:from:to:cc:subject:date :message-id:reply-to; bh=RvWrz9QtanwEKLzVLbWfdVut5OdU2RA6TgVWPKH8sjU=; b=gqTsuLNS3dW1otV9HheXl26FvFbwTwdP/qeIYHl0TGVh8vnRLvao4LCW9i9Dn1e+vW 007t9k1S5pt/GEIWqMjIpyFmYNuWM67//l1xLsnr+oLson3phYS8m4LrAgobmHCLzrjd 1Z7yP0h9urTgpPLdSPWVz42AbrWizzETD0iI8= X-Google-DKIM-Signature: v=1; a=rsa-sha256; c=relaxed/relaxed; d=1e100.net; s=20230601; t=1762668446; x=1763273246; h=cc:to:from:subject:message-id:date:x-gm-gg:x-gm-message-state:from :to:cc:subject:date:message-id:reply-to; bh=RvWrz9QtanwEKLzVLbWfdVut5OdU2RA6TgVWPKH8sjU=; b=WCobfbtBEG0LxURokwhsOT/NzTWAugLmz3J+3c3Nz5vxYBUnikSayZjhxbr1lOH40X UqOrZCmz3hGV4bEZTjD5qgOpU/3z9NhVPD2bDTTvCFBbWexvj8BjZfvusY2jigw7DKpw OTAZhv85DOMaWb/DW+PXE+2mgLuGY8ObiZp4+fV8LWv1RqA3iZCnWviYoJooRDHRchVi gff+Y9LfV79fxY1VwFuylHaMcPj6AOsy57NFlzIxE0Gk9rJwHkXpoKuLsBqWdx4G7Bml Y7j9esC8GnHqLw8gU+odYuxypbQAAoZ7dHoEjMhvQyXMHkt2burHM9aw4bcm/+i3BgW1 6WVw== X-Gm-Message-State: AOJu0YzPyDesXqrsU5ROdD7h5pKZs1IrbNoC9mxHEDsnXB82ofKNbKh/ hA7bJbO5zKPd15ZKYXphNLQQMh48JinfhRDmq4do0HNRPtO0L7BJYRVVNQ5D9A9Lu/1KL2mx6MH qMJ1aqc5edC7GpHMYRrb35ITQEDyypPBlX0DQvtqwhwQhdhDBN/TS X-Gm-Gg: ASbGncvkc6hX/OSUvcF1ANS2d6dyz5Vsh94u92EgeUQoCKJImQCdFbXbIuHfXKXncUk j2oDsmjVk1aFSoVFRFErR2SIusdHC2SN38UTLSqakRY60m+CWjCDV7QpgxYoDXre9VOcNRd7Ipc 9zJdZLQW7byu2Kz9Qc4fPtK+NAe3QikE/APaFpgbFncBe71uvP/38VO1JDJjiGUyQ2KPqCXYoOg z5SrPb9pPuy9n0mmAZeYTVagFFXJtTTKXhz1QXaDBcIc+8Wo15F3hOI4WOAxRECIlxE9x/G7Pgv v6skPt2o8J0YRLp3Ux65oqjhRv/3Vvs1zmOdeTpi9cvCIVG5OLlSyzbJOD8PEDDvBWdidgJ0bc9 6iQ2NSsfD X-Google-Smtp-Source: AGHT+IFgBI/CGX6AC2UR2zcwQmnJYuUkAOuKCS//Cm+FYVi9cbJ714FpgYZmBb+8FZrvohTy0mVzcMfE2M56 X-Received: by 2002:a05:6214:62e:b0:880:460a:96d0 with SMTP id 6a1803df08f44-882386ecaedmr64676316d6.54.1762668446326; Sat, 08 Nov 2025 22:07:26 -0800 (PST) Received: from postal.iol.unh.edu (postal.iol.unh.edu. [2606:4100:3880:1234::84]) by smtp-relay.gmail.com with ESMTPS id 6a1803df08f44-88238b81d74sm4433466d6.29.2025.11.08.22.07.26 (version=TLS1_2 cipher=ECDHE-ECDSA-AES128-GCM-SHA256 bits=128/128); Sat, 08 Nov 2025 22:07:26 -0800 (PST) X-Relaying-Domain: iol.unh.edu Date: Sat, 08 Nov 2025 22:07:26 -0800 (PST) Message-ID: <69102f9e.050a0220.35430f.6f51SMTPIN_ADDED_MISSING@mx.google.com> Received: from [172.21.0.3] (unknown [172.18.0.240]) by postal.iol.unh.edu (Postfix) with ESMTP id 120EA6051830; Sun, 9 Nov 2025 01:07:26 -0500 (EST) Subject: |SUCCESS| [GIT MASTER] 9784db2c5af1eecd02fc21132b59b5b266039b87 From: dpdklab@iol.unh.edu To: Test Report Cc: dpdk-test-reports@iol.unh.edu, Xueming Li , Christian Ehrhardt , Kevin Traynor , Luca Boccassi Content-Type: text/plain X-BeenThere: test-report@dpdk.org X-Mailman-Version: 2.1.29 Precedence: list List-Id: automatic DPDK test reports List-Unsubscribe: , List-Archive: List-Post: List-Help: List-Subscribe: , Errors-To: test-report-bounces@dpdk.org _Testing PASS_ Branch: tags/v22.11 9784db2c5af1eecd02fc21132b59b5b266039b87 --> testing pass Upstream job id: Generic-DPDK-Compile-Meson#442245 Test environment and result as below: +-------------------------------+--------------------+-------------------------+----------------------+ | Environment | dpdk_meson_compile | dpdk_llvm_clang_compile | dpdk_mingw64_compile | +===============================+====================+=========================+======================+ | CentOS Stream 10 | PASS | SKIPPED | SKIPPED | +-------------------------------+--------------------+-------------------------+----------------------+ | CentOS Stream 9 | PASS | SKIPPED | SKIPPED | +-------------------------------+--------------------+-------------------------+----------------------+ | Debian GNU/Linux 12 | PASS | SKIPPED | SKIPPED | +-------------------------------+--------------------+-------------------------+----------------------+ | Fedora Linux 42 | PASS | SKIPPED | SKIPPED | +-------------------------------+--------------------+-------------------------+----------------------+ | Red Hat Enterprise Linux 8.10 | PASS | SKIPPED | SKIPPED | +-------------------------------+--------------------+-------------------------+----------------------+ | Ubuntu 22.04 | PASS | SKIPPED | SKIPPED | +-------------------------------+--------------------+-------------------------+----------------------+ | Ubuntu 20.04 | PASS | SKIPPED | SKIPPED | +-------------------------------+--------------------+-------------------------+----------------------+ | Red Hat Enterprise Linux 9.5 | PASS | SKIPPED | SKIPPED | +-------------------------------+--------------------+-------------------------+----------------------+ | Ubuntu 24.04 | PASS | SKIPPED | SKIPPED | +-------------------------------+--------------------+-------------------------+----------------------+ | openSUSE Leap 15.6 | PASS | SKIPPED | SKIPPED | +-------------------------------+--------------------+-------------------------+----------------------+ | FreeBSD 14.2 | PASS | SKIPPED | SKIPPED | +-------------------------------+--------------------+-------------------------+----------------------+ | Windows Server 2022 | SKIPPED | PASS | PASS | +-------------------------------+--------------------+-------------------------+----------------------+ CentOS Stream 10 Kernel: 5.15 Compiler: gcc gcc (GCC) 14.2.1 20250110 (Red Hat 14.2.1-8) CentOS Stream 9 Kernel: 5.15 Compiler: gcc gcc (GCC) 11.5.0 20240719 (Red Hat 11.5.0-11) Debian GNU/Linux 12 Kernel: 5.15 Compiler: gcc gcc (Debian 12.2.0-14+deb12u1) 12.2.0 Fedora Linux 42 Kernel: 5.15 Compiler: clang gcc (GCC) 15.2.1 20250808 (Red Hat 15.2.1-1) Red Hat Enterprise Linux 8.10 Kernel: 5.15 Compiler: gcc gcc (GCC) 8.5.0 20210514 (Red Hat 8.5.0-22) Ubuntu 22.04 Kernel: 5.15 Compiler: gcc gcc (Ubuntu 11.4.0-1ubuntu1~22.04) 11.4.0 Ubuntu 20.04 Kernel: 5.15 Compiler: gcc gcc (Ubuntu 9.4.0-1ubuntu1~20.04.2) 9.4.0 Red Hat Enterprise Linux 9.5 Kernel: 5.15 Compiler: gcc gcc (GCC) 11.5.0 20240719 (Red Hat 11.5.0-2) Ubuntu 24.04 Kernel: 5.15 Compiler: gcc gcc (Ubuntu 13.3.0-6ubuntu2~24.04) 13.3.0 openSUSE Leap 15.6 Kernel: 5.15 Compiler: gcc gcc (SUSE Linux) 7.5.0 FreeBSD 14.2 Kernel: 14.2-RELEASE Compiler: clang 18.1.6 Windows Server 2022 Kernel: 10.0.20348.2031 Compiler: clang 15.0.7, gcc 14.1.0 (MinGW), and MSVC VS 19.39.33521 To view detailed results, visit: https://lab.dpdk.org/results/dashboard/tarballs/35510/ UNH-IOL DPDK Community Lab To manage your email subscriptions, visit: https://lab.dpdk.org/results/dashboard/preferences/subscriptions/