From mboxrd@z Thu Jan 1 00:00:00 1970 Return-Path: Received: from mails.dpdk.org (mails.dpdk.org [217.70.189.124]) by inbox.dpdk.org (Postfix) with ESMTP id 28B0A48ABC for ; Sun, 9 Nov 2025 07:26:08 +0100 (CET) Received: from mails.dpdk.org (localhost [127.0.0.1]) by mails.dpdk.org (Postfix) with ESMTP id 232EB40268; Sun, 9 Nov 2025 07:26:08 +0100 (CET) Received: from mail-qk1-f228.google.com (mail-qk1-f228.google.com [209.85.222.228]) by mails.dpdk.org (Postfix) with ESMTP id E2E6640268 for ; Sun, 9 Nov 2025 07:26:06 +0100 (CET) Received: by mail-qk1-f228.google.com with SMTP id af79cd13be357-8b2148ca40eso314416085a.1 for ; Sat, 08 Nov 2025 22:26:06 -0800 (PST) DKIM-Signature: v=1; a=rsa-sha256; c=relaxed/relaxed; d=iol.unh.edu; s=unh-iol; t=1762669566; x=1763274366; darn=dpdk.org; h=cc:to:from:subject:message-id:date:from:to:cc:subject:date :message-id:reply-to; bh=Uu8PhoCKoPgc4iAYgbXHoJrBSGiqBVS2GV3kPgt2bUQ=; b=Uk+rO6AcHbLh7NU/2wuoKqQB5UKHUjszVDOIN9qDTJl1L/zxtb+ax0CsaUWmn+5jEt OI8KvwJgoqwSPW0U/BB6kCYmSPoZcpJOvGSCZ8D51yxP6lRRJ2jzyUfDhkFudBBZVe5g T7sMrl0F/r4py/PXjqPohsmDKDg9lfj804UF4= X-Google-DKIM-Signature: v=1; a=rsa-sha256; c=relaxed/relaxed; d=1e100.net; s=20230601; t=1762669566; x=1763274366; h=cc:to:from:subject:message-id:date:x-gm-gg:x-gm-message-state:from :to:cc:subject:date:message-id:reply-to; bh=Uu8PhoCKoPgc4iAYgbXHoJrBSGiqBVS2GV3kPgt2bUQ=; b=H3OHDa7Urd4smsd63ER3OZHXklyhtEUCf6kmXYPbN+zYPrLC++y5BXM72MfEadAkw+ Rm1yd5wSkbmfJU8FPrVXw/aSv4WjJf3ZskV3Y3Uhdmd3lk7QgZjQT3qzxJ+4H0D3VfFB XOvfrdUfEALReZSTCsGiCnJHofdjYLgCgnJkqKo9ZvwtUVR6jjsKpQOCIGWQYEinVgWT aRNMY7PW34MxuaIGzzq1cRnBJZqyJpBNYnT+1G/xsc/LJ/2kNzmAF714tOOIkzD7cd/u SVfiycE3vw7lc8+s0TTME1sJjE/3fNmFsQ62cTNhQ4gq4LSVvdy0cf1I267et6M0pUfJ 2FjA== X-Gm-Message-State: AOJu0YxlIupuCgqMTjTpa/97LkEFwIHeliu7cFGjpXgTGLBDSNXD+TSQ MmWcRhiqb2IQJPRXlRTZ3FVARXoQgiFQeTrcos/TWuQ2SyzPAscf+n0rp5EQoi/a34fp07YBZuc 6k6HpDzXsJVs0Jza0c53Frqf2MGwiUTF4N6T0e3TFrWJQs4PybFIg X-Gm-Gg: ASbGncsgTXEFDOrMTimxMOLam0FskPkizJX/AIPP2BKPzfcafJ4kMdsxiDnr56HFFTJ Tzdc3aKy6KlXuCJ373ojNq5ZOOiDnm08OQP8vw+8nK+igzGH6MS7+iFKpkJM4nlsefrR5gKSPwW A72Fn0xx92gKKiJ7mkhvRSNiITokgMJf11W9JfEd8KgjNNkfV2OhLvCHtl4qTywnktpM7+mPfRS drlDHN59l/HYCiiLa8OQQYB5DXx8QUEuPnsdmDeGdffWAU6USgA4PeZc1pyBBIeZitNHAIK3uLK oztnaBMe1hQFELYcNa4p3OKxUBO3m9E+kBwBATmYKV2UhfihRh8SRKg17uc+58T2A/4vmOKIklp 1yNgMKv8J X-Google-Smtp-Source: AGHT+IH10VhTfwKp/Pc/HAOTZ6o1hdDkV0fj9T/b2wqzBcYHIjrhJ2boxtr5MC9omTgtTLmQxuWm/AzrVG6/ X-Received: by 2002:a05:620a:4113:b0:893:2ba8:eec8 with SMTP id af79cd13be357-8b257f75f31mr474802885a.79.1762669566236; Sat, 08 Nov 2025 22:26:06 -0800 (PST) Received: from postal.iol.unh.edu (postal.iol.unh.edu. [2606:4100:3880:1234::84]) by smtp-relay.gmail.com with ESMTPS id af79cd13be357-8b25993a37bsm28490085a.3.2025.11.08.22.26.06 (version=TLS1_2 cipher=ECDHE-ECDSA-AES128-GCM-SHA256 bits=128/128); Sat, 08 Nov 2025 22:26:06 -0800 (PST) X-Relaying-Domain: iol.unh.edu Date: Sat, 08 Nov 2025 22:26:06 -0800 (PST) Message-ID: <691033fe.050a0220.2d730f.e9e9SMTPIN_ADDED_MISSING@mx.google.com> Received: from [172.21.0.3] (unknown [172.18.0.240]) by postal.iol.unh.edu (Postfix) with ESMTP id B3B0F6051830; Sun, 9 Nov 2025 01:26:05 -0500 (EST) Subject: |SUCCESS| [GIT MASTER] 0bd935abcb823f581ce53986986aa54eaf6f8140 From: dpdklab@iol.unh.edu To: Test Report Cc: dpdk-test-reports@iol.unh.edu, Xueming Li , Christian Ehrhardt , Kevin Traynor , Luca Boccassi Content-Type: text/plain X-BeenThere: test-report@dpdk.org X-Mailman-Version: 2.1.29 Precedence: list List-Id: automatic DPDK test reports List-Unsubscribe: , List-Archive: List-Post: List-Help: List-Subscribe: , Errors-To: test-report-bounces@dpdk.org _Testing PASS_ Branch: tags/v24.11 0bd935abcb823f581ce53986986aa54eaf6f8140 --> testing pass Upstream job id: Generic-DPDK-Compile-Meson#442228 Test environment and result as below: +-------------------------------+-------------------------+--------------------+-------------------+------------------+----------------------+ | Environment | dpdk_llvm_clang_compile | dpdk_meson_compile | dpdk_msvc_compile | dpdk_compile_ovs | dpdk_mingw64_compile | +===============================+=========================+====================+===================+==================+======================+ | Windows Server 2022 | PASS | SKIPPED | PASS | SKIPPED | PASS | +-------------------------------+-------------------------+--------------------+-------------------+------------------+----------------------+ | FreeBSD 14.2 | SKIPPED | PASS | SKIPPED | SKIPPED | SKIPPED | +-------------------------------+-------------------------+--------------------+-------------------+------------------+----------------------+ | Ubuntu 20.04 | SKIPPED | PASS | SKIPPED | SKIPPED | SKIPPED | +-------------------------------+-------------------------+--------------------+-------------------+------------------+----------------------+ | CentOS Stream 9 | SKIPPED | PASS | SKIPPED | SKIPPED | SKIPPED | +-------------------------------+-------------------------+--------------------+-------------------+------------------+----------------------+ | Fedora Linux 42 | SKIPPED | PASS | SKIPPED | PASS | SKIPPED | +-------------------------------+-------------------------+--------------------+-------------------+------------------+----------------------+ | openSUSE Leap 15.6 | SKIPPED | PASS | SKIPPED | SKIPPED | SKIPPED | +-------------------------------+-------------------------+--------------------+-------------------+------------------+----------------------+ | Debian GNU/Linux 12 | SKIPPED | PASS | SKIPPED | SKIPPED | SKIPPED | +-------------------------------+-------------------------+--------------------+-------------------+------------------+----------------------+ | CentOS Stream 10 | SKIPPED | PASS | SKIPPED | SKIPPED | SKIPPED | +-------------------------------+-------------------------+--------------------+-------------------+------------------+----------------------+ | Ubuntu 24.04 | SKIPPED | PASS | SKIPPED | PASS | SKIPPED | +-------------------------------+-------------------------+--------------------+-------------------+------------------+----------------------+ | Ubuntu 22.04 | SKIPPED | PASS | SKIPPED | SKIPPED | SKIPPED | +-------------------------------+-------------------------+--------------------+-------------------+------------------+----------------------+ | Red Hat Enterprise Linux 8.10 | SKIPPED | PASS | SKIPPED | SKIPPED | SKIPPED | +-------------------------------+-------------------------+--------------------+-------------------+------------------+----------------------+ | Alpine Linux 3.22.0 | SKIPPED | PASS | SKIPPED | SKIPPED | SKIPPED | +-------------------------------+-------------------------+--------------------+-------------------+------------------+----------------------+ | Red Hat Enterprise Linux 9.5 | SKIPPED | PASS | SKIPPED | SKIPPED | SKIPPED | +-------------------------------+-------------------------+--------------------+-------------------+------------------+----------------------+ Windows Server 2022 Kernel: 10.0.20348.2031 Compiler: clang 15.0.7, gcc 14.1.0 (MinGW), and MSVC VS 19.39.33521 FreeBSD 14.2 Kernel: 14.2-RELEASE Compiler: clang 18.1.6 Ubuntu 20.04 Kernel: 4.19 Compiler: gcc gcc (Ubuntu 9.4.0-1ubuntu1~20.04.2) 9.4.0 CentOS Stream 9 Kernel: 5.15 Compiler: gcc gcc (GCC) 11.5.0 20240719 (Red Hat 11.5.0-11) Fedora Linux 42 Kernel: 5.15 Compiler: clang gcc (GCC) 15.2.1 20250808 (Red Hat 15.2.1-1) openSUSE Leap 15.6 Kernel: 5.15 Compiler: gcc gcc (SUSE Linux) 7.5.0 Debian GNU/Linux 12 Kernel: 5.15 Compiler: gcc gcc (Debian 12.2.0-14+deb12u1) 12.2.0 CentOS Stream 10 Kernel: 5.15 Compiler: gcc gcc (GCC) 14.2.1 20250110 (Red Hat 14.2.1-8) Ubuntu 24.04 Kernel: 5.15 Compiler: gcc gcc (Ubuntu 13.3.0-6ubuntu2~24.04) 13.3.0 Ubuntu 22.04 Kernel: 5.15 Compiler: gcc gcc (Ubuntu 11.4.0-1ubuntu1~22.04) 11.4.0 Red Hat Enterprise Linux 8.10 Kernel: 5.15 Compiler: gcc gcc (GCC) 8.5.0 20210514 (Red Hat 8.5.0-22) Alpine Linux 3.22.0 Kernel: 5.15 Compiler: gcc gcc (Alpine 14.2.0) 14.2.0 Red Hat Enterprise Linux 9.5 Kernel: 5.15 Compiler: gcc gcc (GCC) 11.5.0 20240719 (Red Hat 11.5.0-2) To view detailed results, visit: https://lab.dpdk.org/results/dashboard/tarballs/35512/ UNH-IOL DPDK Community Lab To manage your email subscriptions, visit: https://lab.dpdk.org/results/dashboard/preferences/subscriptions/