From mboxrd@z Thu Jan 1 00:00:00 1970 Return-Path: Received: from mails.dpdk.org (mails.dpdk.org [217.70.189.124]) by inbox.dpdk.org (Postfix) with ESMTP id E389848ABE for ; Sun, 9 Nov 2025 08:07:37 +0100 (CET) Received: from mails.dpdk.org (localhost [127.0.0.1]) by mails.dpdk.org (Postfix) with ESMTP id DF34F40268; Sun, 9 Nov 2025 08:07:37 +0100 (CET) Received: from mail-pg1-f227.google.com (mail-pg1-f227.google.com [209.85.215.227]) by mails.dpdk.org (Postfix) with ESMTP id BDC9140268 for ; Sun, 9 Nov 2025 08:07:36 +0100 (CET) Received: by mail-pg1-f227.google.com with SMTP id 41be03b00d2f7-b6271ea3a6fso1269679a12.0 for ; Sat, 08 Nov 2025 23:07:36 -0800 (PST) DKIM-Signature: v=1; a=rsa-sha256; c=relaxed/relaxed; d=iol.unh.edu; s=unh-iol; t=1762672056; x=1763276856; darn=dpdk.org; h=cc:to:from:subject:message-id:date:from:to:cc:subject:date :message-id:reply-to; bh=T4ua9kPW0U50U3T2DH62R6CZ6Yis49xpudcKP3N1kek=; b=ddNs7X6sNEgX6kxSpv2W+M5+ryPiDjAY2gQV0R5dIacg5PDwhJVgUN8kZuKi5vCtpH 1heoj1u3ixwD1zMaN9oPrmGqUCy4Mz6vnD1DYAQLXlcvxbBAwMOCqgYLiaxHURVOI4W2 olaKCchAw89L2fRPNAWQOsSiK2YFA9qqcDh5M= X-Google-DKIM-Signature: v=1; a=rsa-sha256; c=relaxed/relaxed; d=1e100.net; s=20230601; t=1762672056; x=1763276856; h=cc:to:from:subject:message-id:date:x-gm-gg:x-gm-message-state:from :to:cc:subject:date:message-id:reply-to; bh=T4ua9kPW0U50U3T2DH62R6CZ6Yis49xpudcKP3N1kek=; b=vIwHlHmpFFcxyLw6zEukNiTx4fjHam60u1xndk0BU9sM6bxbGPa0Er6U18BhdB+VPY z0sSBfRIppWIYY56maB9nTh+dUxBZeyYuv84G84skFapaYMOc3vDCi+8+fz4AEBgvtiT Nu3rIztNiVmomlFNWWMatW4Wc3JTR/bm0DjHwnHMf7iulrHYztfCzAyLI3WwCjZvkF5U 3fiqMT9jAHBbs9J/UoeZsre0e6noz1gUZUiqe3sk7VUNLg/5vYAUjPfOZO/DJBunGhyM hCp4n05SsrToAXGKwD0hXyp91J7CSs4Dqzqi8EEy8hjhKD/AO969L52Zcf9AkfoOx500 K6jg== X-Gm-Message-State: AOJu0YwwERy1DZ+Pem0w4Ur/KVxJNz2v7+/rE0tawMqG7Hsl+aqSl7u0 3up8CDG+DOwFQwoR42vHze1LZ5qhxHvldoih0O8bvPwEPzKU/tSb148hHNSyTfjIvj/JlBalqBm jHSV2daLpNPDHfyxpZA5F4cBucS1+V0lzqXn6L0l7jHmC03WftIC+ X-Gm-Gg: ASbGncvlwqQwuUx9icrV0Uj4OzkYhfsVYchJ7RYIoGSuqQw2BjtpYv0b9BY26duBq1u +E79TyHfv1xWxj928KRYnghiKjdIbkP3iVwQkfLQxqbc5MnJDfufO40JiqrHuvOFK4cbu9bqswz ZpZjTUGeqx5QR85F3XErssRizouoETDlA8yQ1+hdh/SFKBuLPAx2pMIbgvojwgVwZy6aHoiaa97 URZHy2pb0ZYaZURdVHKPNP6zcf2LcN5g1U/rUqiVFrqqp1liOV5/ww73FfwUIZet1NTcupqmuNv aXHC+hs8K45HJTZlUheKJq7dJqPWnqqHv/UprnJ2mge/znSNMjvgNPpIsC8t4GOkifhO0ybgBBh 7qdl6q8P9 X-Google-Smtp-Source: AGHT+IHSXbz3SX5fUgpPLFDvVwygoPSwMKZXZCCHbSwsKB8AK3sSuODPwFgWISiGvubY9bplehmW9LqQmXok X-Received: by 2002:a17:902:ea10:b0:290:91d2:9304 with SMTP id d9443c01a7336-297e5411b0emr54713375ad.4.1762672055974; Sat, 08 Nov 2025 23:07:35 -0800 (PST) Received: from postal.iol.unh.edu (postal.iol.unh.edu. [2606:4100:3880:1234::84]) by smtp-relay.gmail.com with ESMTPS id d9443c01a7336-297fe6ad84fsm1864745ad.13.2025.11.08.23.07.35 (version=TLS1_2 cipher=ECDHE-ECDSA-AES128-GCM-SHA256 bits=128/128); Sat, 08 Nov 2025 23:07:35 -0800 (PST) X-Relaying-Domain: iol.unh.edu Date: Sat, 08 Nov 2025 23:07:35 -0800 (PST) Message-ID: <69103db7.170a0220.1de0cf.98b9SMTPIN_ADDED_MISSING@mx.google.com> Received: from [172.21.0.2] (unknown [172.18.0.240]) by postal.iol.unh.edu (Postfix) with ESMTP id 6CEC16051830; Sun, 9 Nov 2025 02:07:35 -0500 (EST) Subject: |SUCCESS| [GIT MASTER] 9784db2c5af1eecd02fc21132b59b5b266039b87 From: dpdklab@iol.unh.edu To: Test Report Cc: dpdk-test-reports@iol.unh.edu, Xueming Li , Christian Ehrhardt , Kevin Traynor , Luca Boccassi Content-Type: text/plain X-BeenThere: test-report@dpdk.org X-Mailman-Version: 2.1.29 Precedence: list List-Id: automatic DPDK test reports List-Unsubscribe: , List-Archive: List-Post: List-Help: List-Subscribe: , Errors-To: test-report-bounces@dpdk.org _Testing PASS_ Branch: tags/v22.11 9784db2c5af1eecd02fc21132b59b5b266039b87 --> testing pass Upstream job id: Generic-Unit-Test-DPDK#390229 Test environment and result as below: +-----------------+--------------+---------------------------+------------------------------+----------------+ | Environment | lpm_autotest | cryptodev_sw_zuc_autotest | cryptodev_sw_snow3g_autotest | dpdk_unit_test | +=================+==============+===========================+==============================+================+ | Ubuntu 20.04 | PASS | SKIPPED | SKIPPED | SKIPPED | +-----------------+--------------+---------------------------+------------------------------+----------------+ | Debian 12 (arm) | SKIPPED | PASS | PASS | SKIPPED | +-----------------+--------------+---------------------------+------------------------------+----------------+ | Ubuntu 22.04 | SKIPPED | SKIPPED | SKIPPED | PASS | +-----------------+--------------+---------------------------+------------------------------+----------------+ Ubuntu 20.04 Kernel: 5.4 Compiler: gcc gcc (Ubuntu 9.4.0-1ubuntu1~20.04.2) 9.4.0 Debian 12 (arm) Kernel: Depends on container host Compiler: gcc (Debian 12.2.0-14) 12.2.0 Ubuntu 22.04 Kernel: 5.15 Compiler: gcc gcc (Ubuntu 11.4.0-1ubuntu1~22.04.2) 11.4.0 To view detailed results, visit: https://lab.dpdk.org/results/dashboard/tarballs/35510/ UNH-IOL DPDK Community Lab To manage your email subscriptions, visit: https://lab.dpdk.org/results/dashboard/preferences/subscriptions/