From mboxrd@z Thu Jan 1 00:00:00 1970 Return-Path: Received: from mails.dpdk.org (mails.dpdk.org [217.70.189.124]) by inbox.dpdk.org (Postfix) with ESMTP id BC2E648ABE for ; Sun, 9 Nov 2025 09:04:33 +0100 (CET) Received: from mails.dpdk.org (localhost [127.0.0.1]) by mails.dpdk.org (Postfix) with ESMTP id 8FD2C40268; Sun, 9 Nov 2025 09:04:33 +0100 (CET) Received: from mail-vs1-f97.google.com (mail-vs1-f97.google.com [209.85.217.97]) by mails.dpdk.org (Postfix) with ESMTP id 7DEAD40268 for ; Sun, 9 Nov 2025 09:04:31 +0100 (CET) Received: by mail-vs1-f97.google.com with SMTP id ada2fe7eead31-5dbdb139b5bso1933604137.2 for ; Sun, 09 Nov 2025 00:04:31 -0800 (PST) DKIM-Signature: v=1; a=rsa-sha256; c=relaxed/relaxed; d=iol.unh.edu; s=unh-iol; t=1762675470; x=1763280270; darn=dpdk.org; h=cc:to:from:subject:message-id:date:from:to:cc:subject:date :message-id:reply-to; bh=7Al70jt21EQd9q7XjXn/n+7gBQ4BsOsBHn5RK3engDo=; b=jVv4nH0a4UcjfBMDhkLcXReP+4ayDiCJblh/dpPUGTSjykQb8BbyGOJNwcyzK9GPVI 7C2EVXalEp15PAhDvTFMHlQqQyJb1sl7YdkBd6ShTvQMstQPrERhs5JRriKBMqfNUlGg 3YRPzdtge+ucfOEoPylwpjCfVS2ZBnDH8iLIQ= X-Google-DKIM-Signature: v=1; a=rsa-sha256; c=relaxed/relaxed; d=1e100.net; s=20230601; t=1762675470; x=1763280270; h=cc:to:from:subject:message-id:date:x-gm-gg:x-gm-message-state:from :to:cc:subject:date:message-id:reply-to; bh=7Al70jt21EQd9q7XjXn/n+7gBQ4BsOsBHn5RK3engDo=; b=qJ56xZquqkRRlMHinEH/O2Efg+6PEs3uReU3q88yKQb+QSGkiGXOdjvwanoyngN/65 jxMvGPgQroghHnlJzgNvNG5EPGFF4Oy+JGEXcgpWikuoc2OjtMGD+qkYHn1YLTL8Du2k 66rQOCaaddRm972Q6shjxI76DpI45x5xBug3BCK9mbYIL5V76cUxyC6AW+ope+Z7QGCM 2xb76yr/K5+/Vh1X247ZAV3Uj2hFj5Je4qpisdv8MQzx1zJR04gI//DngqgI2MiqaLyU /EC0VN+0kHfxArt4ZJtbk9mfifQauC46kiAUjupJJRH7JuVXCKHf4JJyfiBPXTEOQeAZ lYRQ== X-Gm-Message-State: AOJu0Ywulrrsca6bX9NRyFpTIW6zQseydwruqJrwvmArmytOfRVAspVX etxyTjPhNrSD/g5Lf1/ZzCBO7/B0fRz22aHGWVG/iE0imi2AD8xm37MApqh7VTCvuXWBnzKfben KhQl8XkokvaMS3X7C1YCyHKgEs3//t+QlodKm5DLegxgyWrWleMNL X-Gm-Gg: ASbGncsvfSn9TAmh9XMOMEs5hynnjYNod6DWgkt+xpCjZbClOpSEDG2upF8JfmyUA0i +IlDH0e7DpHqrp5JWUxbKKvtOw3sWqfRQiR/9QphaUVbmM1Hs2QdAjpfPY+LBfcVDNsmJVKQQvr gr2tc849dDAtUmh8MPA8t9a3/ZeXrMt7By/Jq7HoJUNngo7rgT96kUnkR7Ax0dubSzzNuotpUHQ I/sxVDwEa6usXNflSvZt3CVIkxM6jreL07cFMRXwoZPnteJcX1FGfGgWie5LAhDS2pjt8UsAMbt 17xHhwHmg4gKogq62Xm42NIdI90uxIqeKBdw+PrBsnHXUwVL3Wn6Y1If9+Tbg3TdV12ENNKsofk dIrqY0f2Q X-Google-Smtp-Source: AGHT+IHxaEnhZY6cIj5KfGozzPOMThE3iNswCtYnP2qzzAezlbo0ZyYv6IW9RwrAOOGaiF2nVqoNI3sLWe0b X-Received: by 2002:a05:6102:b14:b0:5db:27e9:934a with SMTP id ada2fe7eead31-5ddc4808d52mr1502485137.42.1762675470693; Sun, 09 Nov 2025 00:04:30 -0800 (PST) Received: from postal.iol.unh.edu (postal.iol.unh.edu. [2606:4100:3880:1234::84]) by smtp-relay.gmail.com with ESMTPS id ada2fe7eead31-5dda1d11997sm857561137.1.2025.11.09.00.04.30 (version=TLS1_2 cipher=ECDHE-ECDSA-AES128-GCM-SHA256 bits=128/128); Sun, 09 Nov 2025 00:04:30 -0800 (PST) X-Relaying-Domain: iol.unh.edu Date: Sun, 09 Nov 2025 00:04:30 -0800 (PST) Message-ID: <69104b0e.050a0220.25b8a3.c2eaSMTPIN_ADDED_MISSING@mx.google.com> Received: from [172.21.0.2] (unknown [172.18.0.240]) by postal.iol.unh.edu (Postfix) with ESMTP id 3EA2460003E7; Sun, 9 Nov 2025 03:04:30 -0500 (EST) Subject: |SUCCESS| [GIT MASTER] 0bd935abcb823f581ce53986986aa54eaf6f8140 From: dpdklab@iol.unh.edu To: Test Report Cc: dpdk-test-reports@iol.unh.edu, Xueming Li , Christian Ehrhardt , Kevin Traynor , Luca Boccassi Content-Type: text/plain X-BeenThere: test-report@dpdk.org X-Mailman-Version: 2.1.29 Precedence: list List-Id: automatic DPDK test reports List-Unsubscribe: , List-Archive: List-Post: List-Help: List-Subscribe: , Errors-To: test-report-bounces@dpdk.org _Testing PASS_ Branch: tags/v24.11 0bd935abcb823f581ce53986986aa54eaf6f8140 --> testing pass Upstream job id: Generic-Unit-Test-DPDK#390207 Test environment and result as below: +------------------------------+----------------+---------------------------+------------------------------+--------------+ | Environment | dpdk_unit_test | cryptodev_sw_zuc_autotest | cryptodev_sw_snow3g_autotest | lpm_autotest | +==============================+================+===========================+==============================+==============+ | CentOS Stream 9 | PASS | SKIPPED | SKIPPED | SKIPPED | +------------------------------+----------------+---------------------------+------------------------------+--------------+ | Ubuntu 20.04 | PASS | SKIPPED | SKIPPED | PASS | +------------------------------+----------------+---------------------------+------------------------------+--------------+ | Fedora Linux 41 | PASS | SKIPPED | SKIPPED | SKIPPED | +------------------------------+----------------+---------------------------+------------------------------+--------------+ | Fedora Linux 42 | PASS | SKIPPED | SKIPPED | SKIPPED | +------------------------------+----------------+---------------------------+------------------------------+--------------+ | Debian GNU/Linux 12 | PASS | SKIPPED | SKIPPED | SKIPPED | +------------------------------+----------------+---------------------------+------------------------------+--------------+ | Fedora Linux 40 | PASS | SKIPPED | SKIPPED | SKIPPED | +------------------------------+----------------+---------------------------+------------------------------+--------------+ | Ubuntu 24.04 | PASS | SKIPPED | SKIPPED | SKIPPED | +------------------------------+----------------+---------------------------+------------------------------+--------------+ | Red Hat Enterprise Linux 9.5 | PASS | SKIPPED | SKIPPED | SKIPPED | +------------------------------+----------------+---------------------------+------------------------------+--------------+ | CentOS Stream 10 | PASS | SKIPPED | SKIPPED | SKIPPED | +------------------------------+----------------+---------------------------+------------------------------+--------------+ | Ubuntu 22.04 | PASS | SKIPPED | SKIPPED | SKIPPED | +------------------------------+----------------+---------------------------+------------------------------+--------------+ | Debian 12 (arm) | SKIPPED | PASS | PASS | SKIPPED | +------------------------------+----------------+---------------------------+------------------------------+--------------+ CentOS Stream 9 Kernel: 5.4 Compiler: gcc gcc (GCC) 11.5.0 20240719 (Red Hat 11.5.0-11) Ubuntu 20.04 Kernel: 5.4 Compiler: gcc gcc (Ubuntu 9.4.0-1ubuntu1~20.04.2) 9.4.0 Fedora Linux 41 Kernel: 5.4 Compiler: clang gcc (GCC) 14.3.1 20250523 (Red Hat 14.3.1-1) Fedora Linux 42 Kernel: 5.4 Compiler: clang gcc (GCC) 15.2.1 20250808 (Red Hat 15.2.1-1) Debian GNU/Linux 12 Kernel: 5.4 Compiler: gcc gcc (Debian 12.2.0-14+deb12u1) 12.2.0 Fedora Linux 40 Kernel: 5.4 Compiler: clang gcc (GCC) 14.2.1 20240912 (Red Hat 14.2.1-3) Ubuntu 24.04 Kernel: 5.4 Compiler: gcc gcc (Ubuntu 13.3.0-6ubuntu2~24.04) 13.3.0 Red Hat Enterprise Linux 9.5 Kernel: 5.4 Compiler: gcc gcc (GCC) 11.5.0 20240719 (Red Hat 11.5.0-2) CentOS Stream 10 Kernel: 5.4 Compiler: gcc gcc (GCC) 14.2.1 20250110 (Red Hat 14.2.1-8) Ubuntu 22.04 Kernel: 5.4 Compiler: gcc gcc (Ubuntu 11.4.0-1ubuntu1~22.04) 11.4.0 Debian 12 (arm) Kernel: Depends on container host Compiler: gcc (Debian 12.2.0-14) 12.2.0 To view detailed results, visit: https://lab.dpdk.org/results/dashboard/tarballs/35512/ UNH-IOL DPDK Community Lab To manage your email subscriptions, visit: https://lab.dpdk.org/results/dashboard/preferences/subscriptions/