From mboxrd@z Thu Jan 1 00:00:00 1970 Return-Path: Received: from mails.dpdk.org (mails.dpdk.org [217.70.189.124]) by inbox.dpdk.org (Postfix) with ESMTP id AEEAE48AC0 for ; Sun, 9 Nov 2025 10:23:13 +0100 (CET) Received: from mails.dpdk.org (localhost [127.0.0.1]) by mails.dpdk.org (Postfix) with ESMTP id 7B180402B2; Sun, 9 Nov 2025 10:23:13 +0100 (CET) Received: from mail-pl1-f225.google.com (mail-pl1-f225.google.com [209.85.214.225]) by mails.dpdk.org (Postfix) with ESMTP id 2D7E34026D for ; Sun, 9 Nov 2025 10:23:12 +0100 (CET) Received: by mail-pl1-f225.google.com with SMTP id d9443c01a7336-295548467c7so21644315ad.2 for ; Sun, 09 Nov 2025 01:23:12 -0800 (PST) DKIM-Signature: v=1; a=rsa-sha256; c=relaxed/relaxed; d=iol.unh.edu; s=unh-iol; t=1762680191; x=1763284991; darn=dpdk.org; h=cc:to:from:subject:message-id:date:from:to:cc:subject:date :message-id:reply-to; bh=hGEB3IWfdi7GLUVfOjNJLtUdybWsFvfGTuEzN4bT5ZY=; b=LmZaM22NGFM5mzQy6n5PYmH2g0FIeOIGkO041DOXfBsqBEkImdUT6qHY9mvroxq+Jo +oSsZ2+gNRibI7+B5XDVXRI+3+OJKMBSJJIX8PzCXY6D9oabBZcXvI0XLO/UTGBDrzrv SbJ5Xdevcvg4JPtlov7JFf/Qou2IVfPIG4AoU= X-Google-DKIM-Signature: v=1; a=rsa-sha256; c=relaxed/relaxed; d=1e100.net; s=20230601; t=1762680191; x=1763284991; h=cc:to:from:subject:message-id:date:x-gm-gg:x-gm-message-state:from :to:cc:subject:date:message-id:reply-to; bh=hGEB3IWfdi7GLUVfOjNJLtUdybWsFvfGTuEzN4bT5ZY=; b=Gozyx2sxYZgLMBTVdyzMoyvy5FrWgfRwtypRZ2nqvG/iXPSxLJ3O1SEJBTAzE9v6vD voU4Dp98MxRjExHO+WbjotrJ9uEk9Wq37w1LEkWGpDyc+RoL+Gxy5UH08+4M2/DuwroA L1Qol1tSQblvGMVDjQOLk4SAe5a/hIj3eTpQYG4y8ib6wClZig1QYsmw8DZFZvaYP9Hg amlyiYXjvEIUD8UVHAfRAzwEvS3LLCeENkmULJXz9pzc2Y4lII5nOZQS5gz19bCB1JMN LEdWhwH2V3IIeWIgzH9yYtg5MdEiwS/X+1BdNziuTtdLvk3R+A8wAXlcrI7Q7W5Rrp6B UVoA== X-Gm-Message-State: AOJu0YyvmTeHq5n6WTWSQzCcE6FNTSf8J4c0Aw0a5QCY9Ckorm0f/CtV bggKiptGsELfvDxtTOnTrh+Cglwof3Ilp+4gfFBF73UqhvKYqesA6d4MjSoCIcX0K7ZTu0bNAug M+ut6OrdlarnmHT4J8HVJuusjJfIfecR/PTVYW8LFDsm3wxlYV945 X-Gm-Gg: ASbGncsBpZmxGobSBWS645C/YLJRftoJHVUNtcS1asha7H9YLopqBiblLaXVdnBMa6b /vmCmEZelU0k3tueVGlwkovRyjNU9M2ZeFoaXEQ0joWtDd8g7Z2WVMU7F5wPpow0yKxMZ6QkYD4 Hhu9nfUfqi7DWzUNAb9nKSPLiH2dega5sIXp0jF6Ak5hSNllSZKmelIXv2uJEie01u22HZAWX81 4QYq2dsOOtmGzGNl80wYVwhA9n9KYNxlwgPvautAzcX1Rj5/zGV6jC3SFpovEJ1r+qcm2rmbtzq Oi+r8C9IJ8UsxPtgKU4z0kEMB3aZowcZpAsPyRPZsqovUsi0phEAzAlNPI9JGRIX319nmnxSvrV l2bCKhvwE X-Google-Smtp-Source: AGHT+IEha7Gyzid/sXsh1B1FxliXe19mnpitNFvpAFKt+rM0IcylWHZeBJdoY/tu0WnZlTWaSTlF7TIj5wqw X-Received: by 2002:a17:903:8c7:b0:297:fbff:fab8 with SMTP id d9443c01a7336-297fbfffca0mr34205945ad.21.1762680191228; Sun, 09 Nov 2025 01:23:11 -0800 (PST) Received: from postal.iol.unh.edu (postal.iol.unh.edu. [2606:4100:3880:1234::84]) by smtp-relay.gmail.com with ESMTPS id d9443c01a7336-29651c6a5cbsm10804165ad.33.2025.11.09.01.23.11 (version=TLS1_2 cipher=ECDHE-ECDSA-AES128-GCM-SHA256 bits=128/128); Sun, 09 Nov 2025 01:23:11 -0800 (PST) X-Relaying-Domain: iol.unh.edu Date: Sun, 09 Nov 2025 01:23:11 -0800 (PST) Message-ID: <69105d7f.170a0220.107448.8070SMTPIN_ADDED_MISSING@mx.google.com> Received: from [172.21.0.3] (unknown [172.18.0.240]) by postal.iol.unh.edu (Postfix) with ESMTP id 70A0E60003F4; Sun, 9 Nov 2025 04:23:10 -0500 (EST) Subject: |SUCCESS| [GIT MASTER] 9784db2c5af1eecd02fc21132b59b5b266039b87 From: dpdklab@iol.unh.edu To: Test Report Cc: dpdk-test-reports@iol.unh.edu, Xueming Li , Christian Ehrhardt , Kevin Traynor , Luca Boccassi Content-Type: text/plain X-BeenThere: test-report@dpdk.org X-Mailman-Version: 2.1.29 Precedence: list List-Id: automatic DPDK test reports List-Unsubscribe: , List-Archive: List-Post: List-Help: List-Subscribe: , Errors-To: test-report-bounces@dpdk.org _Testing PASS_ Branch: tags/v22.11 9784db2c5af1eecd02fc21132b59b5b266039b87 --> testing pass Upstream job id: Generic-DPDK-Compile-Meson#442264 Test environment and result as below: +------------------------------+--------------------+ | Environment | dpdk_meson_compile | +==============================+====================+ | Ubuntu 20.04 | PASS | +------------------------------+--------------------+ | Debian GNU/Linux 12 | PASS | +------------------------------+--------------------+ | Red Hat Enterprise Linux 9.5 | PASS | +------------------------------+--------------------+ | Fedora Linux 42 | PASS | +------------------------------+--------------------+ | CentOS Stream 9 | PASS | +------------------------------+--------------------+ | CentOS Stream 10 | PASS | +------------------------------+--------------------+ | Ubuntu 22.04 | PASS | +------------------------------+--------------------+ | Ubuntu 24.04 | PASS | +------------------------------+--------------------+ Ubuntu 20.04 Kernel: 5.15 Compiler: aarch64-linux-gnu-gcc gcc (Ubuntu 9.4.0-1ubuntu1~20.04.2) 9.4.0 Debian GNU/Linux 12 Kernel: 5.4 Compiler: gcc gcc (Debian 12.2.0-14+deb12u1) 12.2.0 Red Hat Enterprise Linux 9.5 Kernel: 5.4 Compiler: gcc gcc (GCC) 11.5.0 20240719 (Red Hat 11.5.0-2) Fedora Linux 42 Kernel: 5.4 Compiler: gcc gcc (GCC) 15.2.1 20250808 (Red Hat 15.2.1-1) CentOS Stream 9 Kernel: 5.4 Compiler: gcc gcc (GCC) 11.5.0 20240719 (Red Hat 11.5.0-11) CentOS Stream 10 Kernel: 5.4 Compiler: gcc gcc (GCC) 14.2.1 20250110 (Red Hat 14.2.1-8) Ubuntu 22.04 Kernel: 5.4 Compiler: gcc gcc (Ubuntu 11.4.0-1ubuntu1~22.04) 11.4.0 Ubuntu 24.04 Kernel: 5.4 Compiler: gcc gcc (Ubuntu 13.3.0-6ubuntu2~24.04) 13.3.0 To view detailed results, visit: https://lab.dpdk.org/results/dashboard/tarballs/35510/ UNH-IOL DPDK Community Lab To manage your email subscriptions, visit: https://lab.dpdk.org/results/dashboard/preferences/subscriptions/