From mboxrd@z Thu Jan 1 00:00:00 1970 Return-Path: Received: from mails.dpdk.org (mails.dpdk.org [217.70.189.124]) by inbox.dpdk.org (Postfix) with ESMTP id 6453248AC3 for ; Sun, 9 Nov 2025 16:26:48 +0100 (CET) Received: from mails.dpdk.org (localhost [127.0.0.1]) by mails.dpdk.org (Postfix) with ESMTP id 5D9F4400D5; Sun, 9 Nov 2025 16:26:48 +0100 (CET) Received: from mail-oa1-f99.google.com (mail-oa1-f99.google.com [209.85.160.99]) by mails.dpdk.org (Postfix) with ESMTP id 689CC400D5 for ; Sun, 9 Nov 2025 16:26:46 +0100 (CET) Received: by mail-oa1-f99.google.com with SMTP id 586e51a60fabf-3c9991e6ad1so1341757fac.0 for ; Sun, 09 Nov 2025 07:26:46 -0800 (PST) DKIM-Signature: v=1; a=rsa-sha256; c=relaxed/relaxed; d=iol.unh.edu; s=unh-iol; t=1762702005; x=1763306805; darn=dpdk.org; h=references:in-reply-to:cc:to:from:subject:message-id:date:from:to :cc:subject:date:message-id:reply-to; bh=z7I32mFo37KXGfBXh5aNwv5EjEizxDCB6k70wHqUYRI=; b=K4kz+hjY5EYx5ahBDfd9SbF0YWnLO7eHHE7OuuCYqG4frwIiXvs63D6XBcchJM1dva EWFdbjFnS/mVZP1gy4XsrrjzBYrbKug2+gbX8CmHBZZvmRu1Qn+hVfaTru9M9SanDkGN B+ffCFERolM3hWWzK6KXaJhChKUNgqAex41es= X-Google-DKIM-Signature: v=1; a=rsa-sha256; c=relaxed/relaxed; d=1e100.net; s=20230601; t=1762702005; x=1763306805; h=references:in-reply-to:cc:to:from:subject:message-id:date:x-gm-gg :x-gm-message-state:from:to:cc:subject:date:message-id:reply-to; bh=z7I32mFo37KXGfBXh5aNwv5EjEizxDCB6k70wHqUYRI=; b=unCJaMmXV5RQTrTIDZm00Umf2sZ/yETK9MP+NqBWBAQIpRHCWU/9BG8PuoimEmeG/b Pl5HIJ/qhimhBmpepOONf9sJPjk5LyI0SKZOAMEJ6AmJpqn80ilBk/A+ecW2fpG26FJ+ kjKDQpPnLtutE8VDgB1Os/i+xy6oJCy65RN0KRIu8LRxoJs7v1QhxmeL2Qb2tJPrIrYf DRQE+tZeVAMNGJGEGMyEv2GHWqB6o1B8mZkaggmH+KKFf0E5h3B75kj8WgVMLWdQ1QPK erSwFkuEIjx+VLYchQ6dNXZH9hkTzubdbrNH0gc89aPHxjeWRVEk/in2J3zhNhuQGPcK iIGQ== X-Gm-Message-State: AOJu0YzGC5pXy3N/6usR89cNUS1nTGM0LHu1h5QVexLkChhbjQTAMa3m Q9hMEMT9sUkCp/dR3qvSHb/9XklMOZ7WIfvNBNoe0gEF9h48zr+5p+VAnBn/TQLPJ+fEfQAu/Vp qYziwVqMzeT5q2rNXD+iauxbsvtQbbWSvzQrk0CRmqVX/LAwfuSzLGOcWXW/d X-Gm-Gg: ASbGncslktptZgUR9Svt4tKrlW1YBrBjtj0kyOmdoA6uFQdxlluNStqaL90aHmRY5xH YmI0SIL9DUbbW92lLZsJcuHnR+lhys7PU5SRYUZHR16fd/8G5qO/OoCC2kbA6Ho48kjqrMsW/2w 4FxhXjmbPiaqJAQuoywMnyTLN7nomEHZWBIMB0cNrps95beWe84oZVUzpudA4V6ZaNV64iD3HbT ecJUHi/5l29QRq27uLQCGGeK2iUzMQRINeLPsr2Qw8PgVy0ACT2njlu1usgwAt5y5wR4C5gBr+B W3Gxf/ehflqNMZAdR8M/gC3GrazvMXaBwI6mFj1bses1XnMsYyHuceVKgx5CFjEYxxFnk40Ak5I GPRnGoqYt X-Google-Smtp-Source: AGHT+IHpaKyAUE4dlkuUelzagTRBixdLxRA/cYt6qOplIzO0pK87BauqbfTPPOdkzOLSrJCfftyEZP3Jf1vV X-Received: by 2002:a05:6871:7b06:b0:314:faa7:931b with SMTP id 586e51a60fabf-3e42ad5349amr4293168fac.25.1762702005539; Sun, 09 Nov 2025 07:26:45 -0800 (PST) Received: from postal.iol.unh.edu (postal.iol.unh.edu. [2606:4100:3880:1234::84]) by smtp-relay.gmail.com with ESMTPS id 586e51a60fabf-3e7f0973c17sm60519fac.5.2025.11.09.07.26.45 (version=TLS1_2 cipher=ECDHE-ECDSA-AES128-GCM-SHA256 bits=128/128); Sun, 09 Nov 2025 07:26:45 -0800 (PST) X-Relaying-Domain: iol.unh.edu Date: Sun, 09 Nov 2025 07:26:45 -0800 (PST) Message-ID: <6910b2b5.050a0220.6fa05.3622SMTPIN_ADDED_MISSING@mx.google.com> Received: from [172.21.0.2] (unknown [172.18.0.240]) by postal.iol.unh.edu (Postfix) with ESMTP id 0E26F6051830; Sun, 9 Nov 2025 10:26:45 -0500 (EST) Subject: |SUCCESS| pw158618 [PATCH] [v2] vhost: fix use-after-free race durin From: dpdklab@iol.unh.edu To: Test Report Cc: dpdk-test-reports@iol.unh.edu, Chenbo Xia , Maxime Coquelin In-Reply-To: <20251109142636.225031-1-shperetz@nvidia.com> References: <20251109142636.225031-1-shperetz@nvidia.com> Content-Type: text/plain X-BeenThere: test-report@dpdk.org X-Mailman-Version: 2.1.29 Precedence: list List-Id: automatic DPDK test reports List-Unsubscribe: , List-Archive: List-Post: List-Help: List-Subscribe: , Errors-To: test-report-bounces@dpdk.org Test-Label: iol-unit-amd64-testing Test-Status: SUCCESS http://dpdk.org/patch/158618 _Testing PASS_ Submitter: Shani Peretz Date: Sunday, November 09 2025 14:26:36 DPDK git baseline: Repo:dpdk-next-virtio Branch: master CommitID:6b37c26a95388aa41bb5267c7c42f604fd571a38 158618 --> testing pass Upstream job id: Generic-VM-Unit-Test-DPDK#32407 Test environment and result as below: +-------------------------------+----------------+ | Environment | dpdk_unit_test | +===============================+================+ | Debian GNU/Linux 12 | PASS | +-------------------------------+----------------+ | Fedora Linux 42 | PASS | +-------------------------------+----------------+ | Fedora Linux 41 | PASS | +-------------------------------+----------------+ | Fedora Linux 40 | PASS | +-------------------------------+----------------+ | CentOS Stream 9 | PASS | +-------------------------------+----------------+ | Red Hat Enterprise Linux 8.10 | PASS | +-------------------------------+----------------+ | CentOS Stream 10 | PASS | +-------------------------------+----------------+ | Ubuntu 20.04 | PASS | +-------------------------------+----------------+ | Ubuntu 22.04 | PASS | +-------------------------------+----------------+ | Red Hat Enterprise Linux 9.5 | PASS | +-------------------------------+----------------+ | Ubuntu 24.04 | PASS | +-------------------------------+----------------+ | Windows Server 2022 | PASS | +-------------------------------+----------------+ Debian GNU/Linux 12 Kernel: 5.15 Compiler: gcc gcc (Debian 12.2.0-14+deb12u1) 12.2.0 Fedora Linux 42 Kernel: 5.15 Compiler: gcc gcc (GCC) 15.2.1 20250808 (Red Hat 15.2.1-1) Fedora Linux 41 Kernel: 5.15 Compiler: clang gcc (GCC) 14.3.1 20250523 (Red Hat 14.3.1-1) Fedora Linux 40 Kernel: 5.15 Compiler: clang gcc (GCC) 14.2.1 20240912 (Red Hat 14.2.1-3) CentOS Stream 9 Kernel: 5.15 Compiler: gcc gcc (GCC) 11.5.0 20240719 (Red Hat 11.5.0-11) Red Hat Enterprise Linux 8.10 Kernel: 5.15 Compiler: gcc gcc (GCC) 8.5.0 20210514 (Red Hat 8.5.0-22) CentOS Stream 10 Kernel: 5.15 Compiler: gcc gcc (GCC) 14.2.1 20250110 (Red Hat 14.2.1-8) Ubuntu 20.04 Kernel: 5.15 Compiler: gcc gcc (Ubuntu 9.4.0-1ubuntu1~20.04.2) 9.4.0 Ubuntu 22.04 Kernel: 5.15 Compiler: gcc gcc (Ubuntu 11.4.0-1ubuntu1~22.04) 11.4.0 Red Hat Enterprise Linux 9.5 Kernel: 5.15 Compiler: gcc gcc (GCC) 11.5.0 20240719 (Red Hat 11.5.0-2) Ubuntu 24.04 Kernel: 5.15 Compiler: gcc gcc (Ubuntu 13.3.0-6ubuntu2~24.04) 13.3.0 Windows Server 2022 Kernel: 10.0.20348.2031 Compiler: clang 15.0.7, gcc 14.1.0 (MinGW), and MSVC VS 19.39.33521 To view detailed results, visit: https://lab.dpdk.org/results/dashboard/patchsets/34513/ UNH-IOL DPDK Community Lab To manage your email subscriptions, visit: https://lab.dpdk.org/results/dashboard/preferences/subscriptions/