From mboxrd@z Thu Jan 1 00:00:00 1970 Return-Path: Received: from mails.dpdk.org (mails.dpdk.org [217.70.189.124]) by inbox.dpdk.org (Postfix) with ESMTP id 00DC348AC3 for ; Sun, 9 Nov 2025 16:31:39 +0100 (CET) Received: from mails.dpdk.org (localhost [127.0.0.1]) by mails.dpdk.org (Postfix) with ESMTP id DC150400D5; Sun, 9 Nov 2025 16:31:39 +0100 (CET) Received: from mail-qv1-f98.google.com (mail-qv1-f98.google.com [209.85.219.98]) by mails.dpdk.org (Postfix) with ESMTP id 88701400D5 for ; Sun, 9 Nov 2025 16:31:38 +0100 (CET) Received: by mail-qv1-f98.google.com with SMTP id 6a1803df08f44-88059c28da1so23602586d6.2 for ; Sun, 09 Nov 2025 07:31:38 -0800 (PST) DKIM-Signature: v=1; a=rsa-sha256; c=relaxed/relaxed; d=iol.unh.edu; s=unh-iol; t=1762702298; x=1763307098; darn=dpdk.org; h=references:in-reply-to:cc:to:from:subject:message-id:date:from:to :cc:subject:date:message-id:reply-to; bh=visMoXwJoYSCDNLHs7tXy2yFdY9FVokhZO67f9U+U0w=; b=PGkoGICDy7o8DMt8e5VvpYm/fUvoznA9/gMxnE9MKdfcPhskQy4kCoOKFyzZRAUfWS qkss3Qu/rSroFcsuHY1ENbJpS5dVBWx6fet/1HnL4qsWzge6lulBlzHjaqzZ/TB7V99P nGE5j+SLotdsLrb7y6Wzgnz4dbC9FIghpscp0= X-Google-DKIM-Signature: v=1; a=rsa-sha256; c=relaxed/relaxed; d=1e100.net; s=20230601; t=1762702298; x=1763307098; h=references:in-reply-to:cc:to:from:subject:message-id:date:x-gm-gg :x-gm-message-state:from:to:cc:subject:date:message-id:reply-to; bh=visMoXwJoYSCDNLHs7tXy2yFdY9FVokhZO67f9U+U0w=; b=jXAqmSmobSPhkw9WlHt9p3TklXS8mKej2NPw9l0itvOmizoHp+bYmXWiZbRAfDKQOB fZGpS9a2Zjcz++ulTwv4pZtLi79sDxS3rFeCIcN12Y9GnvnzazP8qexmrBM8fwxw+3ZP IAqLFLLArbY2mWisbY2YjCJ7JVsFyNjOoFk3AI5KrHYTOrY/9Uf1e72vOVYXyVt83XN5 GtS0SDXTOFCJoJiM+u2GD9fJb6T6f2N/bh/fKv/1IOrNt0sNn+L9Du+WT5ZrVtESRcW6 BDJcA6hFEyARz2xzchDB90kCHQaQpP2h7dl6NE71a/62qZUs3SwQG495wdXwG4absRV4 soiA== X-Gm-Message-State: AOJu0YwVitUP8UOHG23en+LSYkQFgdCDP8FW++hpxWOhj6a9owCs1BnT QUnIa1cx0gHXAG28iq8JHZN8OxdlR5xR5VwabkoUpnsEJXmD/O5mAaj9k+fHcEF3L7Uf9T/jrXX 6dKejx2F4EmnOczGBnyAdYjMpth3s5DLmw99ldIewQ5CPuMg3kE4XpnED9KXG X-Gm-Gg: ASbGncvNGg57pVoynHQYYXFwCCj/NcP2swuWN2oiuVNVYjnIZ9A5rZwXT52PVnrFwc5 KZD2UTcFXV+3u01I525DlFzpJ1R+++vmpmltjQCAnwv7La/pwdTjfeY95cRPOr5nG8QGF1eVB3+ LhrfiPCcf9GylJpWFQfYS2gm+5bDnbXfX35WWpZD5pECjfT0IKst+jm6jqvekN1DzvAKDN/jYAL Pu0NglU5K5ldR6t8FlveIYGc53dFgqkI4xDr++4tbMVg57NzWb72cakrf0RAsahOSSur2Bd3rFl gECJALa/qsxR9Y5GVVPfofTLEWcQBrD7suNCEem/1+binKR/dIInGyJeXt/Bc1dtGPbyugv13v+ ywSzcUvPY X-Google-Smtp-Source: AGHT+IExoExX0/nIzTMfuIjO8NvkNpWVjtwuzPajft8UtczgKO2IaxLBjc9RCXco7QX31U6s9SkC0DR28jCG X-Received: by 2002:a05:6214:cc4:b0:880:580e:b3e7 with SMTP id 6a1803df08f44-882386c8fafmr64897856d6.37.1762702297866; Sun, 09 Nov 2025 07:31:37 -0800 (PST) Received: from postal.iol.unh.edu (postal.iol.unh.edu. [2606:4100:3880:1234::84]) by smtp-relay.gmail.com with ESMTPS id 6a1803df08f44-88238992da2sm5725896d6.8.2025.11.09.07.31.37 (version=TLS1_2 cipher=ECDHE-ECDSA-AES128-GCM-SHA256 bits=128/128); Sun, 09 Nov 2025 07:31:37 -0800 (PST) X-Relaying-Domain: iol.unh.edu Date: Sun, 09 Nov 2025 07:31:37 -0800 (PST) Message-ID: <6910b3d9.050a0220.2b1107.cd24SMTPIN_ADDED_MISSING@mx.google.com> Received: from [172.21.0.2] (unknown [172.18.0.240]) by postal.iol.unh.edu (Postfix) with ESMTP id 668716051830; Sun, 9 Nov 2025 10:31:37 -0500 (EST) Subject: |SUCCESS| pw158618 [PATCH] [v2] vhost: fix use-after-free race durin From: dpdklab@iol.unh.edu To: Test Report Cc: dpdk-test-reports@iol.unh.edu, Chenbo Xia , Maxime Coquelin In-Reply-To: <20251109142636.225031-1-shperetz@nvidia.com> References: <20251109142636.225031-1-shperetz@nvidia.com> Content-Type: text/plain X-BeenThere: test-report@dpdk.org X-Mailman-Version: 2.1.29 Precedence: list List-Id: automatic DPDK test reports List-Unsubscribe: , List-Archive: List-Post: List-Help: List-Subscribe: , Errors-To: test-report-bounces@dpdk.org Test-Label: iol-compile-amd64-testing Test-Status: SUCCESS http://dpdk.org/patch/158618 _Testing PASS_ Submitter: Shani Peretz Date: Sunday, November 09 2025 14:26:36 DPDK git baseline: Repo:dpdk-next-virtio Branch: master CommitID:6b37c26a95388aa41bb5267c7c42f604fd571a38 158618 --> testing pass Upstream job id: Generic-DPDK-Compile-Meson#442292 Test environment and result as below: +-------------------------------+--------------------+------------------+-------------------+-------------------------+----------------------+ | Environment | dpdk_meson_compile | dpdk_compile_ovs | dpdk_msvc_compile | dpdk_llvm_clang_compile | dpdk_mingw64_compile | +===============================+====================+==================+===================+=========================+======================+ | CentOS Stream 10 | PASS | SKIPPED | SKIPPED | SKIPPED | SKIPPED | +-------------------------------+--------------------+------------------+-------------------+-------------------------+----------------------+ | FreeBSD 14.2 | PASS | SKIPPED | SKIPPED | SKIPPED | SKIPPED | +-------------------------------+--------------------+------------------+-------------------+-------------------------+----------------------+ | Debian GNU/Linux 12 | PASS | SKIPPED | SKIPPED | SKIPPED | SKIPPED | +-------------------------------+--------------------+------------------+-------------------+-------------------------+----------------------+ | Ubuntu 24.04 | PASS | PASS | SKIPPED | SKIPPED | SKIPPED | +-------------------------------+--------------------+------------------+-------------------+-------------------------+----------------------+ | openSUSE Leap 15.6 | PASS | SKIPPED | SKIPPED | SKIPPED | SKIPPED | +-------------------------------+--------------------+------------------+-------------------+-------------------------+----------------------+ | Ubuntu 20.04 | PASS | SKIPPED | SKIPPED | SKIPPED | SKIPPED | +-------------------------------+--------------------+------------------+-------------------+-------------------------+----------------------+ | Fedora Linux 42 | PASS | PASS | SKIPPED | SKIPPED | SKIPPED | +-------------------------------+--------------------+------------------+-------------------+-------------------------+----------------------+ | CentOS Stream 9 | PASS | SKIPPED | SKIPPED | SKIPPED | SKIPPED | +-------------------------------+--------------------+------------------+-------------------+-------------------------+----------------------+ | Red Hat Enterprise Linux 8.10 | PASS | SKIPPED | SKIPPED | SKIPPED | SKIPPED | +-------------------------------+--------------------+------------------+-------------------+-------------------------+----------------------+ | Red Hat Enterprise Linux 9.5 | PASS | SKIPPED | SKIPPED | SKIPPED | SKIPPED | +-------------------------------+--------------------+------------------+-------------------+-------------------------+----------------------+ | Ubuntu 22.04 | PASS | SKIPPED | SKIPPED | SKIPPED | SKIPPED | +-------------------------------+--------------------+------------------+-------------------+-------------------------+----------------------+ | Alpine Linux 3.22.0 | PASS | SKIPPED | SKIPPED | SKIPPED | SKIPPED | +-------------------------------+--------------------+------------------+-------------------+-------------------------+----------------------+ | Windows Server 2022 | SKIPPED | SKIPPED | PASS | PASS | PASS | +-------------------------------+--------------------+------------------+-------------------+-------------------------+----------------------+ CentOS Stream 10 Kernel: 5.15 Compiler: gcc gcc (GCC) 14.2.1 20250110 (Red Hat 14.2.1-8) FreeBSD 14.2 Kernel: 14.2-RELEASE Compiler: clang 18.1.6 Debian GNU/Linux 12 Kernel: 5.15 Compiler: gcc gcc (Debian 12.2.0-14+deb12u1) 12.2.0 Ubuntu 24.04 Kernel: 5.15 Compiler: gcc gcc (Ubuntu 13.3.0-6ubuntu2~24.04) 13.3.0 openSUSE Leap 15.6 Kernel: 5.15 Compiler: gcc gcc (SUSE Linux) 7.5.0 Ubuntu 20.04 Kernel: 5.15 Compiler: gcc gcc (Ubuntu 9.4.0-1ubuntu1~20.04.2) 9.4.0 Fedora Linux 42 Kernel: 5.15 Compiler: gcc gcc (GCC) 15.2.1 20250808 (Red Hat 15.2.1-1) CentOS Stream 9 Kernel: 5.15 Compiler: gcc gcc (GCC) 11.5.0 20240719 (Red Hat 11.5.0-11) Red Hat Enterprise Linux 8.10 Kernel: 5.15 Compiler: gcc gcc (GCC) 8.5.0 20210514 (Red Hat 8.5.0-22) Red Hat Enterprise Linux 9.5 Kernel: 5.15 Compiler: gcc gcc (GCC) 11.5.0 20240719 (Red Hat 11.5.0-2) Ubuntu 22.04 Kernel: 5.15 Compiler: gcc gcc (Ubuntu 11.4.0-1ubuntu1~22.04) 11.4.0 Alpine Linux 3.22.0 Kernel: 5.15 Compiler: gcc gcc (Alpine 14.2.0) 14.2.0 Windows Server 2022 Kernel: 10.0.20348.2031 Compiler: clang 15.0.7, gcc 14.1.0 (MinGW), and MSVC VS 19.39.33521 To view detailed results, visit: https://lab.dpdk.org/results/dashboard/patchsets/34513/ UNH-IOL DPDK Community Lab To manage your email subscriptions, visit: https://lab.dpdk.org/results/dashboard/preferences/subscriptions/