From mboxrd@z Thu Jan 1 00:00:00 1970 Return-Path: Received: from mails.dpdk.org (mails.dpdk.org [217.70.189.124]) by inbox.dpdk.org (Postfix) with ESMTP id 3D34648AC3 for ; Sun, 9 Nov 2025 16:33:45 +0100 (CET) Received: from mails.dpdk.org (localhost [127.0.0.1]) by mails.dpdk.org (Postfix) with ESMTP id 194D6400D5; Sun, 9 Nov 2025 16:33:45 +0100 (CET) Received: from mail-pg1-f226.google.com (mail-pg1-f226.google.com [209.85.215.226]) by mails.dpdk.org (Postfix) with ESMTP id 5F1D4400D5 for ; Sun, 9 Nov 2025 16:33:43 +0100 (CET) Received: by mail-pg1-f226.google.com with SMTP id 41be03b00d2f7-b62e7221351so1850033a12.1 for ; Sun, 09 Nov 2025 07:33:43 -0800 (PST) DKIM-Signature: v=1; a=rsa-sha256; c=relaxed/relaxed; d=iol.unh.edu; s=unh-iol; t=1762702422; x=1763307222; darn=dpdk.org; h=references:in-reply-to:cc:to:from:subject:message-id:date:from:to :cc:subject:date:message-id:reply-to; bh=MypbroWcElbS5ZNB3lQN75ptGipwNMVAwvBPWtahl00=; b=fLfUcw2L4EjEvPSe1YdW8+pBzVsjSRVkSO6xsvMb8Wsj5rxDu2cxG9OJ12DzX0lWEy gKQblsBfap1wAJW38WmFofs6J8BrOWm8/o/W5QMXj2LxpmBrypHoJRcVfmN6zqvoBNAs nvp8pD62RaOzXNTG5DwpkTk30V0/IbN+sp54s= X-Google-DKIM-Signature: v=1; a=rsa-sha256; c=relaxed/relaxed; d=1e100.net; s=20230601; t=1762702422; x=1763307222; h=references:in-reply-to:cc:to:from:subject:message-id:date:x-gm-gg :x-gm-message-state:from:to:cc:subject:date:message-id:reply-to; bh=MypbroWcElbS5ZNB3lQN75ptGipwNMVAwvBPWtahl00=; b=ooh7zW+N2lZGH0sjLis3UATzcbnN1CZQniQRg2leZ8WhDa56Q0QN55LshvvXhHC9ky 95jp6gi2OsgE5dsSAUFky7ioj102Rh3VDN1qJWs2UXujy0jiypCzmQW+Gw4pfu0gl+zT iMWaCVnBdUzYsFtshSfThOcHXFF9d/2FxA/p9uFkaj+pgrVkHp7oSk/KxKcrZ7nUUr9C 7g8jaJV2Dz+UJFUQEld6poS2iabRYR8/Ycokuczi2cJOqW4tMqfRpoVMDJ7f+67sDfoC wwHpe5w+aBinqMNdVYQ0tiVwueWhAo0ydq1mAD92/PeqRZ7wbV5LYPwE1xzohQ0p7jfP m/LA== X-Gm-Message-State: AOJu0Yzm/+iA5yoONfgDOaEhDJ1n8WHBs58sXXD2fB/dfGrmuyuSIbHb BaAJr2KuZbw1nV3TyGd0qjHG/4rbsNVa4WHlsFLZ9ebLjDRLbevD7TEwYQLLMhyovVyaLf0f+Zs mMDoolpyte1zt5Wf5gIoH6DfdKS5wcYgmfuJj9bWwquP9 X-Gm-Gg: ASbGnctNmIz2/lLaV8AeLzePO4HVaqo7FNyUaYnEL0OUMV+JTwsWwVU2bMWl+CmejWF gxLPdzMZ7yH6tw46Ht3WH4wN/UM0sZ/CRt0yvO6KiRzXeDB0DpGnJfjTDaUFT51oKXp8yekqWi+ iMVQslv8I+0nIwG9MqXFkD4G1289b0FCRKwiLPPPlaxhtd89Iv2cO2pykBL3G8njx/fye5WxQ/z q3Kg5m64BfE+hO+zf1TJFDyp+Va+JaekyyajzqFIO6mFrZ7Ef0o+fpQmZ8lWx8BfRVXSPsOWlvU LMEsU4otI9vKd1OHoPcFpICl5ClOxAfZyaN5NDsvr1TaaRJ0PZSgwn21wfuiVh+Eq+kHfvpTmBI ONUJ01Dw4rh8zInjVYVeJt8x4g3WtPys= X-Google-Smtp-Source: AGHT+IGTaVHtfqNaXic4R7SQplPI5D6NOSxvKl4h7P8LSaoTDPgW0HEcBuZCvoFbyDqYMXogV+IDYQ5EvZSj X-Received: by 2002:a17:903:1a0c:b0:297:fc22:3a9f with SMTP id d9443c01a7336-297fc223c26mr35209505ad.38.1762702422461; Sun, 09 Nov 2025 07:33:42 -0800 (PST) Received: from postal.iol.unh.edu (postal.iol.unh.edu. [132.177.123.84]) by smtp-relay.gmail.com with ESMTPS id d9443c01a7336-29651cc5d00sm10642665ad.63.2025.11.09.07.33.42 (version=TLS1_2 cipher=ECDHE-ECDSA-AES128-GCM-SHA256 bits=128/128); Sun, 09 Nov 2025 07:33:42 -0800 (PST) X-Relaying-Domain: iol.unh.edu Date: Sun, 09 Nov 2025 07:33:42 -0800 (PST) Message-ID: <6910b456.170a0220.31670c.6ce3SMTPIN_ADDED_MISSING@mx.google.com> Received: from [172.21.0.2] (unknown [172.18.0.240]) by postal.iol.unh.edu (Postfix) with ESMTP id B3B7F6051830; Sun, 9 Nov 2025 10:33:41 -0500 (EST) Subject: |SUCCESS| pw158618 [PATCH] [v2] vhost: fix use-after-free race durin From: dpdklab@iol.unh.edu To: Test Report Cc: dpdk-test-reports@iol.unh.edu, Chenbo Xia , Maxime Coquelin In-Reply-To: <20251109142636.225031-1-shperetz@nvidia.com> References: <20251109142636.225031-1-shperetz@nvidia.com> Content-Type: text/plain X-BeenThere: test-report@dpdk.org X-Mailman-Version: 2.1.29 Precedence: list List-Id: automatic DPDK test reports List-Unsubscribe: , List-Archive: List-Post: List-Help: List-Subscribe: , Errors-To: test-report-bounces@dpdk.org Test-Label: iol-unit-amd64-testing Test-Status: SUCCESS http://dpdk.org/patch/158618 _Testing PASS_ Submitter: Shani Peretz Date: Sunday, November 09 2025 14:26:36 DPDK git baseline: Repo:dpdk-next-virtio Branch: master CommitID:6b37c26a95388aa41bb5267c7c42f604fd571a38 158618 --> testing pass Upstream job id: Generic-VM-Unit-Test-DPDK#32408 Test environment and result as below: +-------------------------------+----------------+ | Environment | dpdk_unit_test | +===============================+================+ | Debian GNU/Linux 12 | PASS | +-------------------------------+----------------+ | Fedora Linux 42 | PASS | +-------------------------------+----------------+ | Fedora Linux 41 | PASS | +-------------------------------+----------------+ | Fedora Linux 40 | PASS | +-------------------------------+----------------+ | CentOS Stream 9 | PASS | +-------------------------------+----------------+ | Red Hat Enterprise Linux 8.10 | PASS | +-------------------------------+----------------+ | CentOS Stream 10 | PASS | +-------------------------------+----------------+ | Ubuntu 20.04 | PASS | +-------------------------------+----------------+ | Ubuntu 22.04 | PASS | +-------------------------------+----------------+ | Red Hat Enterprise Linux 9.5 | PASS | +-------------------------------+----------------+ | Ubuntu 24.04 | PASS | +-------------------------------+----------------+ | Windows Server 2022 | PASS | +-------------------------------+----------------+ Debian GNU/Linux 12 Kernel: 5.15 Compiler: gcc gcc (Debian 12.2.0-14+deb12u1) 12.2.0 Fedora Linux 42 Kernel: 5.15 Compiler: gcc gcc (GCC) 15.2.1 20250808 (Red Hat 15.2.1-1) Fedora Linux 41 Kernel: 5.15 Compiler: clang gcc (GCC) 14.3.1 20250523 (Red Hat 14.3.1-1) Fedora Linux 40 Kernel: 5.15 Compiler: clang gcc (GCC) 14.2.1 20240912 (Red Hat 14.2.1-3) CentOS Stream 9 Kernel: 5.15 Compiler: gcc gcc (GCC) 11.5.0 20240719 (Red Hat 11.5.0-11) Red Hat Enterprise Linux 8.10 Kernel: 5.15 Compiler: gcc gcc (GCC) 8.5.0 20210514 (Red Hat 8.5.0-22) CentOS Stream 10 Kernel: 5.15 Compiler: gcc gcc (GCC) 14.2.1 20250110 (Red Hat 14.2.1-8) Ubuntu 20.04 Kernel: 5.15 Compiler: gcc gcc (Ubuntu 9.4.0-1ubuntu1~20.04.2) 9.4.0 Ubuntu 22.04 Kernel: 5.15 Compiler: gcc gcc (Ubuntu 11.4.0-1ubuntu1~22.04) 11.4.0 Red Hat Enterprise Linux 9.5 Kernel: 5.15 Compiler: gcc gcc (GCC) 11.5.0 20240719 (Red Hat 11.5.0-2) Ubuntu 24.04 Kernel: 5.15 Compiler: gcc gcc (Ubuntu 13.3.0-6ubuntu2~24.04) 13.3.0 Windows Server 2022 Kernel: 10.0.20348.2031 Compiler: clang 15.0.7, gcc 14.1.0 (MinGW), and MSVC VS 19.39.33521 To view detailed results, visit: https://lab.dpdk.org/results/dashboard/patchsets/34513/ UNH-IOL DPDK Community Lab To manage your email subscriptions, visit: https://lab.dpdk.org/results/dashboard/preferences/subscriptions/