automatic DPDK test reports
 help / color / mirror / Atom feed
From: dpdklab@iol.unh.edu
To: Test Report <test-report@dpdk.org>
Cc: dpdk-test-reports@iol.unh.edu, Chenbo Xia <chenbox@nvidia.com>,
	Maxime Coquelin <maxime.coquelin@redhat.com>
Subject: |SUCCESS| pw158618 [PATCH] [v2] vhost: fix use-after-free race durin
Date: Sun, 09 Nov 2025 08:15:02 -0800 (PST)	[thread overview]
Message-ID: <6910be06.170a0220.994c7.a356SMTPIN_ADDED_MISSING@mx.google.com> (raw)
In-Reply-To: <20251109142636.225031-1-shperetz@nvidia.com>

Test-Label: iol-unit-arm64-testing
Test-Status: SUCCESS
http://dpdk.org/patch/158618

_Testing PASS_

Submitter: Shani Peretz <shperetz@nvidia.com>
Date: Sunday, November 09 2025 14:26:36 
DPDK git baseline: Repo:dpdk-next-virtio
  Branch: master
  CommitID:6b37c26a95388aa41bb5267c7c42f604fd571a38

158618 --> testing pass

Upstream job id: Generic-Unit-Test-DPDK#390273

Test environment and result as below:

+------------------------------+----------------+------------------------------+---------------------------+--------------+
|         Environment          | dpdk_unit_test | cryptodev_sw_snow3g_autotest | cryptodev_sw_zuc_autotest | lpm_autotest |
+==============================+================+==============================+===========================+==============+
| CentOS Stream 10             | PASS           | SKIPPED                      | SKIPPED                   | SKIPPED      |
+------------------------------+----------------+------------------------------+---------------------------+--------------+
| Fedora Linux 42              | PASS           | SKIPPED                      | SKIPPED                   | SKIPPED      |
+------------------------------+----------------+------------------------------+---------------------------+--------------+
| Ubuntu 24.04                 | PASS           | SKIPPED                      | SKIPPED                   | SKIPPED      |
+------------------------------+----------------+------------------------------+---------------------------+--------------+
| Debian GNU/Linux 12          | PASS           | SKIPPED                      | SKIPPED                   | SKIPPED      |
+------------------------------+----------------+------------------------------+---------------------------+--------------+
| Fedora Linux 41              | PASS           | SKIPPED                      | SKIPPED                   | SKIPPED      |
+------------------------------+----------------+------------------------------+---------------------------+--------------+
| CentOS Stream 9              | PASS           | SKIPPED                      | SKIPPED                   | SKIPPED      |
+------------------------------+----------------+------------------------------+---------------------------+--------------+
| Ubuntu 20.04                 | PASS           | SKIPPED                      | SKIPPED                   | PASS         |
+------------------------------+----------------+------------------------------+---------------------------+--------------+
| Ubuntu 22.04                 | PASS           | SKIPPED                      | SKIPPED                   | SKIPPED      |
+------------------------------+----------------+------------------------------+---------------------------+--------------+
| Red Hat Enterprise Linux 9.5 | PASS           | SKIPPED                      | SKIPPED                   | SKIPPED      |
+------------------------------+----------------+------------------------------+---------------------------+--------------+
| Fedora Linux 40              | PASS           | SKIPPED                      | SKIPPED                   | SKIPPED      |
+------------------------------+----------------+------------------------------+---------------------------+--------------+
| Debian 12 (arm)              | SKIPPED        | PASS                         | PASS                      | SKIPPED      |
+------------------------------+----------------+------------------------------+---------------------------+--------------+


CentOS Stream 10
	Kernel: 5.4
	Compiler: gcc gcc (GCC) 14.2.1 20250110 (Red Hat 14.2.1-8)

Fedora Linux 42
	Kernel: 5.4
	Compiler: clang gcc (GCC) 15.2.1 20250808 (Red Hat 15.2.1-1)

Ubuntu 24.04
	Kernel: 5.4
	Compiler: gcc gcc (Ubuntu 13.3.0-6ubuntu2~24.04) 13.3.0

Debian GNU/Linux 12
	Kernel: 5.4
	Compiler: gcc gcc (Debian 12.2.0-14+deb12u1) 12.2.0

Fedora Linux 41
	Kernel: 5.4
	Compiler: gcc gcc (GCC) 14.3.1 20250523 (Red Hat 14.3.1-1)

CentOS Stream 9
	Kernel: 5.4
	Compiler: gcc gcc (GCC) 11.5.0 20240719 (Red Hat 11.5.0-11)

Ubuntu 20.04
	Kernel: 5.4
	Compiler: gcc gcc (Ubuntu 9.4.0-1ubuntu1~20.04.2) 9.4.0

Ubuntu 22.04
	Kernel: 5.4
	Compiler: gcc gcc (Ubuntu 11.4.0-1ubuntu1~22.04) 11.4.0

Red Hat Enterprise Linux 9.5
	Kernel: 5.4
	Compiler: gcc gcc (GCC) 11.5.0 20240719 (Red Hat 11.5.0-2)

Fedora Linux 40
	Kernel: 5.4
	Compiler: gcc gcc (GCC) 14.2.1 20240912 (Red Hat 14.2.1-3)

Debian 12 (arm)
	Kernel: Depends on container host
	Compiler: gcc (Debian 12.2.0-14) 12.2.0

To view detailed results, visit:
https://lab.dpdk.org/results/dashboard/patchsets/34513/

UNH-IOL DPDK Community Lab

To manage your email subscriptions, visit: 
https://lab.dpdk.org/results/dashboard/preferences/subscriptions/

  parent reply	other threads:[~2025-11-09 16:15 UTC|newest]

Thread overview: 25+ messages / expand[flat|nested]  mbox.gz  Atom feed  top
     [not found] <20251109142636.225031-1-shperetz@nvidia.com>
2025-11-09 13:52 ` |SUCCESS| pw158618 [PATCH v2] vhost: fix use-after-free race during cleanup qemudev
2025-11-09 13:57 ` qemudev
2025-11-09 14:27 ` |WARNING| " checkpatch
2025-11-09 14:53 ` |PENDING| pw158618 [PATCH] [v2] vhost: fix use-after-free race durin dpdklab
2025-11-09 14:54 ` dpdklab
2025-11-09 14:54 ` |SUCCESS| " dpdklab
2025-11-09 14:54 ` |PENDING| " dpdklab
2025-11-09 14:59 ` |SUCCESS| " dpdklab
2025-11-09 15:00 ` |PENDING| " dpdklab
2025-11-09 15:03 ` dpdklab
2025-11-09 15:11 ` |SUCCESS| " dpdklab
2025-11-09 15:14 ` dpdklab
2025-11-09 15:16 ` dpdklab
2025-11-09 15:16 ` dpdklab
2025-11-09 15:16 ` dpdklab
2025-11-09 15:25 ` dpdklab
2025-11-09 15:26 ` dpdklab
2025-11-09 15:28 ` |SUCCESS| pw158618 [PATCH v2] vhost: fix use-after-free race during cleanup 0-day Robot
2025-11-09 15:28 ` 0-day Robot
2025-11-09 15:31 ` |SUCCESS| pw158618 [PATCH] [v2] vhost: fix use-after-free race durin dpdklab
2025-11-09 15:33 ` dpdklab
2025-11-09 15:34 ` dpdklab
2025-11-09 15:39 ` dpdklab
2025-11-09 16:15 ` dpdklab [this message]
2025-11-09 18:07 ` dpdklab

Reply instructions:

You may reply publicly to this message via plain-text email
using any one of the following methods:

* Save the following mbox file, import it into your mail client,
  and reply-to-all from there: mbox

  Avoid top-posting and favor interleaved quoting:
  https://en.wikipedia.org/wiki/Posting_style#Interleaved_style

* Reply using the --to, --cc, and --in-reply-to
  switches of git-send-email(1):

  git send-email \
    --in-reply-to=6910be06.170a0220.994c7.a356SMTPIN_ADDED_MISSING@mx.google.com \
    --to=dpdklab@iol.unh.edu \
    --cc=chenbox@nvidia.com \
    --cc=dpdk-test-reports@iol.unh.edu \
    --cc=maxime.coquelin@redhat.com \
    --cc=test-report@dpdk.org \
    /path/to/YOUR_REPLY

  https://kernel.org/pub/software/scm/git/docs/git-send-email.html

* If your mail client supports setting the In-Reply-To header
  via mailto: links, try the mailto: link
Be sure your reply has a Subject: header at the top and a blank line before the message body.
This is a public inbox, see mirroring instructions
for how to clone and mirror all data and code used for this inbox;
as well as URLs for NNTP newsgroup(s).