From mboxrd@z Thu Jan 1 00:00:00 1970 Return-Path: Received: from mails.dpdk.org (mails.dpdk.org [217.70.189.124]) by inbox.dpdk.org (Postfix) with ESMTP id 78C1646D48 for ; Sun, 9 Nov 2025 17:15:05 +0100 (CET) Received: from mails.dpdk.org (localhost [127.0.0.1]) by mails.dpdk.org (Postfix) with ESMTP id 5A27D400D5; Sun, 9 Nov 2025 17:15:05 +0100 (CET) Received: from mail-pl1-f228.google.com (mail-pl1-f228.google.com [209.85.214.228]) by mails.dpdk.org (Postfix) with ESMTP id 3EF38400D5 for ; Sun, 9 Nov 2025 17:15:03 +0100 (CET) Received: by mail-pl1-f228.google.com with SMTP id d9443c01a7336-295548467c7so23325985ad.2 for ; Sun, 09 Nov 2025 08:15:03 -0800 (PST) DKIM-Signature: v=1; a=rsa-sha256; c=relaxed/relaxed; d=iol.unh.edu; s=unh-iol; t=1762704902; x=1763309702; darn=dpdk.org; h=references:in-reply-to:cc:to:from:subject:message-id:date:from:to :cc:subject:date:message-id:reply-to; bh=J/3GGwherQH8Ehm42IBbqXjYdErrx2nrOWkPc9w7kI4=; b=QxD5dNyUVbePRnz89Zzs97RZRq+Yj+0/5/BBIr9qFObWWutWf1pegx1087vvd4xpCr yEPEWCT45p1ZD4lHXqm7fHqOP2o31H1wZ+1iriRR8AZqmhFXwoxFgnfhqEyZvgbDjPFs POGSSjsmtS/86MWUq8H7UJ2QQX0CW1qs4Uf9E= X-Google-DKIM-Signature: v=1; a=rsa-sha256; c=relaxed/relaxed; d=1e100.net; s=20230601; t=1762704902; x=1763309702; h=references:in-reply-to:cc:to:from:subject:message-id:date:x-gm-gg :x-gm-message-state:from:to:cc:subject:date:message-id:reply-to; bh=J/3GGwherQH8Ehm42IBbqXjYdErrx2nrOWkPc9w7kI4=; b=hH+9NVmCJHDU8dr2QaTTclZs5vUe76wbKyzVUcoZ0cO6OQqvzLlU26JlhSlZjdeHEo G0ALSvIqnLUjsJ7NL+oghreSfSjRVBAST4ZTuE4vwwOM8nQInVep6diC1i0HlnaqB53l 9Du4JmcXDBROy63kSkdRmC+nP1RW+m+Y0xfudCljlCFivjTpO4mcJYk3B7oLe4nUfCDE IYTCj+QchJ1zrvUezumRwJ6odbkUogyKm0O6/fTQgmsNC0H9Bh/JBGkp3tfjAkfjiTXs qnMuvXnyfKz9k5DYn/QyBpG5KIymKRMs2TJNvYPNrxe+IaGAsfF8FXriSK1ae7j7uW/g oqdw== X-Gm-Message-State: AOJu0YyLRykpUsL0Wawvk0uvBbnhe08BAoKSkSd/oZ8cop3g1vVSuPxu MBHEC7kJ9c/VWe9vKv9C5fxB51yRhenr8e443Y06y98eo7J5twoX+hFqZSRBMkn+P6BCGhEoZsS RhuQsz3yvPkDpMpZNgtGWzS/nz7o6sgcKQcSD61d6V4xM X-Gm-Gg: ASbGncuPcEZIWR3pFR5PKLtmtjp91OLpclvqKLR9FhSsx6djeiFDupNpGNefeFUoIkz jSuJMzRMCDTnGwtyPKAtfQdC25JuThmYQbRQ5zbA5RyG4RwC4adLHnRaQGSnW5+KLqlDXNBZhQT ZoB+IKsAFZeyocTOh9Fa/ps7Va5pLY4h9K+o4Dt5qHPeLZHp/4mfZ43zsQEUWgVfS9Nn7C4k2+e Orl96/rvi+NPGZDsAfC7zMZdCOABWf1RjnSm6CjGYpTczDK38ZbCKBWn3pd5a7b/8fRKFuAPAjq FIeAISBpmtuFmBS0mVj2zJXsrI30ap1FwMOcd9lBtb85c9Hox7TxFc6i7qU+JRD0zk0teEWRZ/H BYFa1pujK8ezrcREQ3ztEbyWytLoQrOk= X-Google-Smtp-Source: AGHT+IENl+OpmnvWxjXyo5bodK1KeBTV5BTCJQcguG82EK1r83fZYZ32+rfBrjOg9x1YWkG4/68v53F1f/lW X-Received: by 2002:a17:902:e947:b0:267:a5df:9b07 with SMTP id d9443c01a7336-297e53e7303mr71340495ad.12.1762704902275; Sun, 09 Nov 2025 08:15:02 -0800 (PST) Received: from postal.iol.unh.edu (postal.iol.unh.edu. [132.177.123.84]) by smtp-relay.gmail.com with ESMTPS id d9443c01a7336-29650c5fce4sm10955895ad.22.2025.11.09.08.15.02 (version=TLS1_2 cipher=ECDHE-ECDSA-AES128-GCM-SHA256 bits=128/128); Sun, 09 Nov 2025 08:15:02 -0800 (PST) X-Relaying-Domain: iol.unh.edu Date: Sun, 09 Nov 2025 08:15:02 -0800 (PST) Message-ID: <6910be06.170a0220.994c7.a356SMTPIN_ADDED_MISSING@mx.google.com> Received: from [172.21.0.2] (unknown [172.18.0.240]) by postal.iol.unh.edu (Postfix) with ESMTP id 7A46160003F4; Sun, 9 Nov 2025 11:15:01 -0500 (EST) Subject: |SUCCESS| pw158618 [PATCH] [v2] vhost: fix use-after-free race durin From: dpdklab@iol.unh.edu To: Test Report Cc: dpdk-test-reports@iol.unh.edu, Chenbo Xia , Maxime Coquelin In-Reply-To: <20251109142636.225031-1-shperetz@nvidia.com> References: <20251109142636.225031-1-shperetz@nvidia.com> Content-Type: text/plain X-BeenThere: test-report@dpdk.org X-Mailman-Version: 2.1.29 Precedence: list List-Id: automatic DPDK test reports List-Unsubscribe: , List-Archive: List-Post: List-Help: List-Subscribe: , Errors-To: test-report-bounces@dpdk.org Test-Label: iol-unit-arm64-testing Test-Status: SUCCESS http://dpdk.org/patch/158618 _Testing PASS_ Submitter: Shani Peretz Date: Sunday, November 09 2025 14:26:36 DPDK git baseline: Repo:dpdk-next-virtio Branch: master CommitID:6b37c26a95388aa41bb5267c7c42f604fd571a38 158618 --> testing pass Upstream job id: Generic-Unit-Test-DPDK#390273 Test environment and result as below: +------------------------------+----------------+------------------------------+---------------------------+--------------+ | Environment | dpdk_unit_test | cryptodev_sw_snow3g_autotest | cryptodev_sw_zuc_autotest | lpm_autotest | +==============================+================+==============================+===========================+==============+ | CentOS Stream 10 | PASS | SKIPPED | SKIPPED | SKIPPED | +------------------------------+----------------+------------------------------+---------------------------+--------------+ | Fedora Linux 42 | PASS | SKIPPED | SKIPPED | SKIPPED | +------------------------------+----------------+------------------------------+---------------------------+--------------+ | Ubuntu 24.04 | PASS | SKIPPED | SKIPPED | SKIPPED | +------------------------------+----------------+------------------------------+---------------------------+--------------+ | Debian GNU/Linux 12 | PASS | SKIPPED | SKIPPED | SKIPPED | +------------------------------+----------------+------------------------------+---------------------------+--------------+ | Fedora Linux 41 | PASS | SKIPPED | SKIPPED | SKIPPED | +------------------------------+----------------+------------------------------+---------------------------+--------------+ | CentOS Stream 9 | PASS | SKIPPED | SKIPPED | SKIPPED | +------------------------------+----------------+------------------------------+---------------------------+--------------+ | Ubuntu 20.04 | PASS | SKIPPED | SKIPPED | PASS | +------------------------------+----------------+------------------------------+---------------------------+--------------+ | Ubuntu 22.04 | PASS | SKIPPED | SKIPPED | SKIPPED | +------------------------------+----------------+------------------------------+---------------------------+--------------+ | Red Hat Enterprise Linux 9.5 | PASS | SKIPPED | SKIPPED | SKIPPED | +------------------------------+----------------+------------------------------+---------------------------+--------------+ | Fedora Linux 40 | PASS | SKIPPED | SKIPPED | SKIPPED | +------------------------------+----------------+------------------------------+---------------------------+--------------+ | Debian 12 (arm) | SKIPPED | PASS | PASS | SKIPPED | +------------------------------+----------------+------------------------------+---------------------------+--------------+ CentOS Stream 10 Kernel: 5.4 Compiler: gcc gcc (GCC) 14.2.1 20250110 (Red Hat 14.2.1-8) Fedora Linux 42 Kernel: 5.4 Compiler: clang gcc (GCC) 15.2.1 20250808 (Red Hat 15.2.1-1) Ubuntu 24.04 Kernel: 5.4 Compiler: gcc gcc (Ubuntu 13.3.0-6ubuntu2~24.04) 13.3.0 Debian GNU/Linux 12 Kernel: 5.4 Compiler: gcc gcc (Debian 12.2.0-14+deb12u1) 12.2.0 Fedora Linux 41 Kernel: 5.4 Compiler: gcc gcc (GCC) 14.3.1 20250523 (Red Hat 14.3.1-1) CentOS Stream 9 Kernel: 5.4 Compiler: gcc gcc (GCC) 11.5.0 20240719 (Red Hat 11.5.0-11) Ubuntu 20.04 Kernel: 5.4 Compiler: gcc gcc (Ubuntu 9.4.0-1ubuntu1~20.04.2) 9.4.0 Ubuntu 22.04 Kernel: 5.4 Compiler: gcc gcc (Ubuntu 11.4.0-1ubuntu1~22.04) 11.4.0 Red Hat Enterprise Linux 9.5 Kernel: 5.4 Compiler: gcc gcc (GCC) 11.5.0 20240719 (Red Hat 11.5.0-2) Fedora Linux 40 Kernel: 5.4 Compiler: gcc gcc (GCC) 14.2.1 20240912 (Red Hat 14.2.1-3) Debian 12 (arm) Kernel: Depends on container host Compiler: gcc (Debian 12.2.0-14) 12.2.0 To view detailed results, visit: https://lab.dpdk.org/results/dashboard/patchsets/34513/ UNH-IOL DPDK Community Lab To manage your email subscriptions, visit: https://lab.dpdk.org/results/dashboard/preferences/subscriptions/