From mboxrd@z Thu Jan 1 00:00:00 1970 Return-Path: Received: from mails.dpdk.org (mails.dpdk.org [217.70.189.124]) by inbox.dpdk.org (Postfix) with ESMTP id 3F21846D48 for ; Sun, 9 Nov 2025 19:07:15 +0100 (CET) Received: from mails.dpdk.org (localhost [127.0.0.1]) by mails.dpdk.org (Postfix) with ESMTP id 1D1F5400D5; Sun, 9 Nov 2025 19:07:15 +0100 (CET) Received: from mail-il1-f228.google.com (mail-il1-f228.google.com [209.85.166.228]) by mails.dpdk.org (Postfix) with ESMTP id EBB4B400D5 for ; Sun, 9 Nov 2025 19:07:13 +0100 (CET) Received: by mail-il1-f228.google.com with SMTP id e9e14a558f8ab-4330dfb6ea3so9135735ab.0 for ; Sun, 09 Nov 2025 10:07:13 -0800 (PST) DKIM-Signature: v=1; a=rsa-sha256; c=relaxed/relaxed; d=iol.unh.edu; s=unh-iol; t=1762711633; x=1763316433; darn=dpdk.org; h=references:in-reply-to:cc:to:from:subject:message-id:date:from:to :cc:subject:date:message-id:reply-to; bh=MmgLU+JCjiL5b2yzZIeNeyy171mv89KTmDzmmRkeUr0=; b=i/MQijO8xrAk6JnMHx3Ai8hu8owXmxVnwnEJFq+rAhGAlBEBYRRFe0X/68xUafVQy8 laCCHjDnlTn0Lwtn3Rke4WWP+DFlrO1zZbmIEAczO66DKmdPaqEe+0Ruz8JHQf9Zj35a oxc5yIVNQjxvv53ExCwhz5w4sFvyIHLl6GMCw= X-Google-DKIM-Signature: v=1; a=rsa-sha256; c=relaxed/relaxed; d=1e100.net; s=20230601; t=1762711633; x=1763316433; h=references:in-reply-to:cc:to:from:subject:message-id:date:x-gm-gg :x-gm-message-state:from:to:cc:subject:date:message-id:reply-to; bh=MmgLU+JCjiL5b2yzZIeNeyy171mv89KTmDzmmRkeUr0=; b=CYzffCGkqnbe5hCFvUULu+A3RL1bOJk4nPNgzwmHiQWoETpROlgqhN2LrdnVZhZkyb UsfyrN4i8xotuYJG6HU9taF4CkKQwuYCFPUaQcXrqqWvGQp02szbWy9l8YulGNiG0g4Q cmCVRFSGw0JNSBWE3SgGmNEl61Gtv6Gc9KtkwLhUIegbDDcYYM9a6Eyx0GOWHHkXQDui Ff7xoLYwuUl4qwzFjOv45qm+QWdaztYl4FjxKnTiu/JF8V4WZrDY1n1I2vdyRQePay6B IpoDK9xAEUROk7mgX7TiHZS/PE5B6Pwz0d0zbFnm4GbzOLE503sWIqihqWBk9rQEQ3oQ G9SQ== X-Gm-Message-State: AOJu0YxNMhjyb9V+HZcTI62DTBSWhK0TywOB1Ax+Z7892uuJxHoWW+fI wp/Ij67ys/PWg9ChVC3UksqOVcvWPsXjheT3r9ywXhDc8mFQX2zSys5bUonIsCxCnncVoPk4eKK yKPJjYT/l5koTUFJadUsS7XDq9c5146ws8PmGvJ/Tawdh X-Gm-Gg: ASbGnct+SJKcEXN1CkLjBFzVQlRCiQJ6JO1FGucGPrZzv8zZmFLGwAYrtK6MVZocHd1 RvXP7TlamrP+TpPqU6OvcwgGU1yflIKXPrTYS0e9W9X+JLCM0KQkauy01Q4Kug5akAKel8Ti46O 5hkF51FNEe2C24khqMxJEGC+ge6uBNPP81ikgkwJ7IRglrIJozXpZjmgtnfTfUehpUK2POgA4yv vSvWQoxr24Ge51QOZtMKBa4k6X6rLk2997aCF5fkLvWoogKXwzPrfeL3BMx7Zk9H8HM9H+Bdj5p v1jY26GoZ5MZASKeYQOwvGdkc/PfpDhPdTUiNzpKRQpouUtfGTCDQJpSgnfsvzoiuCtU6UJax9t DAQceG7k7DEbQz9f1NHAIEJtWv/sIQ40= X-Google-Smtp-Source: AGHT+IF0dNvT2wJ2QTFXmSiRZkkTFHoFSEk/Fw0jlmrHTyujYeD7IJmc2y6466QuZB6lAZSpF0FCldrK8Fmz X-Received: by 2002:a05:6e02:330f:b0:433:7abd:96d0 with SMTP id e9e14a558f8ab-4337abd9a6cmr33063535ab.3.1762711633185; Sun, 09 Nov 2025 10:07:13 -0800 (PST) Received: from postal.iol.unh.edu (postal.iol.unh.edu. [132.177.123.84]) by smtp-relay.gmail.com with ESMTPS id 8926c6da1cb9f-5b76b85a5e7sm596675173.40.2025.11.09.10.07.13 (version=TLS1_2 cipher=ECDHE-ECDSA-AES128-GCM-SHA256 bits=128/128); Sun, 09 Nov 2025 10:07:13 -0800 (PST) X-Relaying-Domain: iol.unh.edu Date: Sun, 09 Nov 2025 10:07:13 -0800 (PST) Message-ID: <6910d851.050a0220.2c542d.f86fSMTPIN_ADDED_MISSING@mx.google.com> Received: from [172.21.0.2] (unknown [172.18.0.240]) by postal.iol.unh.edu (Postfix) with ESMTP id B0DBB6051830; Sun, 9 Nov 2025 13:07:12 -0500 (EST) Subject: |SUCCESS| pw158618 [PATCH] [v2] vhost: fix use-after-free race durin From: dpdklab@iol.unh.edu To: Test Report Cc: dpdk-test-reports@iol.unh.edu, Chenbo Xia , Maxime Coquelin In-Reply-To: <20251109142636.225031-1-shperetz@nvidia.com> References: <20251109142636.225031-1-shperetz@nvidia.com> Content-Type: text/plain X-BeenThere: test-report@dpdk.org X-Mailman-Version: 2.1.29 Precedence: list List-Id: automatic DPDK test reports List-Unsubscribe: , List-Archive: List-Post: List-Help: List-Subscribe: , Errors-To: test-report-bounces@dpdk.org Test-Label: iol-compile-arm64-testing Test-Status: SUCCESS http://dpdk.org/patch/158618 _Testing PASS_ Submitter: Shani Peretz Date: Sunday, November 09 2025 14:26:36 DPDK git baseline: Repo:dpdk-next-virtio Branch: master CommitID:6b37c26a95388aa41bb5267c7c42f604fd571a38 158618 --> testing pass Upstream job id: Generic-DPDK-Compile-Meson#442307 Test environment and result as below: +------------------------------+--------------------+ | Environment | dpdk_meson_compile | +==============================+====================+ | CentOS Stream 10 | PASS | +------------------------------+--------------------+ | Ubuntu 20.04 | PASS | +------------------------------+--------------------+ | Debian GNU/Linux 12 | PASS | +------------------------------+--------------------+ | Fedora Linux 42 | PASS | +------------------------------+--------------------+ | Red Hat Enterprise Linux 9.5 | PASS | +------------------------------+--------------------+ | Ubuntu 22.04 | PASS | +------------------------------+--------------------+ | CentOS Stream 9 | PASS | +------------------------------+--------------------+ | Ubuntu 24.04 | PASS | +------------------------------+--------------------+ CentOS Stream 10 Kernel: 5.4 Compiler: gcc gcc (GCC) 14.2.1 20250110 (Red Hat 14.2.1-8) Ubuntu 20.04 Kernel: 5.15 Compiler: gcc gcc (Ubuntu 9.4.0-1ubuntu1~20.04.2) 9.4.0 Debian GNU/Linux 12 Kernel: 5.4 Compiler: gcc gcc (Debian 12.2.0-14+deb12u1) 12.2.0 Fedora Linux 42 Kernel: 5.4 Compiler: clang gcc (GCC) 15.2.1 20250808 (Red Hat 15.2.1-1) Red Hat Enterprise Linux 9.5 Kernel: 5.4 Compiler: gcc gcc (GCC) 11.5.0 20240719 (Red Hat 11.5.0-2) Ubuntu 22.04 Kernel: 5.4 Compiler: gcc gcc (Ubuntu 11.4.0-1ubuntu1~22.04) 11.4.0 CentOS Stream 9 Kernel: 5.4 Compiler: gcc gcc (GCC) 11.5.0 20240719 (Red Hat 11.5.0-11) Ubuntu 24.04 Kernel: 5.4 Compiler: gcc gcc (Ubuntu 13.3.0-6ubuntu2~24.04) 13.3.0 To view detailed results, visit: https://lab.dpdk.org/results/dashboard/patchsets/34513/ UNH-IOL DPDK Community Lab To manage your email subscriptions, visit: https://lab.dpdk.org/results/dashboard/preferences/subscriptions/