From mboxrd@z Thu Jan 1 00:00:00 1970 Return-Path: Received: from mails.dpdk.org (mails.dpdk.org [217.70.189.124]) by inbox.dpdk.org (Postfix) with ESMTP id 1181248ABA for ; Sun, 9 Nov 2025 22:06:21 +0100 (CET) Received: from mails.dpdk.org (localhost [127.0.0.1]) by mails.dpdk.org (Postfix) with ESMTP id E6B2E400D6; Sun, 9 Nov 2025 22:06:20 +0100 (CET) Received: from mail-pl1-f225.google.com (mail-pl1-f225.google.com [209.85.214.225]) by mails.dpdk.org (Postfix) with ESMTP id 3FE50400D6 for ; Sun, 9 Nov 2025 22:06:19 +0100 (CET) Received: by mail-pl1-f225.google.com with SMTP id d9443c01a7336-295ceaf8dacso23935685ad.0 for ; Sun, 09 Nov 2025 13:06:19 -0800 (PST) DKIM-Signature: v=1; a=rsa-sha256; c=relaxed/relaxed; d=iol.unh.edu; s=unh-iol; t=1762722378; x=1763327178; darn=dpdk.org; h=references:in-reply-to:cc:to:from:subject:message-id:date:from:to :cc:subject:date:message-id:reply-to; bh=IdOGtZgVGSn5aExtk4flliBAFI3Ez98xkaSMsQU8aiQ=; b=NVsNzFylgRJnZNtAg0+JjhC09vTiJZgzTfM7wgU0Nd7hOs2nclk7RhMEcDOHopAaau Gl2ebehCQctY++/17dJQuvx5GYlA3dh+Nc1hKyAUkupC5SDoaLB4Zu7FwLvy6AN+EL9J Zi0/rKXhSyVAcxzR2ni0OTyePXqCJNk23zW2s= X-Google-DKIM-Signature: v=1; a=rsa-sha256; c=relaxed/relaxed; d=1e100.net; s=20230601; t=1762722378; x=1763327178; h=references:in-reply-to:cc:to:from:subject:message-id:date:x-gm-gg :x-gm-message-state:from:to:cc:subject:date:message-id:reply-to; bh=IdOGtZgVGSn5aExtk4flliBAFI3Ez98xkaSMsQU8aiQ=; b=F9ElOkNirGHNHAbos80iK8hZLEIZtHLbCCILLf/DSkGhgHCEio5WSG9ooVgWrM9vuY hg74pgBiUIk1z66WM+Yk6hZ/akY35j0q8wIbp1MX6sDYXxYvtDdJBwp/Ob9blsgAI1jm ShPkg5MJH2LTDy7KkaMkh7xHTGN5SB2ppvv5hsSxcHhGnFAlkUU6mEg3ErqE3VJK4/WA zzbw4ZW7HhgqNWEze07ornPbDvKg6q77WflfsFKln10FHsNtyH+ib/aTdtpbJvBGFbaM y79Ma9ddGc3GnBPzApBAyqjo73AtSrQij3LvLlqdV7SOnf2a4A1q4tCdBnsxmOxVZ91v +h+w== X-Gm-Message-State: AOJu0YzQusVZDqbIzInPkwzfzdVAgbieYqkVWXK2I7K+JUin83RUoxOm ZiuMnmE0pCcCKx1mlC27x2dgD1dJhwtOzspRAk9k4yNCnoy8eIKtwTeDdNH/s7EivOZbSgkq32P JRA9BxhUKu4r2N9prGd1B4Z2Dk4kSfQsdUnsDa24H2HY7 X-Gm-Gg: ASbGncvav/X5o2vS/ZdZqhlR6811BncxJ4n7aAcZQJf+iU5SZFrkgV1efh9lZxdYd2J txiFpEpqCUpOv5zahnlRqwDDPCQ3O2N2QDOoHlsijoJ+/9ypc6ys2GRoCigaPKzgN4Io4X2rH2U YzL0KHTdlLmpwKPEWABaHr7tZjUFQ64UlnDzBaWXo57IAR5gwrXWWOkYAXP6y1anwvi5BNVGeiw wQozQ/WwFvq5qSUg5jhvIAotATgu2vYuoz+8A3jOIilC48hh2ThBvITrzrVIYuO/QdYdQLrUsCt P/zrShml988ft2Fy3Cj/ne++cLLnvSsapWtg1qFW+VtJeKdgANMdj+/hemga9n3nDEG+J6QWc79 bTujckVrGhKaWVvk2T2OCGovKcZncEsw= X-Google-Smtp-Source: AGHT+IFAe8+KINby1l7hCNSX21jZUSifTktOpYIElettVkXSx7jpJIId6sUCbEnCnIGAGVpWpQzhon5vViCt X-Received: by 2002:a17:902:d485:b0:295:7b8c:6622 with SMTP id d9443c01a7336-297e5412e9emr72723565ad.11.1762722378283; Sun, 09 Nov 2025 13:06:18 -0800 (PST) Received: from postal.iol.unh.edu (postal.iol.unh.edu. [132.177.123.84]) by smtp-relay.gmail.com with ESMTPS id d9443c01a7336-29650c672e0sm11713345ad.26.2025.11.09.13.06.18 (version=TLS1_2 cipher=ECDHE-ECDSA-AES128-GCM-SHA256 bits=128/128); Sun, 09 Nov 2025 13:06:18 -0800 (PST) X-Relaying-Domain: iol.unh.edu Date: Sun, 09 Nov 2025 13:06:18 -0800 (PST) Message-ID: <6911024a.170a0220.14a9e2.e098SMTPIN_ADDED_MISSING@mx.google.com> Received: from [172.21.0.2] (unknown [172.18.0.240]) by postal.iol.unh.edu (Postfix) with ESMTP id BC9CC6051830; Sun, 9 Nov 2025 16:06:17 -0500 (EST) Subject: |SUCCESS| pw158619-158623 [PATCH] [v5,5/5] bpf: replace use of VLA From: dpdklab@iol.unh.edu To: Test Report Cc: dpdk-test-reports@iol.unh.edu In-Reply-To: <20251109200854.45942-6-stephen@networkplumber.org> References: <20251109200854.45942-6-stephen@networkplumber.org> Content-Type: text/plain X-BeenThere: test-report@dpdk.org X-Mailman-Version: 2.1.29 Precedence: list List-Id: automatic DPDK test reports List-Unsubscribe: , List-Archive: List-Post: List-Help: List-Subscribe: , Errors-To: test-report-bounces@dpdk.org Test-Label: iol-compile-amd64-testing Test-Status: SUCCESS http://dpdk.org/patch/158623 _Testing PASS_ Submitter: Stephen Hemminger Date: Sunday, November 09 2025 20:07:38 DPDK git baseline: Repo:dpdk Branch: master CommitID:8010858724e2aca25f4b3a6bf383e3eacb2f4b10 158619-158623 --> testing pass Upstream job id: Generic-DPDK-Compile-Meson#442319 Test environment and result as below: +-------------------------------+--------------------+------------------+-------------------------+-------------------+----------------------+ | Environment | dpdk_meson_compile | dpdk_compile_ovs | dpdk_llvm_clang_compile | dpdk_msvc_compile | dpdk_mingw64_compile | +===============================+====================+==================+=========================+===================+======================+ | Red Hat Enterprise Linux 8.10 | PASS | SKIPPED | SKIPPED | SKIPPED | SKIPPED | +-------------------------------+--------------------+------------------+-------------------------+-------------------+----------------------+ | CentOS Stream 9 | PASS | SKIPPED | SKIPPED | SKIPPED | SKIPPED | +-------------------------------+--------------------+------------------+-------------------------+-------------------+----------------------+ | Debian GNU/Linux 12 | PASS | SKIPPED | SKIPPED | SKIPPED | SKIPPED | +-------------------------------+--------------------+------------------+-------------------------+-------------------+----------------------+ | Fedora Linux 42 | PASS | PASS | SKIPPED | SKIPPED | SKIPPED | +-------------------------------+--------------------+------------------+-------------------------+-------------------+----------------------+ | openSUSE Leap 15.6 | PASS | SKIPPED | SKIPPED | SKIPPED | SKIPPED | +-------------------------------+--------------------+------------------+-------------------------+-------------------+----------------------+ | CentOS Stream 10 | PASS | SKIPPED | SKIPPED | SKIPPED | SKIPPED | +-------------------------------+--------------------+------------------+-------------------------+-------------------+----------------------+ | Ubuntu 20.04 | PASS | SKIPPED | SKIPPED | SKIPPED | SKIPPED | +-------------------------------+--------------------+------------------+-------------------------+-------------------+----------------------+ | Ubuntu 22.04 | PASS | SKIPPED | SKIPPED | SKIPPED | SKIPPED | +-------------------------------+--------------------+------------------+-------------------------+-------------------+----------------------+ | Ubuntu 24.04 | PASS | PASS | SKIPPED | SKIPPED | SKIPPED | +-------------------------------+--------------------+------------------+-------------------------+-------------------+----------------------+ | Red Hat Enterprise Linux 9.5 | PASS | SKIPPED | SKIPPED | SKIPPED | SKIPPED | +-------------------------------+--------------------+------------------+-------------------------+-------------------+----------------------+ | FreeBSD 14.2 | PASS | SKIPPED | SKIPPED | SKIPPED | SKIPPED | +-------------------------------+--------------------+------------------+-------------------------+-------------------+----------------------+ | Alpine Linux 3.22.0 | PASS | SKIPPED | SKIPPED | SKIPPED | SKIPPED | +-------------------------------+--------------------+------------------+-------------------------+-------------------+----------------------+ | Windows Server 2022 | SKIPPED | SKIPPED | PASS | PASS | PASS | +-------------------------------+--------------------+------------------+-------------------------+-------------------+----------------------+ Red Hat Enterprise Linux 8.10 Kernel: 5.15 Compiler: gcc gcc (GCC) 8.5.0 20210514 (Red Hat 8.5.0-22) CentOS Stream 9 Kernel: 5.15 Compiler: gcc gcc (GCC) 11.5.0 20240719 (Red Hat 11.5.0-11) Debian GNU/Linux 12 Kernel: 5.15 Compiler: gcc gcc (Debian 12.2.0-14+deb12u1) 12.2.0 Fedora Linux 42 Kernel: 5.15 Compiler: clang gcc (GCC) 15.2.1 20250808 (Red Hat 15.2.1-1) openSUSE Leap 15.6 Kernel: 5.15 Compiler: gcc gcc (SUSE Linux) 7.5.0 CentOS Stream 10 Kernel: 5.15 Compiler: gcc gcc (GCC) 14.2.1 20250110 (Red Hat 14.2.1-8) Ubuntu 20.04 Kernel: 5.15 Compiler: gcc gcc (Ubuntu 9.4.0-1ubuntu1~20.04.2) 9.4.0 Ubuntu 22.04 Kernel: 5.15 Compiler: gcc gcc (Ubuntu 11.4.0-1ubuntu1~22.04) 11.4.0 Ubuntu 24.04 Kernel: 5.15 Compiler: gcc gcc (Ubuntu 13.3.0-6ubuntu2~24.04) 13.3.0 Red Hat Enterprise Linux 9.5 Kernel: 5.15 Compiler: gcc gcc (GCC) 11.5.0 20240719 (Red Hat 11.5.0-2) FreeBSD 14.2 Kernel: 14.2-RELEASE Compiler: clang 18.1.6 Alpine Linux 3.22.0 Kernel: 5.15 Compiler: gcc gcc (Alpine 14.2.0) 14.2.0 Windows Server 2022 Kernel: 10.0.20348.2031 Compiler: clang 15.0.7, gcc 14.1.0 (MinGW), and MSVC VS 19.39.33521 To view detailed results, visit: https://lab.dpdk.org/results/dashboard/patchsets/34514/ UNH-IOL DPDK Community Lab To manage your email subscriptions, visit: https://lab.dpdk.org/results/dashboard/preferences/subscriptions/