From mboxrd@z Thu Jan 1 00:00:00 1970 Return-Path: Received: from mails.dpdk.org (mails.dpdk.org [217.70.189.124]) by inbox.dpdk.org (Postfix) with ESMTP id 846C948ABA for ; Sun, 9 Nov 2025 22:11:00 +0100 (CET) Received: from mails.dpdk.org (localhost [127.0.0.1]) by mails.dpdk.org (Postfix) with ESMTP id 61079400D6; Sun, 9 Nov 2025 22:11:00 +0100 (CET) Received: from mail-pl1-f228.google.com (mail-pl1-f228.google.com [209.85.214.228]) by mails.dpdk.org (Postfix) with ESMTP id B1021400D6 for ; Sun, 9 Nov 2025 22:10:58 +0100 (CET) Received: by mail-pl1-f228.google.com with SMTP id d9443c01a7336-29599f08202so30270485ad.3 for ; Sun, 09 Nov 2025 13:10:58 -0800 (PST) DKIM-Signature: v=1; a=rsa-sha256; c=relaxed/relaxed; d=iol.unh.edu; s=unh-iol; t=1762722658; x=1763327458; darn=dpdk.org; h=references:in-reply-to:cc:to:from:subject:message-id:date:from:to :cc:subject:date:message-id:reply-to; bh=vYWLn1hEop9Xuq1E2e0PuvDHqnuYKcx4PoMuu0boSOU=; b=YzuXX7tnOxJqu+kS4IKBRD0/Y7YQdCZOnpn4SuX+S6im5p//vi6OkoVpolQqwPGi0F RA2iMl2zRi1ddn2H0GH3QL31E7c6+2dbL6tY83CYCUlbrMxsStDMQDNrf6Q+I6VVwJKb uez4keiz/zmAKTu11nNo7hyZAUJyfdoCqjClA= X-Google-DKIM-Signature: v=1; a=rsa-sha256; c=relaxed/relaxed; d=1e100.net; s=20230601; t=1762722658; x=1763327458; h=references:in-reply-to:cc:to:from:subject:message-id:date:x-gm-gg :x-gm-message-state:from:to:cc:subject:date:message-id:reply-to; bh=vYWLn1hEop9Xuq1E2e0PuvDHqnuYKcx4PoMuu0boSOU=; b=cPSb6V7t94LzKr7TwpCoVjIjJcRNF8iPgP1Y28z7OrcYNS6Rr7aF8FMwWzeVxhOrYR 2jxMJnanGU4zaZYRu/A3CLuVlvZOTdSSIHo2GfRjdqQf8KUhqqntqC2ChMNySHuZVotY O6hitQhT5hEmAhJplmFydFXHV3vCJHPycERUJw1Q0N2CuwDoarBWR3K57N7ggF4QGOFI gJPfmRSEGiISRaVgo03lwQYjOQFucH0e5m34X83bETN9o3A0SwYvuIdbR4oIMlfPGyLa hUU840uzS74X5zHgzCyoalRW7ytddvZ/hswLLDFRm+Gog9OhCDQQDEWjtseWqWJqMF1S jncQ== X-Gm-Message-State: AOJu0YyXXqXprIm8m2p3mX/ZL4hBNiO+EzcSWhTPUMYNd7Ujr/ps01MY TnTIATRmhmFEIto2lsPSIiZObYqfch3Myaguvt+97I1KAOhEf0RqgltDFGwa4BmQJBdsyU6eFlp Lefn3r24X6uQFZjUalBoGvxyXoOY5Xola759x7vkrzWif X-Gm-Gg: ASbGncsVAPDssnagRfLOZR+41wcGYoQF8eUn64LQaOrE6YW0S4eozU036/eAtRKQM3O sbOtoLte8d2pOzroGNsEemoY7fW3a5DE8OwveqNdYv/3+3LuZ0JmJGStZ3Jb4SOxde5bdc/6YVV LelwW8ooIOKHyYlwOziFnwKDGMFfEOlf4uXoHxVgZZ+nLnOC25XTqXojZPrQ9yajthKP2q+xH4/ 7jMe7fbnDyrOmY6ytUUv+7530fuy32U9dQ551Y3Uw1mbgUy3KyyugV6Q9V28v8iViebiUHSch7x fxtk9OgYkWrxYKuTTqeWmF24OoaiEpCT2g+qRG7QW+cm3iNpzfqWdDY7ys9QugQqRj9ZhZX5RCE r6/z4IcgHQDcdUgVI6htB8t/KRxpxKyo= X-Google-Smtp-Source: AGHT+IFd5aVruF+ckc9UJIgOW0AG1QycImcOaansu9gX3xlF05MLbTWF6OzgKWwrus0FCl2QQl6QC2+L+1bS X-Received: by 2002:a17:902:cf04:b0:26b:da03:60db with SMTP id d9443c01a7336-297e5626565mr79943985ad.13.1762722657809; Sun, 09 Nov 2025 13:10:57 -0800 (PST) Received: from postal.iol.unh.edu (postal.iol.unh.edu. [132.177.123.84]) by smtp-relay.gmail.com with ESMTPS id d9443c01a7336-2965096eb49sm11639935ad.12.2025.11.09.13.10.57 (version=TLS1_2 cipher=ECDHE-ECDSA-AES128-GCM-SHA256 bits=128/128); Sun, 09 Nov 2025 13:10:57 -0800 (PST) X-Relaying-Domain: iol.unh.edu Date: Sun, 09 Nov 2025 13:10:57 -0800 (PST) Message-ID: <69110361.170a0220.344b65.4f80SMTPIN_ADDED_MISSING@mx.google.com> Received: from [172.21.0.2] (unknown [172.18.0.240]) by postal.iol.unh.edu (Postfix) with ESMTP id 0BAEC6051830; Sun, 9 Nov 2025 16:10:57 -0500 (EST) Subject: |SUCCESS| pw158619-158623 [PATCH] [v5,5/5] bpf: replace use of VLA From: dpdklab@iol.unh.edu To: Test Report Cc: dpdk-test-reports@iol.unh.edu In-Reply-To: <20251109200854.45942-6-stephen@networkplumber.org> References: <20251109200854.45942-6-stephen@networkplumber.org> Content-Type: text/plain X-BeenThere: test-report@dpdk.org X-Mailman-Version: 2.1.29 Precedence: list List-Id: automatic DPDK test reports List-Unsubscribe: , List-Archive: List-Post: List-Help: List-Subscribe: , Errors-To: test-report-bounces@dpdk.org Test-Label: iol-unit-amd64-testing Test-Status: SUCCESS http://dpdk.org/patch/158623 _Testing PASS_ Submitter: Stephen Hemminger Date: Sunday, November 09 2025 20:07:38 DPDK git baseline: Repo:dpdk Branch: master CommitID:8010858724e2aca25f4b3a6bf383e3eacb2f4b10 158619-158623 --> testing pass Upstream job id: Generic-Unit-Test-DPDK#390301 Test environment and result as below: +-------------------------------+----------------+ | Environment | dpdk_unit_test | +===============================+================+ | Ubuntu 22.04 | PASS | +-------------------------------+----------------+ | Fedora Linux 40 | PASS | +-------------------------------+----------------+ | Fedora Linux 41 | PASS | +-------------------------------+----------------+ | Fedora Linux 42 | PASS | +-------------------------------+----------------+ | CentOS Stream 10 | PASS | +-------------------------------+----------------+ | Red Hat Enterprise Linux 8.10 | PASS | +-------------------------------+----------------+ | Debian GNU/Linux 12 | PASS | +-------------------------------+----------------+ | Red Hat Enterprise Linux 9.5 | PASS | +-------------------------------+----------------+ | Ubuntu 24.04 | PASS | +-------------------------------+----------------+ | CentOS Stream 9 | PASS | +-------------------------------+----------------+ | Ubuntu 20.04 | PASS | +-------------------------------+----------------+ | Windows Server 2022 | PASS | +-------------------------------+----------------+ Ubuntu 22.04 Kernel: 5.15 Compiler: gcc gcc (Ubuntu 11.4.0-1ubuntu1~22.04) 11.4.0 Fedora Linux 40 Kernel: 5.15 Compiler: gcc gcc (GCC) 14.2.1 20240912 (Red Hat 14.2.1-3) Fedora Linux 41 Kernel: 5.15 Compiler: gcc gcc (GCC) 14.3.1 20250523 (Red Hat 14.3.1-1) Fedora Linux 42 Kernel: 5.15 Compiler: clang gcc (GCC) 15.2.1 20250808 (Red Hat 15.2.1-1) CentOS Stream 10 Kernel: 5.15 Compiler: gcc gcc (GCC) 14.2.1 20250110 (Red Hat 14.2.1-8) Red Hat Enterprise Linux 8.10 Kernel: 5.15 Compiler: gcc gcc (GCC) 8.5.0 20210514 (Red Hat 8.5.0-22) Debian GNU/Linux 12 Kernel: 5.15 Compiler: gcc gcc (Debian 12.2.0-14+deb12u1) 12.2.0 Red Hat Enterprise Linux 9.5 Kernel: 5.15 Compiler: gcc gcc (GCC) 11.5.0 20240719 (Red Hat 11.5.0-2) Ubuntu 24.04 Kernel: 5.15 Compiler: gcc gcc (Ubuntu 13.3.0-6ubuntu2~24.04) 13.3.0 CentOS Stream 9 Kernel: 5.15 Compiler: gcc gcc (GCC) 11.5.0 20240719 (Red Hat 11.5.0-11) Ubuntu 20.04 Kernel: 5.15 Compiler: gcc gcc (Ubuntu 9.4.0-1ubuntu1~20.04.2) 9.4.0 Windows Server 2022 Kernel: 10.0.20348.2031 Compiler: clang 15.0.7, gcc 14.1.0 (MinGW), and MSVC VS 19.39.33521 To view detailed results, visit: https://lab.dpdk.org/results/dashboard/patchsets/34514/ UNH-IOL DPDK Community Lab To manage your email subscriptions, visit: https://lab.dpdk.org/results/dashboard/preferences/subscriptions/