From mboxrd@z Thu Jan 1 00:00:00 1970 Return-Path: Received: from mails.dpdk.org (mails.dpdk.org [217.70.189.124]) by inbox.dpdk.org (Postfix) with ESMTP id A3EC548ABA for ; Sun, 9 Nov 2025 22:56:44 +0100 (CET) Received: from mails.dpdk.org (localhost [127.0.0.1]) by mails.dpdk.org (Postfix) with ESMTP id 80303400D6; Sun, 9 Nov 2025 22:56:44 +0100 (CET) Received: from mail-pg1-f225.google.com (mail-pg1-f225.google.com [209.85.215.225]) by mails.dpdk.org (Postfix) with ESMTP id 6B8D4400D6 for ; Sun, 9 Nov 2025 22:56:43 +0100 (CET) Received: by mail-pg1-f225.google.com with SMTP id 41be03b00d2f7-b556284db11so1876570a12.0 for ; Sun, 09 Nov 2025 13:56:43 -0800 (PST) DKIM-Signature: v=1; a=rsa-sha256; c=relaxed/relaxed; d=iol.unh.edu; s=unh-iol; t=1762725402; x=1763330202; darn=dpdk.org; h=references:in-reply-to:cc:to:from:subject:message-id:date:from:to :cc:subject:date:message-id:reply-to; bh=k03xnZ5vvIPqWS95W2lcUL5mVmFOtfNtpMzqCVjmXtI=; b=EAIz+7qfc0K0petX/dN3Fw5xfPNvG7KHtQB50DovXulgsij8viVErGw4jei5lBN4t2 9dgid63Xe3PaFXvX/ZQQ9BMLZeZ/7XQto9Ge/U52uk5ILL6FYC1AjVKQUfLwAgOPptqE cHeFlWbA5MMLuhsTPgoAAJR687mYFi5DdJrqI= X-Google-DKIM-Signature: v=1; a=rsa-sha256; c=relaxed/relaxed; d=1e100.net; s=20230601; t=1762725402; x=1763330202; h=references:in-reply-to:cc:to:from:subject:message-id:date:x-gm-gg :x-gm-message-state:from:to:cc:subject:date:message-id:reply-to; bh=k03xnZ5vvIPqWS95W2lcUL5mVmFOtfNtpMzqCVjmXtI=; b=hwiyOqPq+K1XmtH7eUlBjXeS4L1lAL7dMUK4Ak4jZwvrP4JKlN7RZbNdRFdMaajG8Q OkeMObrdLRuiIGePTrVUge0K1L3lH4DenB297P2CiZ9qoiKmEDseG9qph4dyZMwao0cB A3bOvp0dz5/hI9mdZw5wgS46NTMXbf8zPFqg/gr+zD+/YMCZ+vYOUq8XffIeEIvQX3qO 935zjvHmwbCJEUs5pI08ol5uavvbPu7LFco4yy9sGtOy56/TlQDIzg70QztBpe6lYTA5 GLleEpBWY4TLj16W4TjnHrV0JLeqfTbBECAb1OSMWBkOtJ0tS3+TFvADaHt8+JXCSo+3 IscQ== X-Gm-Message-State: AOJu0YwuKtrteOKg8juCWcjvTYQQo63Vr61Zi4ICXVpNVhdBKi7/qORb YPCHcQ40f5DWXEk/h2fOkFumsTJ547oJ/9DmSlhf0SSvRrHoKzsIL6zMDhb09jGxN8l1gS7ROo0 HPWNE1stNCJcLl6dDPVujVju3K060vPzBpbOH/Yj1aGjf X-Gm-Gg: ASbGncvg4aX4tTGpbacUdZcGKFgaOwlHgtIreps/+Uw/nm0iwCJb9J1aEa24l1r3y90 UnGtpSxapbqage9V2KyTeU/UPyx7vhBV6+e5WT/pa1tYxEg5M9vcfQCGrOxyeHqGH8AFVWTv5Jw huksSAA5jJ2NHQ/4uhcM9PYjK5CreWIX2TRyI1vPMAmSVTNpoShaxSA5T9VMD5LUOs7kQdSBP5g RE1i24AbGsomrhXDaakeS1IZM2DkTnf5pzAFf5pk+hooKj2osZ3azkKHLWgTGPy4DSl1MSqF2M4 /HtEeMsOHPt+Dp0Wf8K4ts6oPeLHKGg464W4t69+qNw1cOF22XF9Tnog0a9tJy1lERifBTdquqE 7qLhD5zO4IK8RrlNvyfUv7hdJE0Yt2p8= X-Google-Smtp-Source: AGHT+IEQX2AFnl9oKp7X19zUQ0QoMXF1/nNiLxBMQNuODHNjHcalh/f7PfnvYK1HhDu1ZIKxQ6utrUsvdWmW X-Received: by 2002:a17:903:2343:b0:273:ab5f:a507 with SMTP id d9443c01a7336-297e56355f1mr85189445ad.21.1762725402434; Sun, 09 Nov 2025 13:56:42 -0800 (PST) Received: from postal.iol.unh.edu (postal.iol.unh.edu. [132.177.123.84]) by smtp-relay.gmail.com with ESMTPS id d9443c01a7336-297ea618d56sm5444205ad.19.2025.11.09.13.56.42 (version=TLS1_2 cipher=ECDHE-ECDSA-AES128-GCM-SHA256 bits=128/128); Sun, 09 Nov 2025 13:56:42 -0800 (PST) X-Relaying-Domain: iol.unh.edu Date: Sun, 09 Nov 2025 13:56:42 -0800 (PST) Message-ID: <69110e1a.170a0220.37a9e9.baa2SMTPIN_ADDED_MISSING@mx.google.com> Received: from [172.21.0.2] (unknown [172.18.0.240]) by postal.iol.unh.edu (Postfix) with ESMTP id A0B836051830; Sun, 9 Nov 2025 16:56:41 -0500 (EST) Subject: |SUCCESS| pw158619-158623 [PATCH] [v5,5/5] bpf: replace use of VLA From: dpdklab@iol.unh.edu To: Test Report Cc: dpdk-test-reports@iol.unh.edu In-Reply-To: <20251109200854.45942-6-stephen@networkplumber.org> References: <20251109200854.45942-6-stephen@networkplumber.org> Content-Type: text/plain X-BeenThere: test-report@dpdk.org X-Mailman-Version: 2.1.29 Precedence: list List-Id: automatic DPDK test reports List-Unsubscribe: , List-Archive: List-Post: List-Help: List-Subscribe: , Errors-To: test-report-bounces@dpdk.org Test-Label: iol-unit-arm64-testing Test-Status: SUCCESS http://dpdk.org/patch/158623 _Testing PASS_ Submitter: Stephen Hemminger Date: Sunday, November 09 2025 20:07:38 DPDK git baseline: Repo:dpdk Branch: master CommitID:8010858724e2aca25f4b3a6bf383e3eacb2f4b10 158619-158623 --> testing pass Upstream job id: Generic-Unit-Test-DPDK#390310 Test environment and result as below: +------------------------------+--------------+---------------------------+------------------------------+----------------+ | Environment | lpm_autotest | cryptodev_sw_zuc_autotest | cryptodev_sw_snow3g_autotest | dpdk_unit_test | +==============================+==============+===========================+==============================+================+ | Ubuntu 20.04 | PASS | SKIPPED | SKIPPED | PASS | +------------------------------+--------------+---------------------------+------------------------------+----------------+ | Debian 12 (arm) | SKIPPED | PASS | PASS | SKIPPED | +------------------------------+--------------+---------------------------+------------------------------+----------------+ | Fedora Linux 40 | SKIPPED | SKIPPED | SKIPPED | PASS | +------------------------------+--------------+---------------------------+------------------------------+----------------+ | Red Hat Enterprise Linux 9.5 | SKIPPED | SKIPPED | SKIPPED | PASS | +------------------------------+--------------+---------------------------+------------------------------+----------------+ | CentOS Stream 9 | SKIPPED | SKIPPED | SKIPPED | PASS | +------------------------------+--------------+---------------------------+------------------------------+----------------+ | CentOS Stream 10 | SKIPPED | SKIPPED | SKIPPED | PASS | +------------------------------+--------------+---------------------------+------------------------------+----------------+ | Debian GNU/Linux 12 | SKIPPED | SKIPPED | SKIPPED | PASS | +------------------------------+--------------+---------------------------+------------------------------+----------------+ | Fedora Linux 42 | SKIPPED | SKIPPED | SKIPPED | PASS | +------------------------------+--------------+---------------------------+------------------------------+----------------+ | Ubuntu 22.04 | SKIPPED | SKIPPED | SKIPPED | PASS | +------------------------------+--------------+---------------------------+------------------------------+----------------+ | Fedora Linux 41 | SKIPPED | SKIPPED | SKIPPED | PASS | +------------------------------+--------------+---------------------------+------------------------------+----------------+ | Ubuntu 24.04 | SKIPPED | SKIPPED | SKIPPED | PASS | +------------------------------+--------------+---------------------------+------------------------------+----------------+ Ubuntu 20.04 Kernel: 5.4 Compiler: gcc gcc (Ubuntu 9.4.0-1ubuntu1~20.04.2) 9.4.0 Debian 12 (arm) Kernel: Depends on container host Compiler: gcc (Debian 12.2.0-14) 12.2.0 Fedora Linux 40 Kernel: 5.4 Compiler: clang gcc (GCC) 14.2.1 20240912 (Red Hat 14.2.1-3) Red Hat Enterprise Linux 9.5 Kernel: 5.4 Compiler: gcc gcc (GCC) 11.5.0 20240719 (Red Hat 11.5.0-2) CentOS Stream 9 Kernel: 5.4 Compiler: gcc gcc (GCC) 11.5.0 20240719 (Red Hat 11.5.0-11) CentOS Stream 10 Kernel: 5.4 Compiler: gcc gcc (GCC) 14.2.1 20250110 (Red Hat 14.2.1-8) Debian GNU/Linux 12 Kernel: 5.4 Compiler: gcc gcc (Debian 12.2.0-14+deb12u1) 12.2.0 Fedora Linux 42 Kernel: 5.4 Compiler: gcc gcc (GCC) 15.2.1 20250808 (Red Hat 15.2.1-1) Ubuntu 22.04 Kernel: 5.4 Compiler: gcc gcc (Ubuntu 11.4.0-1ubuntu1~22.04) 11.4.0 Fedora Linux 41 Kernel: 5.4 Compiler: clang gcc (GCC) 14.3.1 20250523 (Red Hat 14.3.1-1) Ubuntu 24.04 Kernel: 5.4 Compiler: gcc gcc (Ubuntu 13.3.0-6ubuntu2~24.04) 13.3.0 To view detailed results, visit: https://lab.dpdk.org/results/dashboard/patchsets/34514/ UNH-IOL DPDK Community Lab To manage your email subscriptions, visit: https://lab.dpdk.org/results/dashboard/preferences/subscriptions/