From mboxrd@z Thu Jan 1 00:00:00 1970 Return-Path: Received: from mails.dpdk.org (mails.dpdk.org [217.70.189.124]) by inbox.dpdk.org (Postfix) with ESMTP id 42F8F48ABA for ; Mon, 10 Nov 2025 00:56:40 +0100 (CET) Received: from mails.dpdk.org (localhost [127.0.0.1]) by mails.dpdk.org (Postfix) with ESMTP id 1C73C400D5; Mon, 10 Nov 2025 00:56:40 +0100 (CET) Received: from mail-io1-f98.google.com (mail-io1-f98.google.com [209.85.166.98]) by mails.dpdk.org (Postfix) with ESMTP id F3887400D5 for ; Mon, 10 Nov 2025 00:56:38 +0100 (CET) Received: by mail-io1-f98.google.com with SMTP id ca18e2360f4ac-948a4489a6dso21481239f.1 for ; Sun, 09 Nov 2025 15:56:38 -0800 (PST) DKIM-Signature: v=1; a=rsa-sha256; c=relaxed/relaxed; d=iol.unh.edu; s=unh-iol; t=1762732598; x=1763337398; darn=dpdk.org; h=references:in-reply-to:cc:to:from:subject:message-id:date:from:to :cc:subject:date:message-id:reply-to; bh=DboO6MTRaJ06vgAQW6XY8AlRqFuGUb5FpSndPfbtEVU=; b=QP6LkjEXiw+daE1AC+wpm6yynt3kfbWROoa7IPYb51Cp6MX1Vs3HevVSzl+62ABiDV paMhBjQ0GBV24UWP5O7A87Zrkvg9HOCtqRhrEXOIswPLcaDSVmcmcUVZdagrjmGb7A7X i88ZWGhSF/8VOCC5TAUGlSE0VsY7C2VQnFuFI= X-Google-DKIM-Signature: v=1; a=rsa-sha256; c=relaxed/relaxed; d=1e100.net; s=20230601; t=1762732598; x=1763337398; h=references:in-reply-to:cc:to:from:subject:message-id:date:x-gm-gg :x-gm-message-state:from:to:cc:subject:date:message-id:reply-to; bh=DboO6MTRaJ06vgAQW6XY8AlRqFuGUb5FpSndPfbtEVU=; b=GexDnwohgU2kss4OYjqktXLIt7i7Is3LcBwFQ3sj840VmAhiaatq8RhyRvJWOrEG5g ullG+PKaugTEjoizrWK43sQVJcaSBHsOp2Is3I+xGKW3P1YWSo5hG+tlz5P9jFpQdJG1 hOVgnlVEANu7O4qQRWb1gfgE/SENXssb/3topULuLm9ImeGasfPQI8qnbgmiPy8TXMJ2 TZkRCgGsKQlntpQrshm7VUwbReot+s2MTkVyEa9PtiGs/Go7l1S46vIVLrmjewrgL+BP KwFC9LiZLaZs/kZE/Is1vxndkxFSbGMYnba9yfNy+2T4b8D3MUhJsvVve4fSk3itlsBl 9Pbw== X-Gm-Message-State: AOJu0YxhHjRsyit3OPICh5ByRHm2L8AxsO+Y7d9L2/Hb8Ga29iQ/YvND HZSX7DL0s+CkcNA7R1EZO7yeVEBUZIbDEWaxJb3W5yyBPY+G680Ii4o3WWnBfAE8dJvdXFsHlxp MlOUa2m9VqSl7UF/4aG3UQtxZstZupKUEKAFS7oRGk1D4JuDoiWIv2SGcUSGt X-Gm-Gg: ASbGnctWJVMBFJEbim/ZY+N/SUjneIA71go1JrS6F3iwqQo3QEL4QQX2Q1ikA76dY+N w2AVkD1MUW+lfPDhncucxXxfIZAxFm011Wur+guHYk5gc0ss3b/tZFf8kzava6CFj6WQF8MYuNP /GY+KHXSGbBGzEzdDX38Q4j1sA3AJC7hMNiTlhCf3LTkODdNFTpy9nASXYywYw8esF8Uv/rg4oO LQCvLc3QzBbL2dNYst/WMa+3t4HOmDMazEtDWp+qZ8bZTYcHb9LlNSKmjXM+AYpkPMlcNAiFTSo T//uj3zkX3IS131ja77y5ZXQ6rfWcR5QYIzvTmCetwk7IrZoDCP6+6a09PHx+1A2ap1wZkS634p piE4pOjae X-Google-Smtp-Source: AGHT+IFW1EdiJNmCbMeoibrYJgis4rjYt/30F2yzZpb/FndRbnGorqYmmLJfx0VQzUCI0y7b83ZepxtjlIgN X-Received: by 2002:a05:6e02:184f:b0:433:7e25:b93d with SMTP id e9e14a558f8ab-4337e25ba8bmr26871975ab.28.1762732598249; Sun, 09 Nov 2025 15:56:38 -0800 (PST) Received: from postal.iol.unh.edu (postal.iol.unh.edu. [2606:4100:3880:1234::84]) by smtp-relay.gmail.com with ESMTPS id e9e14a558f8ab-4334f4c3d81sm9814625ab.28.2025.11.09.15.56.38 (version=TLS1_2 cipher=ECDHE-ECDSA-AES128-GCM-SHA256 bits=128/128); Sun, 09 Nov 2025 15:56:38 -0800 (PST) X-Relaying-Domain: iol.unh.edu Date: Sun, 09 Nov 2025 15:56:38 -0800 (PST) Message-ID: <69112a36.050a0220.294219.285dSMTPIN_ADDED_MISSING@mx.google.com> Received: from [172.21.0.2] (unknown [172.18.0.240]) by postal.iol.unh.edu (Postfix) with ESMTP id C127D6051830; Sun, 9 Nov 2025 18:56:37 -0500 (EST) Subject: |SUCCESS| pw158619-158623 [PATCH] [v5,5/5] bpf: replace use of VLA From: dpdklab@iol.unh.edu To: Test Report Cc: dpdk-test-reports@iol.unh.edu In-Reply-To: <20251109200854.45942-6-stephen@networkplumber.org> References: <20251109200854.45942-6-stephen@networkplumber.org> Content-Type: text/plain X-BeenThere: test-report@dpdk.org X-Mailman-Version: 2.1.29 Precedence: list List-Id: automatic DPDK test reports List-Unsubscribe: , List-Archive: List-Post: List-Help: List-Subscribe: , Errors-To: test-report-bounces@dpdk.org Test-Label: iol-compile-arm64-testing Test-Status: SUCCESS http://dpdk.org/patch/158623 _Testing PASS_ Submitter: Stephen Hemminger Date: Sunday, November 09 2025 20:07:38 DPDK git baseline: Repo:dpdk Branch: master CommitID:8010858724e2aca25f4b3a6bf383e3eacb2f4b10 158619-158623 --> testing pass Upstream job id: Generic-DPDK-Compile-Meson#442334 Test environment and result as below: +------------------------------+--------------------+ | Environment | dpdk_meson_compile | +==============================+====================+ | Ubuntu 20.04 | PASS | +------------------------------+--------------------+ | Fedora Linux 42 | PASS | +------------------------------+--------------------+ | Red Hat Enterprise Linux 9.5 | PASS | +------------------------------+--------------------+ | Debian GNU/Linux 12 | PASS | +------------------------------+--------------------+ | Ubuntu 22.04 | PASS | +------------------------------+--------------------+ | CentOS Stream 9 | PASS | +------------------------------+--------------------+ | Ubuntu 24.04 | PASS | +------------------------------+--------------------+ | CentOS Stream 10 | PASS | +------------------------------+--------------------+ Ubuntu 20.04 Kernel: 5.4 Compiler: gcc gcc (Ubuntu 9.4.0-1ubuntu1~20.04.2) 9.4.0 Fedora Linux 42 Kernel: 5.4 Compiler: clang gcc (GCC) 15.2.1 20250808 (Red Hat 15.2.1-1) Red Hat Enterprise Linux 9.5 Kernel: 5.4 Compiler: gcc gcc (GCC) 11.5.0 20240719 (Red Hat 11.5.0-2) Debian GNU/Linux 12 Kernel: 5.4 Compiler: gcc gcc (Debian 12.2.0-14+deb12u1) 12.2.0 Ubuntu 22.04 Kernel: 5.4 Compiler: gcc gcc (Ubuntu 11.4.0-1ubuntu1~22.04) 11.4.0 CentOS Stream 9 Kernel: 5.4 Compiler: gcc gcc (GCC) 11.5.0 20240719 (Red Hat 11.5.0-11) Ubuntu 24.04 Kernel: 5.4 Compiler: gcc gcc (Ubuntu 13.3.0-6ubuntu2~24.04) 13.3.0 CentOS Stream 10 Kernel: 5.4 Compiler: gcc gcc (GCC) 14.2.1 20250110 (Red Hat 14.2.1-8) To view detailed results, visit: https://lab.dpdk.org/results/dashboard/patchsets/34514/ UNH-IOL DPDK Community Lab To manage your email subscriptions, visit: https://lab.dpdk.org/results/dashboard/preferences/subscriptions/