From mboxrd@z Thu Jan 1 00:00:00 1970 Return-Path: Received: from mails.dpdk.org (mails.dpdk.org [217.70.189.124]) by inbox.dpdk.org (Postfix) with ESMTP id 112DA48AC3 for ; Mon, 10 Nov 2025 03:01:21 +0100 (CET) Received: from mails.dpdk.org (localhost [127.0.0.1]) by mails.dpdk.org (Postfix) with ESMTP id 8ACC5400D5; Mon, 10 Nov 2025 03:01:20 +0100 (CET) Received: from mail-qv1-f98.google.com (mail-qv1-f98.google.com [209.85.219.98]) by mails.dpdk.org (Postfix) with ESMTP id 3AF27400D5 for ; Mon, 10 Nov 2025 03:01:19 +0100 (CET) Received: by mail-qv1-f98.google.com with SMTP id 6a1803df08f44-882379c0b14so15483196d6.1 for ; Sun, 09 Nov 2025 18:01:19 -0800 (PST) DKIM-Signature: v=1; a=rsa-sha256; c=relaxed/relaxed; d=iol.unh.edu; s=unh-iol; t=1762740078; x=1763344878; darn=dpdk.org; h=cc:to:from:subject:message-id:date:from:to:cc:subject:date :message-id:reply-to; bh=j3jq1+6Yu9CbMoJaBG/Bte9Hk5cRT0wcZHca8jOaxMY=; b=h0AKPey3tZDRKDixokCHaJmcDS7ZhDXNJSnB3Yl5HnwGiJgmmqCtzEbMU00ZzcFgbV X4e9oUyyZxaBiMvYP7OlIhCigcAeJ8LPiNVL6NyJR4p/Hs+lgrPWje0rDN4fSg1dtvzO C8PzI648XOHdV2IDb0BfPigR1o0+BUNiFydqw= X-Google-DKIM-Signature: v=1; a=rsa-sha256; c=relaxed/relaxed; d=1e100.net; s=20230601; t=1762740078; x=1763344878; h=cc:to:from:subject:message-id:date:x-gm-gg:x-gm-message-state:from :to:cc:subject:date:message-id:reply-to; bh=j3jq1+6Yu9CbMoJaBG/Bte9Hk5cRT0wcZHca8jOaxMY=; b=ny20pW2H/1EykcX5RTYCZQSmwcX8nmlmw2v7tuI5JpwDHaCOSx2XBhX5x9iXvWkFR2 z3z8sPTA5OdX2m7xBqVo7IHUo0XA6uSnwqtWIfsdK3+5rCYXAMs/uuAv8QHoB2sSQvXN YXSHSJA3Hvt0T4xmUXDhlROG9qZ2jo4OZwTFR9rTl2wIrwnWEJOxOXcfDx0kZiN2yfhH 7opnwxM4yEYVJHfch5tJL3IL++DqqY5JhQKVRPp7NxEjPkAuxhCSFwi3qoMkr5gJ8zBK osj8bJ7246/ALCiQlvTY3as3g9Fg5dRzGyvYOIMz3BhY3VPcicfVfKBzkhQBru/njfIt xz4A== X-Gm-Message-State: AOJu0Ywd8dleFJpM+/z7DIQcjqn2d5SExh9mz4hXuiDewj2P6w9rn8F0 SbqaCic+oDq2JIIVmjSv2iKzur8zai6PBRAIpNFozaFjYYuHW8gxZQ6UB5M/I3UlTVWgoYST6BZ ezcg2BC1PP9rSeGOrMYaSaTe7Y2DS2WSPocfVLrMb4P0Q X-Gm-Gg: ASbGncsSQWa0QKjXVQavfhLom0eEKDMS9NBvnCXrxHwPYCgSchBJQ0D0XV5YsRHDXme dgwQxF6TzJVLaA5nUvsNGhusb3xsOZ/mO5dpQ6GGxbt6jN1PyR7sl9Wee0le9geRMyroaLrnrGT cmk7SfopZvoFSLn65JxOlXhtdLhoTfpc3hgAW33UOjBqHy4cU1ML7xnIgcdYC/ZfQjVT4BBbecK H1StfOMlW+lFu83ecGwr9XUupFKbmnGPAsH4iPtayjPWotSSS5w2vn0H0bAXak1lWr5zzETluE+ qk3WaDDaVTye2kBUaXFZLE6oWyzDR5NaPF9WqpgP3/oZk2AANpF/4qFBtGAjCmtNeyhYpnw9Z+T lYwxeDFz1MAYh2aFyCqEBxM6zad0H97Y= X-Google-Smtp-Source: AGHT+IE4mFHtdXFejLhzOgjocDeSyQfZqvJo07jVqdS9P7mK7jHo3mYiKRzigiPPHoZzeacdvXIyjFtRxI9M X-Received: by 2002:a05:6214:5784:b0:882:4643:b0b7 with SMTP id 6a1803df08f44-8824643b759mr44876126d6.27.1762740078267; Sun, 09 Nov 2025 18:01:18 -0800 (PST) Received: from postal.iol.unh.edu (postal.iol.unh.edu. [132.177.123.84]) by smtp-relay.gmail.com with ESMTPS id 6a1803df08f44-88238b62784sm7440386d6.27.2025.11.09.18.01.18 (version=TLS1_2 cipher=ECDHE-ECDSA-AES128-GCM-SHA256 bits=128/128); Sun, 09 Nov 2025 18:01:18 -0800 (PST) X-Relaying-Domain: iol.unh.edu Date: Sun, 09 Nov 2025 18:01:18 -0800 (PST) Message-ID: <6911476e.050a0220.2080f2.5fffSMTPIN_ADDED_MISSING@mx.google.com> Received: from [172.21.0.3] (unknown [172.18.0.240]) by postal.iol.unh.edu (Postfix) with ESMTP id 03D0B6051830; Sun, 9 Nov 2025 21:01:18 -0500 (EST) Subject: |SUCCESS| [GIT MASTER] 2e22572b9a6ce8bcdc0347313a35bb3066b0faff From: dpdklab@iol.unh.edu To: Test Report Cc: dpdk-test-reports@iol.unh.edu Content-Type: text/plain X-BeenThere: test-report@dpdk.org X-Mailman-Version: 2.1.29 Precedence: list List-Id: automatic DPDK test reports List-Unsubscribe: , List-Archive: List-Post: List-Help: List-Subscribe: , Errors-To: test-report-bounces@dpdk.org _Testing PASS_ Branch: dpdk 2e22572b9a6ce8bcdc0347313a35bb3066b0faff --> testing pass Upstream job id: Generic-DPDK-Compile-Meson#442355 Test environment and result as below: +-------------------------------+--------------------+-------------------+------------------+-------------------------+----------------------+ | Environment | dpdk_meson_compile | dpdk_msvc_compile | dpdk_compile_ovs | dpdk_llvm_clang_compile | dpdk_mingw64_compile | +===============================+====================+===================+==================+=========================+======================+ | FreeBSD 14.2 | PASS | SKIPPED | SKIPPED | SKIPPED | SKIPPED | +-------------------------------+--------------------+-------------------+------------------+-------------------------+----------------------+ | CentOS Stream 9 | PASS | SKIPPED | SKIPPED | SKIPPED | SKIPPED | +-------------------------------+--------------------+-------------------+------------------+-------------------------+----------------------+ | Ubuntu 20.04 | PASS | SKIPPED | SKIPPED | SKIPPED | SKIPPED | +-------------------------------+--------------------+-------------------+------------------+-------------------------+----------------------+ | Debian GNU/Linux 12 | PASS | SKIPPED | SKIPPED | SKIPPED | SKIPPED | +-------------------------------+--------------------+-------------------+------------------+-------------------------+----------------------+ | Ubuntu 22.04 | PASS | SKIPPED | SKIPPED | SKIPPED | SKIPPED | +-------------------------------+--------------------+-------------------+------------------+-------------------------+----------------------+ | Fedora Linux 42 | PASS | SKIPPED | PASS | SKIPPED | SKIPPED | +-------------------------------+--------------------+-------------------+------------------+-------------------------+----------------------+ | Red Hat Enterprise Linux 9.5 | PASS | SKIPPED | SKIPPED | SKIPPED | SKIPPED | +-------------------------------+--------------------+-------------------+------------------+-------------------------+----------------------+ | openSUSE Leap 15.6 | PASS | SKIPPED | SKIPPED | SKIPPED | SKIPPED | +-------------------------------+--------------------+-------------------+------------------+-------------------------+----------------------+ | CentOS Stream 10 | PASS | SKIPPED | SKIPPED | SKIPPED | SKIPPED | +-------------------------------+--------------------+-------------------+------------------+-------------------------+----------------------+ | Ubuntu 24.04 | PASS | SKIPPED | PASS | SKIPPED | SKIPPED | +-------------------------------+--------------------+-------------------+------------------+-------------------------+----------------------+ | Red Hat Enterprise Linux 8.10 | PASS | SKIPPED | SKIPPED | SKIPPED | SKIPPED | +-------------------------------+--------------------+-------------------+------------------+-------------------------+----------------------+ | Arch Linux 20250613.0.365270 | PASS | SKIPPED | SKIPPED | SKIPPED | SKIPPED | +-------------------------------+--------------------+-------------------+------------------+-------------------------+----------------------+ | Alpine Linux 3.22.0 | PASS | SKIPPED | SKIPPED | SKIPPED | SKIPPED | +-------------------------------+--------------------+-------------------+------------------+-------------------------+----------------------+ | Windows Server 2022 | SKIPPED | PASS | SKIPPED | PASS | PASS | +-------------------------------+--------------------+-------------------+------------------+-------------------------+----------------------+ FreeBSD 14.2 Kernel: 14.2-RELEASE Compiler: clang 18.1.6 CentOS Stream 9 Kernel: 5.15 Compiler: gcc gcc (GCC) 11.5.0 20240719 (Red Hat 11.5.0-11) Ubuntu 20.04 Kernel: 4.19 Compiler: gcc gcc (Ubuntu 9.4.0-1ubuntu1~20.04.2) 9.4.0 Debian GNU/Linux 12 Kernel: 5.15 Compiler: gcc gcc (Debian 12.2.0-14+deb12u1) 12.2.0 Ubuntu 22.04 Kernel: 5.15 Compiler: gcc gcc (Ubuntu 11.4.0-1ubuntu1~22.04) 11.4.0 Fedora Linux 42 Kernel: 5.15 Compiler: clang gcc (GCC) 15.2.1 20250808 (Red Hat 15.2.1-1) Red Hat Enterprise Linux 9.5 Kernel: 5.15 Compiler: gcc gcc (GCC) 11.5.0 20240719 (Red Hat 11.5.0-2) openSUSE Leap 15.6 Kernel: 5.15 Compiler: gcc gcc (SUSE Linux) 7.5.0 CentOS Stream 10 Kernel: 5.15 Compiler: gcc gcc (GCC) 14.2.1 20250110 (Red Hat 14.2.1-8) Ubuntu 24.04 Kernel: 5.15 Compiler: gcc gcc (Ubuntu 13.3.0-6ubuntu2~24.04) 13.3.0 Red Hat Enterprise Linux 8.10 Kernel: 5.15 Compiler: gcc gcc (GCC) 8.5.0 20210514 (Red Hat 8.5.0-22) Arch Linux 20250613.0.365270 Kernel: 5.15 Compiler: gcc gcc (GCC) 15.1.1 20250425 Alpine Linux 3.22.0 Kernel: 5.15 Compiler: gcc gcc (Alpine 14.2.0) 14.2.0 Windows Server 2022 Kernel: 10.0.20348.2031 Compiler: clang 15.0.7, gcc 14.1.0 (MinGW), and MSVC VS 19.39.33521 To view detailed results, visit: https://lab.dpdk.org/results/dashboard/tarballs/35515/ UNH-IOL DPDK Community Lab To manage your email subscriptions, visit: https://lab.dpdk.org/results/dashboard/preferences/subscriptions/