From mboxrd@z Thu Jan 1 00:00:00 1970 Return-Path: Received: from mails.dpdk.org (mails.dpdk.org [217.70.189.124]) by inbox.dpdk.org (Postfix) with ESMTP id 031D048AC5 for ; Mon, 10 Nov 2025 05:00:15 +0100 (CET) Received: from mails.dpdk.org (localhost [127.0.0.1]) by mails.dpdk.org (Postfix) with ESMTP id D2A88400D5; Mon, 10 Nov 2025 05:00:15 +0100 (CET) Received: from mail-yx1-f97.google.com (mail-yx1-f97.google.com [74.125.224.97]) by mails.dpdk.org (Postfix) with ESMTP id 8FA5B400D5 for ; Mon, 10 Nov 2025 05:00:14 +0100 (CET) Received: by mail-yx1-f97.google.com with SMTP id 956f58d0204a3-63f9beb26f7so1952160d50.2 for ; Sun, 09 Nov 2025 20:00:14 -0800 (PST) DKIM-Signature: v=1; a=rsa-sha256; c=relaxed/relaxed; d=iol.unh.edu; s=unh-iol; t=1762747214; x=1763352014; darn=dpdk.org; h=references:in-reply-to:cc:to:from:subject:message-id:date:from:to :cc:subject:date:message-id:reply-to; bh=znUjRMUfGlqCk/HDiuwSf20UHDcnf3y7YQcgebBHidg=; b=KpEm6qmn2UzBRujajRCZIMZn8gF4xf/oS9qMm05j/OJ1ARxLYcNEf9xxt9n5yffCWE BKDVgnm1OFS9H3ofhuLMFMlUYzXBV6M+CZykKuAUMozMBKeeK0ovnuibL67eJZRT0eqM fDBQaislrhI+WDtHTi2/dh1NpnK8gSjULhqUQ= X-Google-DKIM-Signature: v=1; a=rsa-sha256; c=relaxed/relaxed; d=1e100.net; s=20230601; t=1762747214; x=1763352014; h=references:in-reply-to:cc:to:from:subject:message-id:date:x-gm-gg :x-gm-message-state:from:to:cc:subject:date:message-id:reply-to; bh=znUjRMUfGlqCk/HDiuwSf20UHDcnf3y7YQcgebBHidg=; b=pt2k4Fdlmb9SQ562M94ddjDFDJ7U+5vkxd5qJhjpgVTw1MjYmEfoG2aTaoDVUFknS9 EWyzeULXeeChZbseEcEx2wNbRKnsIzF7gmcUolQFfyzobugonZbQy/gRCt7PacQQwvtS ynF0HLBlboSjzm6NpohspYJtWU+V+x4IPrkl0g4yghbyco5eEx3qoz7H8Z8/nOJ6TLa+ YNQGDMefkOFW7hsVeN9m85sTj7FOKdmW+S1NPZRA2AHHPLniJHYSpJkHE+l1M3cHQlCl CJ+p+17zbqzbzNZq4CGIWatTbFgI8O+Jr4DqhuEPrJNoLGIv3Ff3XnU6WnsblJpwAm9I ibBg== X-Gm-Message-State: AOJu0YylJDvNiglPrxsI6zMVOIZkq2fYJFyEGsN4pEYZm+lAb6NwII4b ITakRbcjcD9Bz/FB6+2pMjWaPFUkmHeAGXc8l67DIAwZcBsGZFoPP8vrXPOrBHD2395EF8k5Cwu GTWOVN7NhbeXUTyoTO0A5DoMyIMLztwBW0zYfZVVZYouX+EqdVCxZxQHD3bIG X-Gm-Gg: ASbGncsiZLaCP+eVZyLg7gJ6fu8i1F7ThYWLfSF7apfBXtzi6C2VcVx5bujZVyHrMCK Gw0sqnwMIQTBB7wtQCDYvmT8cuKuO49maitnWYK/Eeuim6YRxiA+nabWfVmL0nBZzllfGasfjbG E/7gL8oCfb2Yvg8cRZIF3/bAio7+bkuG16tLHN/jd1OrSCGI8EGwUpmUN6ZeYC5aITKqhpMILrY agGSS0UReMqksSQ5lKeLHxE3IPK02JL1qJMuLZsdvBD+HU9CDSgJROlEr51cVi1KpSrNHfET94H F99vtHs+IBkfv5Coea1jyLXfi478uBPND41sVK7Ar5Ki9BsiEmsQwDUemjFmxk5PTnpt99rlVSL 30AiP4BN5 X-Google-Smtp-Source: AGHT+IF+EahcbgAxvFLF4IJcnEVKI8v0jPrz0WSydyk8e7SGlNY3s1pwfm3CNsMBTCb8PlZ+v/nhZObgHCXp X-Received: by 2002:a05:690c:3341:b0:786:5712:46b8 with SMTP id 00721157ae682-787d53553e9mr118883477b3.5.1762747213856; Sun, 09 Nov 2025 20:00:13 -0800 (PST) Received: from postal.iol.unh.edu (postal.iol.unh.edu. [2606:4100:3880:1234::84]) by smtp-relay.gmail.com with ESMTPS id 00721157ae682-787d69e1f66sm2485297b3.32.2025.11.09.20.00.13 (version=TLS1_2 cipher=ECDHE-ECDSA-AES128-GCM-SHA256 bits=128/128); Sun, 09 Nov 2025 20:00:13 -0800 (PST) X-Relaying-Domain: iol.unh.edu Date: Sun, 09 Nov 2025 20:00:13 -0800 (PST) Message-ID: <6911634d.050a0220.1af68b.c6f4SMTPIN_ADDED_MISSING@mx.google.com> Received: from [172.21.0.3] (unknown [172.18.0.240]) by postal.iol.unh.edu (Postfix) with ESMTP id 7FFE06051830; Sun, 9 Nov 2025 23:00:13 -0500 (EST) Subject: |SUCCESS| pw158624 [PATCH] devtools: add RISC-V vector in meson buil From: dpdklab@iol.unh.edu To: Test Report Cc: dpdk-test-reports@iol.unh.edu In-Reply-To: <20251110025220.3319989-1-sunyuechi@iscas.ac.cn> References: <20251110025220.3319989-1-sunyuechi@iscas.ac.cn> Content-Type: text/plain X-BeenThere: test-report@dpdk.org X-Mailman-Version: 2.1.29 Precedence: list List-Id: automatic DPDK test reports List-Unsubscribe: , List-Archive: List-Post: List-Help: List-Subscribe: , Errors-To: test-report-bounces@dpdk.org Test-Label: iol-unit-amd64-testing Test-Status: SUCCESS http://dpdk.org/patch/158624 _Testing PASS_ Submitter: Sun Yuechi Date: Monday, November 10 2025 02:52:20 DPDK git baseline: Repo:dpdk Branch: master CommitID:2e22572b9a6ce8bcdc0347313a35bb3066b0faff 158624 --> testing pass Upstream job id: Generic-VM-Unit-Test-DPDK#32414 Test environment and result as below: +-------------------------------+----------------+ | Environment | dpdk_unit_test | +===============================+================+ | CentOS Stream 9 | PASS | +-------------------------------+----------------+ | Fedora Linux 41 | PASS | +-------------------------------+----------------+ | Ubuntu 24.04 | PASS | +-------------------------------+----------------+ | CentOS Stream 10 | PASS | +-------------------------------+----------------+ | Fedora Linux 40 | PASS | +-------------------------------+----------------+ | Ubuntu 22.04 | PASS | +-------------------------------+----------------+ | Red Hat Enterprise Linux 9.5 | PASS | +-------------------------------+----------------+ | Fedora Linux 42 | PASS | +-------------------------------+----------------+ | Debian GNU/Linux 12 | PASS | +-------------------------------+----------------+ | Ubuntu 20.04 | PASS | +-------------------------------+----------------+ | Red Hat Enterprise Linux 8.10 | PASS | +-------------------------------+----------------+ | Windows Server 2022 | PASS | +-------------------------------+----------------+ CentOS Stream 9 Kernel: 5.15 Compiler: gcc gcc (GCC) 11.5.0 20240719 (Red Hat 11.5.0-11) Fedora Linux 41 Kernel: 5.15 Compiler: clang gcc (GCC) 14.3.1 20250523 (Red Hat 14.3.1-1) Ubuntu 24.04 Kernel: 5.15 Compiler: gcc gcc (Ubuntu 13.3.0-6ubuntu2~24.04) 13.3.0 CentOS Stream 10 Kernel: 5.15 Compiler: gcc gcc (GCC) 14.2.1 20250110 (Red Hat 14.2.1-8) Fedora Linux 40 Kernel: 5.15 Compiler: clang gcc (GCC) 14.2.1 20240912 (Red Hat 14.2.1-3) Ubuntu 22.04 Kernel: 5.15 Compiler: gcc gcc (Ubuntu 11.4.0-1ubuntu1~22.04) 11.4.0 Red Hat Enterprise Linux 9.5 Kernel: 5.15 Compiler: gcc gcc (GCC) 11.5.0 20240719 (Red Hat 11.5.0-2) Fedora Linux 42 Kernel: 5.15 Compiler: clang gcc (GCC) 15.2.1 20250808 (Red Hat 15.2.1-1) Debian GNU/Linux 12 Kernel: 5.15 Compiler: gcc gcc (Debian 12.2.0-14+deb12u1) 12.2.0 Ubuntu 20.04 Kernel: 5.15 Compiler: gcc gcc (Ubuntu 9.4.0-1ubuntu1~20.04.2) 9.4.0 Red Hat Enterprise Linux 8.10 Kernel: 5.15 Compiler: gcc gcc (GCC) 8.5.0 20210514 (Red Hat 8.5.0-22) Windows Server 2022 Kernel: 10.0.20348.2031 Compiler: clang 15.0.7, gcc 14.1.0 (MinGW), and MSVC VS 19.39.33521 To view detailed results, visit: https://lab.dpdk.org/results/dashboard/patchsets/34515/ UNH-IOL DPDK Community Lab To manage your email subscriptions, visit: https://lab.dpdk.org/results/dashboard/preferences/subscriptions/