From mboxrd@z Thu Jan 1 00:00:00 1970 Return-Path: Received: from mails.dpdk.org (mails.dpdk.org [217.70.189.124]) by inbox.dpdk.org (Postfix) with ESMTP id 7113648AC5 for ; Mon, 10 Nov 2025 05:05:37 +0100 (CET) Received: from mails.dpdk.org (localhost [127.0.0.1]) by mails.dpdk.org (Postfix) with ESMTP id 6A9DF400D5; Mon, 10 Nov 2025 05:05:37 +0100 (CET) Received: from mail-ua1-f98.google.com (mail-ua1-f98.google.com [209.85.222.98]) by mails.dpdk.org (Postfix) with ESMTP id BD813400D5 for ; Mon, 10 Nov 2025 05:05:35 +0100 (CET) Received: by mail-ua1-f98.google.com with SMTP id a1e0cc1a2514c-935134ef989so1712136241.3 for ; Sun, 09 Nov 2025 20:05:35 -0800 (PST) DKIM-Signature: v=1; a=rsa-sha256; c=relaxed/relaxed; d=iol.unh.edu; s=unh-iol; t=1762747535; x=1763352335; darn=dpdk.org; h=references:in-reply-to:cc:to:from:subject:message-id:date:from:to :cc:subject:date:message-id:reply-to; bh=rsXwH/VAWD40gyh7qNDzIgffCA2aa6ih0Jis4SCSLhY=; b=Stnj8/PHpm223kvIAIW3bdD61Z5wsgwSdmRbg8hPAiPbqp8xeqNg6sDfeXVa8Y9HLF JycpLZW5hwExrgA11WgW+FKkU8ZtQkMpHrZ81mT2b2GIfsYprtpJsz5cbsJ5kQ3qmiEn 4zxFDan3MfXjXEFHN5OrYT8yStzs6uVsioXLo= X-Google-DKIM-Signature: v=1; a=rsa-sha256; c=relaxed/relaxed; d=1e100.net; s=20230601; t=1762747535; x=1763352335; h=references:in-reply-to:cc:to:from:subject:message-id:date:x-gm-gg :x-gm-message-state:from:to:cc:subject:date:message-id:reply-to; bh=rsXwH/VAWD40gyh7qNDzIgffCA2aa6ih0Jis4SCSLhY=; b=sB0wZyTO2aXvp9uesIt+aw0KDHczT2zwWISJ8fgGnMWunT6aC592w3vksPXJk3jBDl xSVn6IJJcq/TLDHa0E4z/cxcFT+LjrRo9i0kO6ogoSVcDktTZhQUsQDQXfS2m5ogEXWv u+olQixj59AvHfpQaSzUOiZQFQdNtTnjPfOmLtX8uRuGwoe1dFpPKZydd+YfZFUJW4LM uvYoLg4hFg0OMt9KtDDOiaNC0u8FRhtbs+c2JydqPXehAHJhls+zurN07/fDGAc8FMY/ NVI9YR0hSRrz63jAz7Rm4I/dY3EcxwSZ3sBpL086YXSx9+polw8qBINtBYwfTCzB6Y9I t86A== X-Gm-Message-State: AOJu0Ywz+aSu/Ud+xnYuesfkX3ZA7SWdBZ0MducrdhMXNtShYvaSrfRh FoFLTG+Uwa8aoBji1JW1thViZaWOivpN6vml1EORByRkbsvgNUc3q6lZyoQlcf2vVrIl9QBVBUh MRHc+nbYOG/dxkT4u8/XxS6Wv1WDicXLb5xMvyqaHfsyi X-Gm-Gg: ASbGncukWW5oHLMIp/0JXXGI0He/ZOzOFD1WFLKa5ps6QlLJzWVAqztfR1fjSUGfNho 9PhrXPWesS34AKclN4iaRPUL4+wyTOFawXh59JqhbMELjjVMXV1IOaLu7cF4uj+wDK8Q9pvjJRj E0s4r+ueCg4+gSMoIu+fbUoafrJggf2mDnc0za9h+D1tUwWKFpdB3PvZn8maJ/8XBzTGm5f9+yi ES1cFHqZmhZOjA58Da7lQuz0dlwkInnKSpoaBSlPWWOmCf/exNe7SHYcgN6LpB3gWdmPN+HFcg4 ViltPxC7nRJAaVOjfBgjSq2zIrdOlUwseltZZcTV/xsurpRaIynqFvOJmixE7VHSYxx/qU/5XVk gGl0gHoDqCEKQH8/LA+IHnOjXtamcxJM= X-Google-Smtp-Source: AGHT+IFrCGpfOI4FzlTJ8ay7k/Dzv6ALRfISEIsO+JHWSy/8IRn08FSqHQ/hpZg+/pT5e4StiqE1b3XjMmbv X-Received: by 2002:a05:6102:3753:b0:5db:e88f:316c with SMTP id ada2fe7eead31-5ddc467e53bmr2507601137.3.1762747535129; Sun, 09 Nov 2025 20:05:35 -0800 (PST) Received: from postal.iol.unh.edu (postal.iol.unh.edu. [132.177.123.84]) by smtp-relay.gmail.com with ESMTPS id a1e0cc1a2514c-9370893c53bsm154625241.3.2025.11.09.20.05.35 (version=TLS1_2 cipher=ECDHE-ECDSA-AES128-GCM-SHA256 bits=128/128); Sun, 09 Nov 2025 20:05:35 -0800 (PST) X-Relaying-Domain: iol.unh.edu Date: Sun, 09 Nov 2025 20:05:35 -0800 (PST) Message-ID: <6911648f.050a0220.675a2.69bdSMTPIN_ADDED_MISSING@mx.google.com> Received: from [172.21.0.2] (unknown [172.18.0.240]) by postal.iol.unh.edu (Postfix) with ESMTP id B185C6051830; Sun, 9 Nov 2025 23:05:34 -0500 (EST) Subject: |SUCCESS| pw158624 [PATCH] devtools: add RISC-V vector in meson buil From: dpdklab@iol.unh.edu To: Test Report Cc: dpdk-test-reports@iol.unh.edu In-Reply-To: <20251110025220.3319989-1-sunyuechi@iscas.ac.cn> References: <20251110025220.3319989-1-sunyuechi@iscas.ac.cn> Content-Type: text/plain X-BeenThere: test-report@dpdk.org X-Mailman-Version: 2.1.29 Precedence: list List-Id: automatic DPDK test reports List-Unsubscribe: , List-Archive: List-Post: List-Help: List-Subscribe: , Errors-To: test-report-bounces@dpdk.org Test-Label: iol-compile-amd64-testing Test-Status: SUCCESS http://dpdk.org/patch/158624 _Testing PASS_ Submitter: Sun Yuechi Date: Monday, November 10 2025 02:52:20 DPDK git baseline: Repo:dpdk Branch: master CommitID:2e22572b9a6ce8bcdc0347313a35bb3066b0faff 158624 --> testing pass Upstream job id: Generic-DPDK-Compile-Meson#442397 Test environment and result as below: +-------------------------------+--------------------+------------------+-------------------------+-------------------+----------------------+ | Environment | dpdk_meson_compile | dpdk_compile_ovs | dpdk_llvm_clang_compile | dpdk_msvc_compile | dpdk_mingw64_compile | +===============================+====================+==================+=========================+===================+======================+ | CentOS Stream 10 | PASS | SKIPPED | SKIPPED | SKIPPED | SKIPPED | +-------------------------------+--------------------+------------------+-------------------------+-------------------+----------------------+ | Fedora Linux 42 | PASS | PASS | SKIPPED | SKIPPED | SKIPPED | +-------------------------------+--------------------+------------------+-------------------------+-------------------+----------------------+ | openSUSE Leap 15.6 | PASS | SKIPPED | SKIPPED | SKIPPED | SKIPPED | +-------------------------------+--------------------+------------------+-------------------------+-------------------+----------------------+ | Red Hat Enterprise Linux 8.10 | PASS | SKIPPED | SKIPPED | SKIPPED | SKIPPED | +-------------------------------+--------------------+------------------+-------------------------+-------------------+----------------------+ | Red Hat Enterprise Linux 9.5 | PASS | SKIPPED | SKIPPED | SKIPPED | SKIPPED | +-------------------------------+--------------------+------------------+-------------------------+-------------------+----------------------+ | Ubuntu 22.04 | PASS | SKIPPED | SKIPPED | SKIPPED | SKIPPED | +-------------------------------+--------------------+------------------+-------------------------+-------------------+----------------------+ | Ubuntu 20.04 | PASS | SKIPPED | SKIPPED | SKIPPED | SKIPPED | +-------------------------------+--------------------+------------------+-------------------------+-------------------+----------------------+ | Debian GNU/Linux 12 | PASS | SKIPPED | SKIPPED | SKIPPED | SKIPPED | +-------------------------------+--------------------+------------------+-------------------------+-------------------+----------------------+ | CentOS Stream 9 | PASS | SKIPPED | SKIPPED | SKIPPED | SKIPPED | +-------------------------------+--------------------+------------------+-------------------------+-------------------+----------------------+ | Ubuntu 24.04 | PASS | PASS | SKIPPED | SKIPPED | SKIPPED | +-------------------------------+--------------------+------------------+-------------------------+-------------------+----------------------+ | FreeBSD 14.2 | PASS | SKIPPED | SKIPPED | SKIPPED | SKIPPED | +-------------------------------+--------------------+------------------+-------------------------+-------------------+----------------------+ | Alpine Linux 3.22.0 | PASS | SKIPPED | SKIPPED | SKIPPED | SKIPPED | +-------------------------------+--------------------+------------------+-------------------------+-------------------+----------------------+ | Windows Server 2022 | SKIPPED | SKIPPED | PASS | PASS | PASS | +-------------------------------+--------------------+------------------+-------------------------+-------------------+----------------------+ CentOS Stream 10 Kernel: 5.15 Compiler: gcc gcc (GCC) 14.2.1 20250110 (Red Hat 14.2.1-8) Fedora Linux 42 Kernel: 5.15 Compiler: clang gcc (GCC) 15.2.1 20250808 (Red Hat 15.2.1-1) openSUSE Leap 15.6 Kernel: 5.15 Compiler: gcc gcc (SUSE Linux) 7.5.0 Red Hat Enterprise Linux 8.10 Kernel: 5.15 Compiler: gcc gcc (GCC) 8.5.0 20210514 (Red Hat 8.5.0-22) Red Hat Enterprise Linux 9.5 Kernel: 5.15 Compiler: gcc gcc (GCC) 11.5.0 20240719 (Red Hat 11.5.0-2) Ubuntu 22.04 Kernel: 5.15 Compiler: gcc gcc (Ubuntu 11.4.0-1ubuntu1~22.04) 11.4.0 Ubuntu 20.04 Kernel: 4.19 Compiler: gcc gcc (Ubuntu 9.4.0-1ubuntu1~20.04.2) 9.4.0 Debian GNU/Linux 12 Kernel: 5.15 Compiler: gcc gcc (Debian 12.2.0-14+deb12u1) 12.2.0 CentOS Stream 9 Kernel: 5.15 Compiler: gcc gcc (GCC) 11.5.0 20240719 (Red Hat 11.5.0-11) Ubuntu 24.04 Kernel: 5.15 Compiler: gcc gcc (Ubuntu 13.3.0-6ubuntu2~24.04) 13.3.0 FreeBSD 14.2 Kernel: 14.2-RELEASE Compiler: clang 18.1.6 Alpine Linux 3.22.0 Kernel: 5.15 Compiler: gcc gcc (Alpine 14.2.0) 14.2.0 Windows Server 2022 Kernel: 10.0.20348.2031 Compiler: clang 15.0.7, gcc 14.1.0 (MinGW), and MSVC VS 19.39.33521 To view detailed results, visit: https://lab.dpdk.org/results/dashboard/patchsets/34515/ UNH-IOL DPDK Community Lab To manage your email subscriptions, visit: https://lab.dpdk.org/results/dashboard/preferences/subscriptions/