From mboxrd@z Thu Jan 1 00:00:00 1970 Return-Path: Received: from mails.dpdk.org (mails.dpdk.org [217.70.189.124]) by inbox.dpdk.org (Postfix) with ESMTP id 7712D48AC5 for ; Mon, 10 Nov 2025 05:28:50 +0100 (CET) Received: from mails.dpdk.org (localhost [127.0.0.1]) by mails.dpdk.org (Postfix) with ESMTP id 40B99400D5; Mon, 10 Nov 2025 05:28:50 +0100 (CET) Received: from mail-qt1-f227.google.com (mail-qt1-f227.google.com [209.85.160.227]) by mails.dpdk.org (Postfix) with ESMTP id D63AD400D5 for ; Mon, 10 Nov 2025 05:28:48 +0100 (CET) Received: by mail-qt1-f227.google.com with SMTP id d75a77b69052e-4eda26a04bfso24254071cf.2 for ; Sun, 09 Nov 2025 20:28:48 -0800 (PST) DKIM-Signature: v=1; a=rsa-sha256; c=relaxed/relaxed; d=iol.unh.edu; s=unh-iol; t=1762748928; x=1763353728; darn=dpdk.org; h=cc:to:from:subject:message-id:date:from:to:cc:subject:date :message-id:reply-to; bh=rmnwQQ7V7Zq5exH8ocm2Hvx68WulbU+WVUGGsSFFWyc=; b=Qpuz9KvzUwz7JH5U0jnufG8oGOLKxlDD9XVvOdUbYldwBxnQ8qYZzdixZLi1PHOJnw gHdnFlD30qUiabbLNnBq6TOISAJvb8n4//XXh6Y5bm6t26T0JB1CaCiP0LACjGMsKSVN oS66I8Mw4Kl91hlYxW+HdehyN6Ndj0VAZrdFQ= X-Google-DKIM-Signature: v=1; a=rsa-sha256; c=relaxed/relaxed; d=1e100.net; s=20230601; t=1762748928; x=1763353728; h=cc:to:from:subject:message-id:date:x-gm-gg:x-gm-message-state:from :to:cc:subject:date:message-id:reply-to; bh=rmnwQQ7V7Zq5exH8ocm2Hvx68WulbU+WVUGGsSFFWyc=; b=BSscQ6Igp5/Dh1pSgxpc2yGBTFk5oRaiEYIaOeIdC9miy1STsFs4mMIhFGLdl+fPiQ IpygOyjzgAz4LWaY+h2NffaoCqwr/g2tcL89f5jXxEdvSepiM7BTkw3aLIcgueePiFIN zjcSOkwbpun/2cAFsxwFCoGof/mth4d9/8rzpbLDiQOtz2sr3M/8NTAsiglWLZ2W/V9l LYcnr5u2FYw2h+sJ0sL6QL9Ezwm469hneTGygXI/+pphEdK4AQTMTJVt5nwkPi+93iQv b+iy0WMMkAv7SNY1G4VYEc/9og3TmayZS8/SNdCtywy7qi1byy6O2MJwyumnJ6obNzQ5 F3wg== X-Gm-Message-State: AOJu0YxHcyEi2VTXfspJvFjFMW8ew3OvcdgNuG1PfL0q5wEpzVlKTdsq 1ozHBgPjC1hENzO+Yd34VAkLzn0Cy+IKx9r8yVxdDbh8o1vWIYo6ZADbbSiBxFQZgCyYR9ZjD+l l/DIQBfUa2zMeY8sFp/AgDSH9c33epntQ/DsdTsCbBsYlP5TmLGG+I3lc4EKA X-Gm-Gg: ASbGncsYlm/hsDCVrTqvX4FDjk1u34K6CG80JH9ZUDWTutlOXgjkQP3cqk7sI4dTBVD uu6XLhBpmFGQ1NFAxebenT/KAjrMpKxDabRQKLCHlAI5Zdc8UEpVPTgi2/zWc87/oWZtOgjG0hu 4nXqNETReQWBHsGvIFLKSAHBgPUDnCz01hp2AwW7jPNyoHBOLfCpcUiFeRRtblRo7hbPk8RPaC+ CzkKw59sFr3WsOc0AuIWBpFrlc5RmtCOf8sVFQowaAt1P0H7ggRKFAZl4MYS2PN6h+9GBi1Ci1J /Cf9+32uHWZwAyELfnNDMDxDm5/HPu1IK08bmyhzvI8T7NoluryOM3VYnQbJVLxMMMTNJGf7dAf L3lOV1Z1a X-Google-Smtp-Source: AGHT+IEUHrjgr20T/Mnf1u96xk+z8wckH68fJR6W4+por/tyvmXsA4x5dkJ8sKOtPFIAG1vfhNVvBGmNd6bR X-Received: by 2002:a05:622a:d0:b0:4ed:61d6:4d89 with SMTP id d75a77b69052e-4eda4e7aca5mr80969521cf.4.1762748928087; Sun, 09 Nov 2025 20:28:48 -0800 (PST) Received: from postal.iol.unh.edu (postal.iol.unh.edu. [2606:4100:3880:1234::84]) by smtp-relay.gmail.com with ESMTPS id 6a1803df08f44-88238998846sm7732096d6.13.2025.11.09.20.28.48 (version=TLS1_2 cipher=ECDHE-ECDSA-AES128-GCM-SHA256 bits=128/128); Sun, 09 Nov 2025 20:28:48 -0800 (PST) X-Relaying-Domain: iol.unh.edu Date: Sun, 09 Nov 2025 20:28:48 -0800 (PST) Message-ID: <69116a00.050a0220.1746b5.7548SMTPIN_ADDED_MISSING@mx.google.com> Received: from [172.21.0.2] (unknown [172.18.0.240]) by postal.iol.unh.edu (Postfix) with ESMTP id CF6F56051830; Sun, 9 Nov 2025 23:28:47 -0500 (EST) Subject: |SUCCESS| [GIT MASTER] 2e22572b9a6ce8bcdc0347313a35bb3066b0faff From: dpdklab@iol.unh.edu To: Test Report Cc: dpdk-test-reports@iol.unh.edu Content-Type: text/plain X-BeenThere: test-report@dpdk.org X-Mailman-Version: 2.1.29 Precedence: list List-Id: automatic DPDK test reports List-Unsubscribe: , List-Archive: List-Post: List-Help: List-Subscribe: , Errors-To: test-report-bounces@dpdk.org _Testing PASS_ Branch: dpdk 2e22572b9a6ce8bcdc0347313a35bb3066b0faff --> testing pass Upstream job id: Generic-DPDK-Compile-Meson#442362 Test environment and result as below: +------------------------------+--------------------+ | Environment | dpdk_meson_compile | +==============================+====================+ | Red Hat Enterprise Linux 9.5 | PASS | +------------------------------+--------------------+ | Debian GNU/Linux 12 | PASS | +------------------------------+--------------------+ | Ubuntu 20.04 | PASS | +------------------------------+--------------------+ | Fedora Linux 42 | PASS | +------------------------------+--------------------+ | CentOS Stream 10 | PASS | +------------------------------+--------------------+ | Ubuntu 22.04 | PASS | +------------------------------+--------------------+ | Ubuntu 24.04 | PASS | +------------------------------+--------------------+ | CentOS Stream 9 | PASS | +------------------------------+--------------------+ Red Hat Enterprise Linux 9.5 Kernel: 5.4 Compiler: gcc gcc (GCC) 11.5.0 20240719 (Red Hat 11.5.0-2) Debian GNU/Linux 12 Kernel: 5.4 Compiler: gcc gcc (Debian 12.2.0-14+deb12u1) 12.2.0 Ubuntu 20.04 Kernel: 5.15 Compiler: aarch64-linux-gnu-gcc gcc (Ubuntu 9.4.0-1ubuntu1~20.04.2) 9.4.0 Fedora Linux 42 Kernel: 5.4 Compiler: clang gcc (GCC) 15.2.1 20250808 (Red Hat 15.2.1-1) CentOS Stream 10 Kernel: 5.4 Compiler: gcc gcc (GCC) 14.2.1 20250110 (Red Hat 14.2.1-8) Ubuntu 22.04 Kernel: 5.4 Compiler: gcc gcc (Ubuntu 11.4.0-1ubuntu1~22.04) 11.4.0 Ubuntu 24.04 Kernel: 5.4 Compiler: gcc gcc (Ubuntu 13.3.0-6ubuntu2~24.04) 13.3.0 CentOS Stream 9 Kernel: 5.4 Compiler: gcc gcc (GCC) 11.5.0 20240719 (Red Hat 11.5.0-11) To view detailed results, visit: https://lab.dpdk.org/results/dashboard/tarballs/35515/ UNH-IOL DPDK Community Lab To manage your email subscriptions, visit: https://lab.dpdk.org/results/dashboard/preferences/subscriptions/