From: dpdklab@iol.unh.edu
To: Test Report <test-report@dpdk.org>
Cc: dpdk-test-reports@iol.unh.edu
Subject: |SUCCESS| pw158624 [PATCH] devtools: add RISC-V vector in meson buil
Date: Sun, 09 Nov 2025 23:00:26 -0800 (PST) [thread overview]
Message-ID: <69118d8a.050a0220.260b39.170dSMTPIN_ADDED_MISSING@mx.google.com> (raw)
In-Reply-To: <20251110025220.3319989-1-sunyuechi@iscas.ac.cn>
Test-Label: iol-compile-arm64-testing
Test-Status: SUCCESS
http://dpdk.org/patch/158624
_Testing PASS_
Submitter: Sun Yuechi <sunyuechi@iscas.ac.cn>
Date: Monday, November 10 2025 02:52:20
DPDK git baseline: Repo:dpdk
Branch: master
CommitID:2e22572b9a6ce8bcdc0347313a35bb3066b0faff
158624 --> testing pass
Upstream job id: Generic-DPDK-Compile-Meson#442376
Test environment and result as below:
+------------------------------+--------------------+
| Environment | dpdk_meson_compile |
+==============================+====================+
| CentOS Stream 10 | PASS |
+------------------------------+--------------------+
| Ubuntu 20.04 | PASS |
+------------------------------+--------------------+
| Debian GNU/Linux 12 | PASS |
+------------------------------+--------------------+
| Fedora Linux 42 | PASS |
+------------------------------+--------------------+
| Red Hat Enterprise Linux 9.5 | PASS |
+------------------------------+--------------------+
| Ubuntu 24.04 | PASS |
+------------------------------+--------------------+
| Ubuntu 22.04 | PASS |
+------------------------------+--------------------+
| CentOS Stream 9 | PASS |
+------------------------------+--------------------+
CentOS Stream 10
Kernel: 5.4
Compiler: gcc gcc (GCC) 14.2.1 20250110 (Red Hat 14.2.1-8)
Ubuntu 20.04
Kernel: 5.4
Compiler: gcc gcc (Ubuntu 9.4.0-1ubuntu1~20.04.2) 9.4.0
Debian GNU/Linux 12
Kernel: 5.4
Compiler: gcc gcc (Debian 12.2.0-14+deb12u1) 12.2.0
Fedora Linux 42
Kernel: 5.4
Compiler: clang gcc (GCC) 15.2.1 20250808 (Red Hat 15.2.1-1)
Red Hat Enterprise Linux 9.5
Kernel: 5.4
Compiler: gcc gcc (GCC) 11.5.0 20240719 (Red Hat 11.5.0-2)
Ubuntu 24.04
Kernel: 5.4
Compiler: gcc gcc (Ubuntu 13.3.0-6ubuntu2~24.04) 13.3.0
Ubuntu 22.04
Kernel: 5.4
Compiler: gcc gcc (Ubuntu 11.4.0-1ubuntu1~22.04) 11.4.0
CentOS Stream 9
Kernel: 5.4
Compiler: gcc gcc (GCC) 11.5.0 20240719 (Red Hat 11.5.0-11)
To view detailed results, visit:
https://lab.dpdk.org/results/dashboard/patchsets/34515/
UNH-IOL DPDK Community Lab
To manage your email subscriptions, visit:
https://lab.dpdk.org/results/dashboard/preferences/subscriptions/
prev parent reply other threads:[~2025-11-10 7:00 UTC|newest]
Thread overview: 21+ messages / expand[flat|nested] mbox.gz Atom feed top
[not found] <20251110025220.3319989-1-sunyuechi@iscas.ac.cn>
2025-11-10 2:17 ` |SUCCESS| pw158624 [PATCH] devtools: add RISC-V vector in meson build test qemudev
2025-11-10 2:22 ` qemudev
2025-11-10 2:52 ` |WARNING| " checkpatch
2025-11-10 3:21 ` |PENDING| pw158624 [PATCH] devtools: add RISC-V vector in meson buil dpdklab
2025-11-10 3:22 ` dpdklab
2025-11-10 3:22 ` dpdklab
2025-11-10 3:23 ` |SUCCESS| " dpdklab
2025-11-10 3:31 ` |PENDING| " dpdklab
2025-11-10 3:32 ` |SUCCESS| " dpdklab
2025-11-10 3:40 ` dpdklab
2025-11-10 3:43 ` dpdklab
2025-11-10 3:45 ` dpdklab
2025-11-10 3:45 ` |SUCCESS| pw158624 [PATCH] devtools: add RISC-V vector in meson build test 0-day Robot
2025-11-10 3:45 ` 0-day Robot
2025-11-10 3:52 ` |SUCCESS| pw158624 [PATCH] devtools: add RISC-V vector in meson buil dpdklab
2025-11-10 3:52 ` dpdklab
2025-11-10 3:57 ` dpdklab
2025-11-10 4:00 ` dpdklab
2025-11-10 4:04 ` dpdklab
2025-11-10 4:05 ` dpdklab
2025-11-10 7:00 ` dpdklab [this message]
Reply instructions:
You may reply publicly to this message via plain-text email
using any one of the following methods:
* Save the following mbox file, import it into your mail client,
and reply-to-all from there: mbox
Avoid top-posting and favor interleaved quoting:
https://en.wikipedia.org/wiki/Posting_style#Interleaved_style
* Reply using the --to, --cc, and --in-reply-to
switches of git-send-email(1):
git send-email \
--in-reply-to=69118d8a.050a0220.260b39.170dSMTPIN_ADDED_MISSING@mx.google.com \
--to=dpdklab@iol.unh.edu \
--cc=dpdk-test-reports@iol.unh.edu \
--cc=test-report@dpdk.org \
/path/to/YOUR_REPLY
https://kernel.org/pub/software/scm/git/docs/git-send-email.html
* If your mail client supports setting the In-Reply-To header
via mailto: links, try the mailto: link
Be sure your reply has a Subject: header at the top and a blank line
before the message body.
This is a public inbox, see mirroring instructions
for how to clone and mirror all data and code used for this inbox;
as well as URLs for NNTP newsgroup(s).