From mboxrd@z Thu Jan 1 00:00:00 1970 Return-Path: Received: from mails.dpdk.org (mails.dpdk.org [217.70.189.124]) by inbox.dpdk.org (Postfix) with ESMTP id DAD5848AC7 for ; Mon, 10 Nov 2025 08:00:30 +0100 (CET) Received: from mails.dpdk.org (localhost [127.0.0.1]) by mails.dpdk.org (Postfix) with ESMTP id C5C81400D5; Mon, 10 Nov 2025 08:00:30 +0100 (CET) Received: from mail-pg1-f228.google.com (mail-pg1-f228.google.com [209.85.215.228]) by mails.dpdk.org (Postfix) with ESMTP id B3796400D5 for ; Mon, 10 Nov 2025 08:00:29 +0100 (CET) Received: by mail-pg1-f228.google.com with SMTP id 41be03b00d2f7-b62e7221351so2219335a12.1 for ; Sun, 09 Nov 2025 23:00:29 -0800 (PST) DKIM-Signature: v=1; a=rsa-sha256; c=relaxed/relaxed; d=iol.unh.edu; s=unh-iol; t=1762758029; x=1763362829; darn=dpdk.org; h=references:in-reply-to:cc:to:from:subject:message-id:date:from:to :cc:subject:date:message-id:reply-to; bh=7O7wjWrB+pgUAonk5YGjk5MB7C6eOToaa+udb/evKBw=; b=g8XuxBiIjvnt+c8aJ5FM0CfyI0N8FmgUGOXKkTxSD5CQMkjyUb7q61mflInn8cCtow yqVU55Qm+W9nhrMuyhgfGED/pEJTB8ZlJGhL8B2KR2JUJXuaT/z1NK31Tm/B/I5dj5+L LDDDYwKSxdYbZB5mHstV/6ncuRQQdXRZQYDnA= X-Google-DKIM-Signature: v=1; a=rsa-sha256; c=relaxed/relaxed; d=1e100.net; s=20230601; t=1762758029; x=1763362829; h=references:in-reply-to:cc:to:from:subject:message-id:date:x-gm-gg :x-gm-message-state:from:to:cc:subject:date:message-id:reply-to; bh=7O7wjWrB+pgUAonk5YGjk5MB7C6eOToaa+udb/evKBw=; b=c8xQX5ptmbMmVh6blYVQp23Hbqy2qEPKezJKRLx5DUMroJBN9X4iIWnXKUq57B1vWb KXGFbTEDgqebHlKbmU9MYpPPWZ5/0PwmWQB5MZQEdqEPC1Cn0yb73qk5mHOqW3skDmum +2TgVGSAPzDBVo4e6gg2SMH8mLNO+mYZlRm9PeOH4Oe1IIrUHztAoNtkawEgGLO2u31E vff3YRnGHh96gt+xsc30vt9zSDmlnYNmAFu5fYEm61qwePadK4n2b1ZYxtNbjfsbNruY TprwaPZY03mGhWMBXbWQXtWZxa02JUMsmoOUKIFgx040J9ncKr7IZ6jBxgt3LEY8IuLd owrA== X-Gm-Message-State: AOJu0Yz7BaH87LFnXQ+dEXDJu30F/BzMheZ7I716IzM0FPkSOaVZOdkT UHlyuxsYBaxwNMnf0pJm6kAj819o5v4N/i1lRxQHljrQVltvoE7bC0lSZfMZou3qVI0MKy5J9oW vUBM91QhTPbRl+7Vw9c8aQVwUgD+lDn5VyJ4CMwuMiJzFX53oHjM5ebAAje1+ X-Gm-Gg: ASbGncuHoOxjjimp83AR1HsfTB+wrutFmNrzizomVerEMQPuv3iEihLVGItxUKDPPQS no4/501Gmaqe00CJHykpdv54IFXqpa+9ki4iJ5GKk22rdDtqrCeEd7KpHRNeH4YxevQKx+6i0dE nN7cZp2u8VSHmopY8lhCsbDF5tVypgvwFKy9oQyyeH4X9eEQSKKegGE7k2OmEnOhffTRVv9kx1Y 1fAWsUYGvFHIRDzffrfOsvvAgYoaRFuZJfb4sVTqBoVP2O/cx7hV5QS1IcBo+Ug8R5N2/82Tg4o G5Ius6kKHv+K61XtL878iw6mOObIyCZfB+a8/nVpdNh2z6VVBa8JN4prU/A0YrusBThExgH7KE6 9eLdP5YLW X-Google-Smtp-Source: AGHT+IHSNRf9VyvrhFD7+KlRH1psVcneqZsghFiSp9GHQp1XI1fpTq6NmfdLhNqXxNPGx/w0uPavLgOrGF/X X-Received: by 2002:a05:6a20:7fa9:b0:351:118a:62a5 with SMTP id adf61e73a8af0-353a1ae304dmr9799196637.30.1762758026111; Sun, 09 Nov 2025 23:00:26 -0800 (PST) Received: from postal.iol.unh.edu (postal.iol.unh.edu. [2606:4100:3880:1234::84]) by smtp-relay.gmail.com with ESMTPS id d2e1a72fcca58-7b0ccd65c5dsm914133b3a.10.2025.11.09.23.00.26 (version=TLS1_2 cipher=ECDHE-ECDSA-AES128-GCM-SHA256 bits=128/128); Sun, 09 Nov 2025 23:00:26 -0800 (PST) X-Relaying-Domain: iol.unh.edu Date: Sun, 09 Nov 2025 23:00:26 -0800 (PST) Message-ID: <69118d8a.050a0220.260b39.170dSMTPIN_ADDED_MISSING@mx.google.com> Received: from [172.21.0.3] (unknown [172.18.0.240]) by postal.iol.unh.edu (Postfix) with ESMTP id 5E9766051830; Mon, 10 Nov 2025 02:00:25 -0500 (EST) Subject: |SUCCESS| pw158624 [PATCH] devtools: add RISC-V vector in meson buil From: dpdklab@iol.unh.edu To: Test Report Cc: dpdk-test-reports@iol.unh.edu In-Reply-To: <20251110025220.3319989-1-sunyuechi@iscas.ac.cn> References: <20251110025220.3319989-1-sunyuechi@iscas.ac.cn> Content-Type: text/plain X-BeenThere: test-report@dpdk.org X-Mailman-Version: 2.1.29 Precedence: list List-Id: automatic DPDK test reports List-Unsubscribe: , List-Archive: List-Post: List-Help: List-Subscribe: , Errors-To: test-report-bounces@dpdk.org Test-Label: iol-compile-arm64-testing Test-Status: SUCCESS http://dpdk.org/patch/158624 _Testing PASS_ Submitter: Sun Yuechi Date: Monday, November 10 2025 02:52:20 DPDK git baseline: Repo:dpdk Branch: master CommitID:2e22572b9a6ce8bcdc0347313a35bb3066b0faff 158624 --> testing pass Upstream job id: Generic-DPDK-Compile-Meson#442376 Test environment and result as below: +------------------------------+--------------------+ | Environment | dpdk_meson_compile | +==============================+====================+ | CentOS Stream 10 | PASS | +------------------------------+--------------------+ | Ubuntu 20.04 | PASS | +------------------------------+--------------------+ | Debian GNU/Linux 12 | PASS | +------------------------------+--------------------+ | Fedora Linux 42 | PASS | +------------------------------+--------------------+ | Red Hat Enterprise Linux 9.5 | PASS | +------------------------------+--------------------+ | Ubuntu 24.04 | PASS | +------------------------------+--------------------+ | Ubuntu 22.04 | PASS | +------------------------------+--------------------+ | CentOS Stream 9 | PASS | +------------------------------+--------------------+ CentOS Stream 10 Kernel: 5.4 Compiler: gcc gcc (GCC) 14.2.1 20250110 (Red Hat 14.2.1-8) Ubuntu 20.04 Kernel: 5.4 Compiler: gcc gcc (Ubuntu 9.4.0-1ubuntu1~20.04.2) 9.4.0 Debian GNU/Linux 12 Kernel: 5.4 Compiler: gcc gcc (Debian 12.2.0-14+deb12u1) 12.2.0 Fedora Linux 42 Kernel: 5.4 Compiler: clang gcc (GCC) 15.2.1 20250808 (Red Hat 15.2.1-1) Red Hat Enterprise Linux 9.5 Kernel: 5.4 Compiler: gcc gcc (GCC) 11.5.0 20240719 (Red Hat 11.5.0-2) Ubuntu 24.04 Kernel: 5.4 Compiler: gcc gcc (Ubuntu 13.3.0-6ubuntu2~24.04) 13.3.0 Ubuntu 22.04 Kernel: 5.4 Compiler: gcc gcc (Ubuntu 11.4.0-1ubuntu1~22.04) 11.4.0 CentOS Stream 9 Kernel: 5.4 Compiler: gcc gcc (GCC) 11.5.0 20240719 (Red Hat 11.5.0-11) To view detailed results, visit: https://lab.dpdk.org/results/dashboard/patchsets/34515/ UNH-IOL DPDK Community Lab To manage your email subscriptions, visit: https://lab.dpdk.org/results/dashboard/preferences/subscriptions/