From mboxrd@z Thu Jan 1 00:00:00 1970 Return-Path: Received: from mails.dpdk.org (mails.dpdk.org [217.70.189.124]) by inbox.dpdk.org (Postfix) with ESMTP id 68A2D48AC8 for ; Mon, 10 Nov 2025 08:16:21 +0100 (CET) Received: from mails.dpdk.org (localhost [127.0.0.1]) by mails.dpdk.org (Postfix) with ESMTP id 4798D400D5; Mon, 10 Nov 2025 08:16:21 +0100 (CET) Received: from mail-pf1-f226.google.com (mail-pf1-f226.google.com [209.85.210.226]) by mails.dpdk.org (Postfix) with ESMTP id 2A2CF400D5 for ; Mon, 10 Nov 2025 08:16:19 +0100 (CET) Received: by mail-pf1-f226.google.com with SMTP id d2e1a72fcca58-79af647cef2so2194797b3a.3 for ; Sun, 09 Nov 2025 23:16:19 -0800 (PST) DKIM-Signature: v=1; a=rsa-sha256; c=relaxed/relaxed; d=iol.unh.edu; s=unh-iol; t=1762758979; x=1763363779; darn=dpdk.org; h=cc:to:from:subject:message-id:date:from:to:cc:subject:date :message-id:reply-to; bh=6d0ofTPoqTJ9mBIhdO6Xrdi5YIRu2UnGdtf+WbuZe1A=; b=ivtoGSbQAJ0qVaEbx1GXMpLsdMmWt4uirA75NFe1u7sNDMOEqzrviKhAycWpb8yOTV YjTRmVGfBDXEYVHPUQX+9Kouk8IOul1bppE8d6InCaqQOSEEOpuqWzpLM/VgvW0+/NDX 7LBDGE2WXmvT2baQRhE3XGCdEDCsJ8MZ+cyhY= X-Google-DKIM-Signature: v=1; a=rsa-sha256; c=relaxed/relaxed; d=1e100.net; s=20230601; t=1762758979; x=1763363779; h=cc:to:from:subject:message-id:date:x-gm-gg:x-gm-message-state:from :to:cc:subject:date:message-id:reply-to; bh=6d0ofTPoqTJ9mBIhdO6Xrdi5YIRu2UnGdtf+WbuZe1A=; b=voqJnzxA9gTaXJ8oUiapBAy499GtENe9ooyEBMBmU2qZZiHvFZRp1Uz/i7hBszkxB3 Bq08TVKruhepE8RRYQ1e198hWL4N9pTCJzAwzDsP1ARW2jAyNq34Go4ZBHEdMLS2q5P9 EoZOFLlUnJC7ZP2xqY6VTIPkQkKz6L44KdiB/dVnN2ZqlVcagTmMJsU79xAy1mMGX1P5 1otgNp/GTJlIznYyD2uZUWfokpVJlMSj/e8JzApzvoPB+2/hf8sFGP42wQLAdpHyPMVG 0kW4s3UuChs12apJdpHGq4fYnxB4HPTzJaY8df32VabAos05SuG6OhUwWS4JkFI2zzxu Qv8A== X-Gm-Message-State: AOJu0YwxoFeq2GZJhEANF0cEwDcqv+qHTlaRZlb17CzWxYTshxb99wg2 p45JEG8wTclBmjPmFAikNXLnBCnY1YO2psa+Ah4QzwtPHZtv6yUnambsjGjFb3atc87ddio6QQ4 bSh/HGcYl6D30ZyGMQN+Q38X2QZsEW96+z/y7 X-Gm-Gg: ASbGncvhDKM0LphNurkDNQpaEm0BjuFYHbeHc8s8lua8VBLtiAeIp1dkxCPwTuGnzB8 ttuIU/0qDmPqHgHInKee0Zr+c6yMRzTDwcziTgiyzV+KoZUogntD3y34l+3IZ4xt9K6u8tu2gWf inMVIk/rkOEFwGmV6R2Y09W0o8C/MX70i0kYJUaecizoqo4I2EnOdADnMU737br5zVWtj+vVQsj H6EVaG8Jwt+HsAnWyHt9g/Yl0DqJUiPNee1DAo1HcWvEudd9FzTJsx5/Ow0ka9G3ltVgKujA61g qxs+NN1pqq0IACBJnh4ua/1hH57+VH6Ahjg4EarCJXs8845dd1ZX7HjiRcpIIiMzrErZ9UnTyWd bpOjApl8Te0E8gjrPWM2Q7yBuCzZt3e8= X-Google-Smtp-Source: AGHT+IFVahloes0fjeQZOhJ1Uw/KhpmnIsY2A4/bgW+a9aFb8qT2HUzyE0Bsu6jCEPS3Q4Yy3sZMJTnXY1Bk X-Received: by 2002:a05:6a00:1903:b0:7a6:f492:fe25 with SMTP id d2e1a72fcca58-7b225ad97eamr8209965b3a.7.1762758978923; Sun, 09 Nov 2025 23:16:18 -0800 (PST) Received: from postal.iol.unh.edu (postal.iol.unh.edu. [132.177.123.84]) by smtp-relay.gmail.com with ESMTPS id d2e1a72fcca58-7b0cce5c9bfsm896787b3a.11.2025.11.09.23.16.18 (version=TLS1_2 cipher=ECDHE-ECDSA-AES128-GCM-SHA256 bits=128/128); Sun, 09 Nov 2025 23:16:18 -0800 (PST) X-Relaying-Domain: iol.unh.edu Date: Sun, 09 Nov 2025 23:16:18 -0800 (PST) Message-ID: <69119142.050a0220.534bd.df37SMTPIN_ADDED_MISSING@mx.google.com> Received: from [172.21.0.2] (unknown [172.18.0.240]) by postal.iol.unh.edu (Postfix) with ESMTP id 321526051830; Mon, 10 Nov 2025 02:16:18 -0500 (EST) Subject: |SUCCESS| [GIT MASTER] 9784db2c5af1eecd02fc21132b59b5b266039b87 From: dpdklab@iol.unh.edu To: Test Report Cc: dpdk-test-reports@iol.unh.edu, Xueming Li , Christian Ehrhardt , Kevin Traynor , Luca Boccassi Content-Type: text/plain X-BeenThere: test-report@dpdk.org X-Mailman-Version: 2.1.29 Precedence: list List-Id: automatic DPDK test reports List-Unsubscribe: , List-Archive: List-Post: List-Help: List-Subscribe: , Errors-To: test-report-bounces@dpdk.org _Testing PASS_ Branch: tags/v22.11 9784db2c5af1eecd02fc21132b59b5b266039b87 --> testing pass Upstream job id: Generic-DPDK-Compile-Meson#442452 Test environment and result as below: +-------------------------------+--------------------+-------------------------+----------------------+ | Environment | dpdk_meson_compile | dpdk_llvm_clang_compile | dpdk_mingw64_compile | +===============================+====================+=========================+======================+ | CentOS Stream 9 | PASS | SKIPPED | SKIPPED | +-------------------------------+--------------------+-------------------------+----------------------+ | CentOS Stream 10 | PASS | SKIPPED | SKIPPED | +-------------------------------+--------------------+-------------------------+----------------------+ | Fedora Linux 42 | PASS | SKIPPED | SKIPPED | +-------------------------------+--------------------+-------------------------+----------------------+ | Red Hat Enterprise Linux 8.10 | PASS | SKIPPED | SKIPPED | +-------------------------------+--------------------+-------------------------+----------------------+ | openSUSE Leap 15.6 | PASS | SKIPPED | SKIPPED | +-------------------------------+--------------------+-------------------------+----------------------+ | Debian GNU/Linux 12 | PASS | SKIPPED | SKIPPED | +-------------------------------+--------------------+-------------------------+----------------------+ | Red Hat Enterprise Linux 9.5 | PASS | SKIPPED | SKIPPED | +-------------------------------+--------------------+-------------------------+----------------------+ | Ubuntu 20.04 | PASS | SKIPPED | SKIPPED | +-------------------------------+--------------------+-------------------------+----------------------+ | Ubuntu 22.04 | PASS | SKIPPED | SKIPPED | +-------------------------------+--------------------+-------------------------+----------------------+ | Ubuntu 24.04 | PASS | SKIPPED | SKIPPED | +-------------------------------+--------------------+-------------------------+----------------------+ | FreeBSD 14.2 | PASS | SKIPPED | SKIPPED | +-------------------------------+--------------------+-------------------------+----------------------+ | Windows Server 2022 | SKIPPED | PASS | PASS | +-------------------------------+--------------------+-------------------------+----------------------+ CentOS Stream 9 Kernel: 5.15 Compiler: gcc gcc (GCC) 11.5.0 20240719 (Red Hat 11.5.0-11) CentOS Stream 10 Kernel: 5.15 Compiler: gcc gcc (GCC) 14.2.1 20250110 (Red Hat 14.2.1-8) Fedora Linux 42 Kernel: 5.15 Compiler: gcc gcc (GCC) 15.2.1 20250808 (Red Hat 15.2.1-1) Red Hat Enterprise Linux 8.10 Kernel: 5.15 Compiler: gcc gcc (GCC) 8.5.0 20210514 (Red Hat 8.5.0-22) openSUSE Leap 15.6 Kernel: 5.15 Compiler: gcc gcc (SUSE Linux) 7.5.0 Debian GNU/Linux 12 Kernel: 5.15 Compiler: gcc gcc (Debian 12.2.0-14+deb12u1) 12.2.0 Red Hat Enterprise Linux 9.5 Kernel: 5.15 Compiler: gcc gcc (GCC) 11.5.0 20240719 (Red Hat 11.5.0-2) Ubuntu 20.04 Kernel: 5.15 Compiler: gcc gcc (Ubuntu 9.4.0-1ubuntu1~20.04.2) 9.4.0 Ubuntu 22.04 Kernel: 5.15 Compiler: gcc gcc (Ubuntu 11.4.0-1ubuntu1~22.04) 11.4.0 Ubuntu 24.04 Kernel: 5.15 Compiler: gcc gcc (Ubuntu 13.3.0-6ubuntu2~24.04) 13.3.0 FreeBSD 14.2 Kernel: 14.2-RELEASE Compiler: clang 18.1.6 Windows Server 2022 Kernel: 10.0.20348.2031 Compiler: clang 15.0.7, gcc 14.1.0 (MinGW), and MSVC VS 19.39.33521 To view detailed results, visit: https://lab.dpdk.org/results/dashboard/tarballs/35517/ UNH-IOL DPDK Community Lab To manage your email subscriptions, visit: https://lab.dpdk.org/results/dashboard/preferences/subscriptions/