From mboxrd@z Thu Jan 1 00:00:00 1970 Return-Path: Received: from mails.dpdk.org (mails.dpdk.org [217.70.189.124]) by inbox.dpdk.org (Postfix) with ESMTP id E7C5D48AC8 for ; Mon, 10 Nov 2025 08:43:59 +0100 (CET) Received: from mails.dpdk.org (localhost [127.0.0.1]) by mails.dpdk.org (Postfix) with ESMTP id E2FA4400D5; Mon, 10 Nov 2025 08:43:59 +0100 (CET) Received: from mail-pj1-f97.google.com (mail-pj1-f97.google.com [209.85.216.97]) by mails.dpdk.org (Postfix) with ESMTP id 47250402D1 for ; Mon, 10 Nov 2025 08:43:58 +0100 (CET) Received: by mail-pj1-f97.google.com with SMTP id 98e67ed59e1d1-340a5c58bf1so1822537a91.2 for ; Sun, 09 Nov 2025 23:43:58 -0800 (PST) DKIM-Signature: v=1; a=rsa-sha256; c=relaxed/relaxed; d=iol.unh.edu; s=unh-iol; t=1762760637; x=1763365437; darn=dpdk.org; h=cc:to:from:subject:message-id:date:from:to:cc:subject:date :message-id:reply-to; bh=zOuGOnKBNtjuG6mTA9XkPmu3NbrI5efVzVwMoeWF79c=; b=G4EU7GZ3i4VhbrwEQGzu3Bx1jGHJidwJtWltPe8siK8kLF0nIBv8yNo+UPv/aG1Fgv wqnkuRKZlA8Xp22EKOLQBzOlzm/TTJQpMLJHq8XjHZFHdw7HOaXRgZ9uoZJXGKD+PFda TIS3wol79LkDiVN9NNOzDKnbPx9xuo7/CygBk= X-Google-DKIM-Signature: v=1; a=rsa-sha256; c=relaxed/relaxed; d=1e100.net; s=20230601; t=1762760637; x=1763365437; h=cc:to:from:subject:message-id:date:x-gm-gg:x-gm-message-state:from :to:cc:subject:date:message-id:reply-to; bh=zOuGOnKBNtjuG6mTA9XkPmu3NbrI5efVzVwMoeWF79c=; b=wQ9rsvdVVkGUBKKvUiUtKDfMFBPDJJRBauXnlVJNzaryjE5+rgThTvF88rl5pmRxLP ZJszPWLiKLBwKIuDTcMj1ZKTYc9ul5tUOfYLck3haPdlDOQtS/DKLKJzZyoXJWl0lyg/ NJh1euYdR+yUlHqgmX+ogwoJKpmmPg/Tg/luxYWjbkYSSAUK3AuM41TrCvsQcrU3A1j1 UiXADbEf0oon5uccvjk71DniAiKEB+1ON54T6b+rPYnZy7I0MprPXZkKnYzqvDMaCP4T ffmQ168r1UnMC359KPaclWzNsCRvmG0pu9M+SMqk59/srLEjKcQGPIrNCseIrGTnkWWh jVpQ== X-Gm-Message-State: AOJu0YyM/2Q9868ubZDBoBfiprn/GL1pYoB92DSz5gGmwfkR9QRApx/J /8mtx1NBLxBS+wcrxHWNrdK5sGDY20j9bDfeeOJpeVIjgrhqRGXftndyvTeBBKNYl0wtdiUUzy+ chN4p9rP1bFEn2bjtpjBuz9we5d3/h0t8U0HEt5bB+Ku5D3PIbMOA X-Gm-Gg: ASbGncvXAf0cc7lTgrdIQAx0GlW22yEk+sV31TU66pUBPaWN/djx36zAJ+QEWJJiO/o Lsg4Ah/ii+4SDiIxb0FtoaCeV9NIwtXtJuC4QM0yy7OT7YCkst+sjWV9+CGachnZJZ354KWk5qn OfCBG+ZqaaqFzwAgp3QkquQlhxDQWaaglAR7+RaLVNVg0vEFsmMVlb8+keR4EurMzZrHosfDekw Q/mMWqxvSWFZrVTYohqYORQfBeUO9EGganRxRwSaGHm91qbZE4hnf+MeZyzpuyGqv/NJY3wt9AG hybnTEiwm3k1tmbff0OSU9GgJzSmYb5uvoKYOprFB8z0Zw3jeP4gLqvK/NUwTluu0M5R1D7gsEY nxggB+qFW X-Google-Smtp-Source: AGHT+IHgTMk0OEwpWzzaXZC0yIWWp9Mi5mXNkozbW4N0PgjFyNbWkjBoXlC+uzIeWVBvdFQIhKMCuaMk/KoA X-Received: by 2002:a17:90b:3850:b0:340:ec8f:82d8 with SMTP id 98e67ed59e1d1-3436cb89ad0mr11208208a91.12.1762760637276; Sun, 09 Nov 2025 23:43:57 -0800 (PST) Received: from postal.iol.unh.edu (postal.iol.unh.edu. [2606:4100:3880:1234::84]) by smtp-relay.gmail.com with ESMTPS id 98e67ed59e1d1-341a6916acdsm1520392a91.3.2025.11.09.23.43.57 (version=TLS1_2 cipher=ECDHE-ECDSA-AES128-GCM-SHA256 bits=128/128); Sun, 09 Nov 2025 23:43:57 -0800 (PST) X-Relaying-Domain: iol.unh.edu Date: Sun, 09 Nov 2025 23:43:57 -0800 (PST) Message-ID: <691197bd.170a0220.2b2d98.fb8cSMTPIN_ADDED_MISSING@mx.google.com> Received: from [172.21.0.2] (unknown [172.18.0.240]) by postal.iol.unh.edu (Postfix) with ESMTP id 62AAA6051830; Mon, 10 Nov 2025 02:43:56 -0500 (EST) Subject: |SUCCESS| [GIT MASTER] 0bd935abcb823f581ce53986986aa54eaf6f8140 From: dpdklab@iol.unh.edu To: Test Report Cc: dpdk-test-reports@iol.unh.edu, Xueming Li , Christian Ehrhardt , Kevin Traynor , Luca Boccassi Content-Type: text/plain X-BeenThere: test-report@dpdk.org X-Mailman-Version: 2.1.29 Precedence: list List-Id: automatic DPDK test reports List-Unsubscribe: , List-Archive: List-Post: List-Help: List-Subscribe: , Errors-To: test-report-bounces@dpdk.org _Testing PASS_ Branch: tags/v24.11 0bd935abcb823f581ce53986986aa54eaf6f8140 --> testing pass Upstream job id: Generic-DPDK-Compile-Meson#442433 Test environment and result as below: +-------------------------------+--------------------+------------------+-------------------+-------------------------+----------------------+ | Environment | dpdk_meson_compile | dpdk_compile_ovs | dpdk_msvc_compile | dpdk_llvm_clang_compile | dpdk_mingw64_compile | +===============================+====================+==================+===================+=========================+======================+ | CentOS Stream 9 | PASS | SKIPPED | SKIPPED | SKIPPED | SKIPPED | +-------------------------------+--------------------+------------------+-------------------+-------------------------+----------------------+ | Ubuntu 20.04 | PASS | SKIPPED | SKIPPED | SKIPPED | SKIPPED | +-------------------------------+--------------------+------------------+-------------------+-------------------------+----------------------+ | Red Hat Enterprise Linux 9.5 | PASS | SKIPPED | SKIPPED | SKIPPED | SKIPPED | +-------------------------------+--------------------+------------------+-------------------+-------------------------+----------------------+ | Debian GNU/Linux 12 | PASS | SKIPPED | SKIPPED | SKIPPED | SKIPPED | +-------------------------------+--------------------+------------------+-------------------+-------------------------+----------------------+ | Fedora Linux 42 | PASS | PASS | SKIPPED | SKIPPED | SKIPPED | +-------------------------------+--------------------+------------------+-------------------+-------------------------+----------------------+ | Red Hat Enterprise Linux 8.10 | PASS | SKIPPED | SKIPPED | SKIPPED | SKIPPED | +-------------------------------+--------------------+------------------+-------------------+-------------------------+----------------------+ | CentOS Stream 10 | PASS | SKIPPED | SKIPPED | SKIPPED | SKIPPED | +-------------------------------+--------------------+------------------+-------------------+-------------------------+----------------------+ | openSUSE Leap 15.6 | PASS | SKIPPED | SKIPPED | SKIPPED | SKIPPED | +-------------------------------+--------------------+------------------+-------------------+-------------------------+----------------------+ | Ubuntu 24.04 | PASS | PASS | SKIPPED | SKIPPED | SKIPPED | +-------------------------------+--------------------+------------------+-------------------+-------------------------+----------------------+ | Ubuntu 22.04 | PASS | SKIPPED | SKIPPED | SKIPPED | SKIPPED | +-------------------------------+--------------------+------------------+-------------------+-------------------------+----------------------+ | Alpine Linux 3.22.0 | PASS | SKIPPED | SKIPPED | SKIPPED | SKIPPED | +-------------------------------+--------------------+------------------+-------------------+-------------------------+----------------------+ | FreeBSD 14.2 | PASS | SKIPPED | SKIPPED | SKIPPED | SKIPPED | +-------------------------------+--------------------+------------------+-------------------+-------------------------+----------------------+ | Windows Server 2022 | SKIPPED | SKIPPED | PASS | PASS | PASS | +-------------------------------+--------------------+------------------+-------------------+-------------------------+----------------------+ CentOS Stream 9 Kernel: 5.15 Compiler: gcc gcc (GCC) 11.5.0 20240719 (Red Hat 11.5.0-11) Ubuntu 20.04 Kernel: 5.15 Compiler: gcc gcc (Ubuntu 9.4.0-1ubuntu1~20.04.2) 9.4.0 Red Hat Enterprise Linux 9.5 Kernel: 5.15 Compiler: gcc gcc (GCC) 11.5.0 20240719 (Red Hat 11.5.0-2) Debian GNU/Linux 12 Kernel: 5.15 Compiler: gcc gcc (Debian 12.2.0-14+deb12u1) 12.2.0 Fedora Linux 42 Kernel: 5.15 Compiler: clang gcc (GCC) 15.2.1 20250808 (Red Hat 15.2.1-1) Red Hat Enterprise Linux 8.10 Kernel: 5.15 Compiler: gcc gcc (GCC) 8.5.0 20210514 (Red Hat 8.5.0-22) CentOS Stream 10 Kernel: 5.15 Compiler: gcc gcc (GCC) 14.2.1 20250110 (Red Hat 14.2.1-8) openSUSE Leap 15.6 Kernel: 5.15 Compiler: gcc gcc (SUSE Linux) 7.5.0 Ubuntu 24.04 Kernel: 5.15 Compiler: gcc gcc (Ubuntu 13.3.0-6ubuntu2~24.04) 13.3.0 Ubuntu 22.04 Kernel: 5.15 Compiler: gcc gcc (Ubuntu 11.4.0-1ubuntu1~22.04) 11.4.0 Alpine Linux 3.22.0 Kernel: 5.15 Compiler: gcc gcc (Alpine 14.2.0) 14.2.0 FreeBSD 14.2 Kernel: 14.2-RELEASE Compiler: clang 18.1.6 Windows Server 2022 Kernel: 10.0.20348.2031 Compiler: clang 15.0.7, gcc 14.1.0 (MinGW), and MSVC VS 19.39.33521 To view detailed results, visit: https://lab.dpdk.org/results/dashboard/tarballs/35519/ UNH-IOL DPDK Community Lab To manage your email subscriptions, visit: https://lab.dpdk.org/results/dashboard/preferences/subscriptions/