From mboxrd@z Thu Jan 1 00:00:00 1970 Return-Path: Received: from mails.dpdk.org (mails.dpdk.org [217.70.189.124]) by inbox.dpdk.org (Postfix) with ESMTP id 069D648AC8 for ; Mon, 10 Nov 2025 09:01:52 +0100 (CET) Received: from mails.dpdk.org (localhost [127.0.0.1]) by mails.dpdk.org (Postfix) with ESMTP id E379B400D5; Mon, 10 Nov 2025 09:01:51 +0100 (CET) Received: from mail-qk1-f225.google.com (mail-qk1-f225.google.com [209.85.222.225]) by mails.dpdk.org (Postfix) with ESMTP id B3A2D400D5 for ; Mon, 10 Nov 2025 09:01:50 +0100 (CET) Received: by mail-qk1-f225.google.com with SMTP id af79cd13be357-8b271e6833fso72957685a.0 for ; Mon, 10 Nov 2025 00:01:50 -0800 (PST) DKIM-Signature: v=1; a=rsa-sha256; c=relaxed/relaxed; d=iol.unh.edu; s=unh-iol; t=1762761710; x=1763366510; darn=dpdk.org; h=cc:to:from:subject:message-id:date:from:to:cc:subject:date :message-id:reply-to; bh=xkiuirFf1RCMPm7xIgepk8IdZ6D2HJ0g7ZvkV4BOvnE=; b=dDPBNXdqq1WEF+JE+AFNwNxoQf2d3w9vtlZsgCZH3+V3p80fK+Np+jSGmV+Hnt3uEM HYDfvhhzhrwikXUjevjcBtHnQ12/Jc8ewEjVf4WywXexwTf6gqKJC9CZEcajx6rspZgw NjG+wPOZpe1Zyi5CNworWHBTgDwSPChTN0U5c= X-Google-DKIM-Signature: v=1; a=rsa-sha256; c=relaxed/relaxed; d=1e100.net; s=20230601; t=1762761710; x=1763366510; h=cc:to:from:subject:message-id:date:x-gm-gg:x-gm-message-state:from :to:cc:subject:date:message-id:reply-to; bh=xkiuirFf1RCMPm7xIgepk8IdZ6D2HJ0g7ZvkV4BOvnE=; b=PQZOxu5nwdrkqXKxWoAnW3tbCkn09e22bMFxWKLPSm9eOUCLKMnicrRMQvFXwXaGbC LNgfiwXHizkQa3erpZniusVkyOIupNO7Ft1E0oa/7PeOPZlKBjxCxIlVEAQsCLbAWmTH XHEhe/vtmWjunfP72ZKfDoPtL10pKV17q3c/eJjvoiIyhBpPceRmyaO8t9vQ7iZh7RCE Gy4/3G2o1Ssokx45kjsgL/oklnynJtv/MkIOEwXNCaP8QhYAhgjSfK7GCqNcqYE5G961 i3ICuWkti3qww4qKl2DSTu82YzTHlXlNwNNBNJcjhOEcBSzamJ+fgP7oBt+tCj2U9mqK MMaw== X-Gm-Message-State: AOJu0YxbM1p+XVx23wsa/KuxPIl/WEAuYZn0R3EwSFo3+20MsIFdMaMC 1P2+luW4DBRrbZEbssxrLVWn6FIvYsaFXyDkhB27Xy68JDF5kBPw7MC8xEXo0SrcMPri/Ayj6w5 +WxMjvaJYq2r46LLElavxW/+cK7UlCNt7bhWP X-Gm-Gg: ASbGncs3msCvVmkClZIOC5+dACUnMaI+4bREQvQah7phOEUUJMptjIuSNZ7HQ/wnflo NINbn1cFWcIpOi1M6CPwO4Ze6N++CFQuCxlJ1CjTDQhu5StUYYbSvu86m/E0FbH1BU4CPQ6ix09 /+H0ajVYXr3MtnL1kKszZd5in7PvhpIn2fgQMh+YQAJ1oPvFtE13X1GyKH3XE1GXR/ux5iIPNBx yo+soiPXbsu583/sNizuEzdHFMUHOfCRtPJUg0rLpQzw9OKLdRWLDqzjtoYHApUN0ZSNF9swlW/ iGokUFyLJ6324Im3YwFO+k/qRSyDaNwtXXfFiVmFXR2xocSPPSlGRSV1WPxD2he+0M5vOq4smvr 3BNXHyq6OEStzqv/K90+hpVi4qfzVG1Y= X-Google-Smtp-Source: AGHT+IGGYYKPQxmit5wtdwhGcisSpKuTzXaz6gxv0nosHFfYT8As+mo4IWpfJXfSkeLxM9rHxLNa82HgfJ0N X-Received: by 2002:a05:6214:403:b0:880:4f25:5888 with SMTP id 6a1803df08f44-8822f838080mr119943406d6.30.1762761710014; Mon, 10 Nov 2025 00:01:50 -0800 (PST) Received: from postal.iol.unh.edu (postal.iol.unh.edu. [132.177.123.84]) by smtp-relay.gmail.com with ESMTPS id 6a1803df08f44-8823896ad30sm8084616d6.6.2025.11.10.00.01.49 (version=TLS1_2 cipher=ECDHE-ECDSA-AES128-GCM-SHA256 bits=128/128); Mon, 10 Nov 2025 00:01:50 -0800 (PST) X-Relaying-Domain: iol.unh.edu Date: Mon, 10 Nov 2025 00:01:50 -0800 (PST) Message-ID: <69119bee.050a0220.1773d4.8978SMTPIN_ADDED_MISSING@mx.google.com> Received: from [172.21.0.4] (unknown [172.18.0.240]) by postal.iol.unh.edu (Postfix) with ESMTP id 8054F60003F4; Mon, 10 Nov 2025 03:01:49 -0500 (EST) Subject: |SUCCESS| [GIT MASTER] 9784db2c5af1eecd02fc21132b59b5b266039b87 From: dpdklab@iol.unh.edu To: Test Report Cc: dpdk-test-reports@iol.unh.edu, Xueming Li , Christian Ehrhardt , Kevin Traynor , Luca Boccassi Content-Type: text/plain X-BeenThere: test-report@dpdk.org X-Mailman-Version: 2.1.29 Precedence: list List-Id: automatic DPDK test reports List-Unsubscribe: , List-Archive: List-Post: List-Help: List-Subscribe: , Errors-To: test-report-bounces@dpdk.org _Testing PASS_ Branch: tags/v22.11 9784db2c5af1eecd02fc21132b59b5b266039b87 --> testing pass Upstream job id: Generic-Unit-Test-DPDK#390456 Test environment and result as below: +-----------------+------------------------------+--------------+---------------------------+----------------+ | Environment | cryptodev_sw_snow3g_autotest | lpm_autotest | cryptodev_sw_zuc_autotest | dpdk_unit_test | +=================+==============================+==============+===========================+================+ | Debian 12 (arm) | PASS | SKIPPED | PASS | SKIPPED | +-----------------+------------------------------+--------------+---------------------------+----------------+ | Ubuntu 20.04 | SKIPPED | PASS | SKIPPED | SKIPPED | +-----------------+------------------------------+--------------+---------------------------+----------------+ | Ubuntu 22.04 | SKIPPED | SKIPPED | SKIPPED | PASS | +-----------------+------------------------------+--------------+---------------------------+----------------+ Debian 12 (arm) Kernel: Depends on container host Compiler: gcc (Debian 12.2.0-14) 12.2.0 Ubuntu 20.04 Kernel: 5.4 Compiler: gcc gcc (Ubuntu 9.4.0-1ubuntu1~20.04.2) 9.4.0 Ubuntu 22.04 Kernel: 5.15 Compiler: gcc gcc (Ubuntu 11.4.0-1ubuntu1~22.04.2) 11.4.0 To view detailed results, visit: https://lab.dpdk.org/results/dashboard/tarballs/35517/ UNH-IOL DPDK Community Lab To manage your email subscriptions, visit: https://lab.dpdk.org/results/dashboard/preferences/subscriptions/