From mboxrd@z Thu Jan 1 00:00:00 1970 Return-Path: Received: from mails.dpdk.org (mails.dpdk.org [217.70.189.124]) by inbox.dpdk.org (Postfix) with ESMTP id B9B1848AC8 for ; Mon, 10 Nov 2025 09:20:16 +0100 (CET) Received: from mails.dpdk.org (localhost [127.0.0.1]) by mails.dpdk.org (Postfix) with ESMTP id AD633400D5; Mon, 10 Nov 2025 09:20:16 +0100 (CET) Received: from mail-qv1-f98.google.com (mail-qv1-f98.google.com [209.85.219.98]) by mails.dpdk.org (Postfix) with ESMTP id EFA5D400D5 for ; Mon, 10 Nov 2025 09:20:14 +0100 (CET) Received: by mail-qv1-f98.google.com with SMTP id 6a1803df08f44-88044caaa3eso30647256d6.3 for ; Mon, 10 Nov 2025 00:20:14 -0800 (PST) DKIM-Signature: v=1; a=rsa-sha256; c=relaxed/relaxed; d=iol.unh.edu; s=unh-iol; t=1762762814; x=1763367614; darn=dpdk.org; h=cc:to:from:subject:message-id:date:from:to:cc:subject:date :message-id:reply-to; bh=y2tMeGXywH3QLw88EjQbjjlD2SsY2Q5WDs7VuG12YZ0=; b=Xsy9mJ2R1JInS+rdSRaBSpHQc/LvRzfsFpi94GMvQlqjWI7k8qDc2lrEG7ZpxQk/nd 6nJPVehmb6fpmApG8tM8DUHMGllm3bFpwDrIj3CZGmtokByMK3mpLQ+l+DGGlufb8gA6 RDBPuLx6peIsiBHVH4SmW6oXOFpUpwXTgZawg= X-Google-DKIM-Signature: v=1; a=rsa-sha256; c=relaxed/relaxed; d=1e100.net; s=20230601; t=1762762814; x=1763367614; h=cc:to:from:subject:message-id:date:x-gm-gg:x-gm-message-state:from :to:cc:subject:date:message-id:reply-to; bh=y2tMeGXywH3QLw88EjQbjjlD2SsY2Q5WDs7VuG12YZ0=; b=bBEsaahqkLPjsxUNjfg+KgUV16qznETrojLrwo2s+qeghJgpCvCwHtRWTtNM3vC7ef hobOCCpLyeUM31dpyBJWoJH7EofaLyQEK5Va2Ic57Xi4H9KMH6IXAA9Wfhip896xwpAp Yn2zHCJO4fud3+6y5GUnSw6Xzz4MWUsRJAABKVMtftwigPPMi/BVLUbghlw3vxXW8P51 Kapp9yNMOf5vbyD7HjUySnRepo5GP36Rwl3I4/2M8mc1tHkqSf47JeFUSQqO0l575EoZ Q6GE9YIv0H61uagT9sOJsbtxMh5j5+HVq1Z6gbZ1NoifBOo2e4ttKdwbacniEUpm9yt5 xy5A== X-Gm-Message-State: AOJu0Yw+1CItCBR3LG2N0QY2S1zKFJ0rmkjnpIENfD6S7/71e3aTYozY FiXJNz1UjMYbvYkXOnwabREpt4a6p/3SlcuIuTG/ZlJbNq3jCyDM01IaLhfdPCPu7349EzQg0Ef rBK5ujtKYPC8MBcSDIgaj2H4NUZzv3t3YO6K+ X-Gm-Gg: ASbGncsKOCjYvmBdkuaxwGSUXGCi7vTWwrD1osssSZqIWTnocNbEuam7cNo5f6AMY2W ZRsXTCRoZVGC56TQoNNBuHyFSoWIGZX8ELdL2qkrTnOgpah09rlSxWeG38Hv67HoAU9kSG/9pzI 48H4eC0x+lDDHIOCLIST19tJLO75kQA6Yt49JhGPmUJ/SEiurxaJUSBc5r0GeW6VSMIXgpSY+oC lRTehnrDma7rDLiA0tJpszRah0vvaCDRpiqU11/n6Y10QLNcMBUYhAOMlLDnC6DdN83Iu0XOFRT YrwyTafumBcN/QcuiQ+W+ZxbBgU32lwTspqKQo0HOWMERi4rnS7cqK4GX7U5ikg46NBoW2j8Zlj fqHjb21gbl3xUNjIxLdypZ0/RjufH76k= X-Google-Smtp-Source: AGHT+IEh693kdQq8KTs03IA49x1u4NvbODrsOAE8u+sK8sE9ukz7mf1FqyQak/3zRK7dkVKe3GYulcTr6Lor X-Received: by 2002:a05:6214:20a8:b0:880:4c2d:dc8c with SMTP id 6a1803df08f44-88238606c72mr109133876d6.18.1762762814247; Mon, 10 Nov 2025 00:20:14 -0800 (PST) Received: from postal.iol.unh.edu (postal.iol.unh.edu. [132.177.123.84]) by smtp-relay.gmail.com with ESMTPS id 6a1803df08f44-88238992edcsm8159766d6.10.2025.11.10.00.20.14 (version=TLS1_2 cipher=ECDHE-ECDSA-AES128-GCM-SHA256 bits=128/128); Mon, 10 Nov 2025 00:20:14 -0800 (PST) X-Relaying-Domain: iol.unh.edu Date: Mon, 10 Nov 2025 00:20:14 -0800 (PST) Message-ID: <6911a03e.050a0220.1114a9.9d00SMTPIN_ADDED_MISSING@mx.google.com> Received: from [172.21.0.4] (unknown [172.18.0.240]) by postal.iol.unh.edu (Postfix) with ESMTP id 027506051830; Mon, 10 Nov 2025 03:20:14 -0500 (EST) Subject: |SUCCESS| [GIT MASTER] 0bd935abcb823f581ce53986986aa54eaf6f8140 From: dpdklab@iol.unh.edu To: Test Report Cc: dpdk-test-reports@iol.unh.edu, Xueming Li , Christian Ehrhardt , Kevin Traynor , Luca Boccassi Content-Type: text/plain X-BeenThere: test-report@dpdk.org X-Mailman-Version: 2.1.29 Precedence: list List-Id: automatic DPDK test reports List-Unsubscribe: , List-Archive: List-Post: List-Help: List-Subscribe: , Errors-To: test-report-bounces@dpdk.org _Testing PASS_ Branch: tags/v24.11 0bd935abcb823f581ce53986986aa54eaf6f8140 --> testing pass Upstream job id: Generic-Unit-Test-DPDK#390421 Test environment and result as below: +------------------------------+---------------------------+------------------------------+--------------+----------------+ | Environment | cryptodev_sw_zuc_autotest | cryptodev_sw_snow3g_autotest | lpm_autotest | dpdk_unit_test | +==============================+===========================+==============================+==============+================+ | Debian 12 (arm) | PASS | PASS | SKIPPED | SKIPPED | +------------------------------+---------------------------+------------------------------+--------------+----------------+ | Ubuntu 20.04 | SKIPPED | SKIPPED | PASS | PASS | +------------------------------+---------------------------+------------------------------+--------------+----------------+ | CentOS Stream 10 | SKIPPED | SKIPPED | SKIPPED | PASS | +------------------------------+---------------------------+------------------------------+--------------+----------------+ | Fedora Linux 40 | SKIPPED | SKIPPED | SKIPPED | PASS | +------------------------------+---------------------------+------------------------------+--------------+----------------+ | CentOS Stream 9 | SKIPPED | SKIPPED | SKIPPED | PASS | +------------------------------+---------------------------+------------------------------+--------------+----------------+ | Debian GNU/Linux 12 | SKIPPED | SKIPPED | SKIPPED | PASS | +------------------------------+---------------------------+------------------------------+--------------+----------------+ | Fedora Linux 42 | SKIPPED | SKIPPED | SKIPPED | PASS | +------------------------------+---------------------------+------------------------------+--------------+----------------+ | Fedora Linux 41 | SKIPPED | SKIPPED | SKIPPED | PASS | +------------------------------+---------------------------+------------------------------+--------------+----------------+ | Ubuntu 24.04 | SKIPPED | SKIPPED | SKIPPED | PASS | +------------------------------+---------------------------+------------------------------+--------------+----------------+ | Ubuntu 22.04 | SKIPPED | SKIPPED | SKIPPED | PASS | +------------------------------+---------------------------+------------------------------+--------------+----------------+ | Red Hat Enterprise Linux 9.5 | SKIPPED | SKIPPED | SKIPPED | PASS | +------------------------------+---------------------------+------------------------------+--------------+----------------+ Debian 12 (arm) Kernel: Depends on container host Compiler: gcc (Debian 12.2.0-14) 12.2.0 Ubuntu 20.04 Kernel: 5.4 Compiler: gcc gcc (Ubuntu 9.4.0-1ubuntu1~20.04.2) 9.4.0 CentOS Stream 10 Kernel: 5.4 Compiler: gcc gcc (GCC) 14.2.1 20250110 (Red Hat 14.2.1-8) Fedora Linux 40 Kernel: 5.4 Compiler: clang gcc (GCC) 14.2.1 20240912 (Red Hat 14.2.1-3) CentOS Stream 9 Kernel: 5.4 Compiler: gcc gcc (GCC) 11.5.0 20240719 (Red Hat 11.5.0-11) Debian GNU/Linux 12 Kernel: 5.4 Compiler: gcc gcc (Debian 12.2.0-14+deb12u1) 12.2.0 Fedora Linux 42 Kernel: 5.4 Compiler: clang gcc (GCC) 15.2.1 20250808 (Red Hat 15.2.1-1) Fedora Linux 41 Kernel: 5.4 Compiler: clang gcc (GCC) 14.3.1 20250523 (Red Hat 14.3.1-1) Ubuntu 24.04 Kernel: 5.4 Compiler: gcc gcc (Ubuntu 13.3.0-6ubuntu2~24.04) 13.3.0 Ubuntu 22.04 Kernel: 5.4 Compiler: gcc gcc (Ubuntu 11.4.0-1ubuntu1~22.04) 11.4.0 Red Hat Enterprise Linux 9.5 Kernel: 5.4 Compiler: gcc gcc (GCC) 11.5.0 20240719 (Red Hat 11.5.0-2) To view detailed results, visit: https://lab.dpdk.org/results/dashboard/tarballs/35519/ UNH-IOL DPDK Community Lab To manage your email subscriptions, visit: https://lab.dpdk.org/results/dashboard/preferences/subscriptions/