From mboxrd@z Thu Jan 1 00:00:00 1970 Return-Path: Received: from mails.dpdk.org (mails.dpdk.org [217.70.189.124]) by inbox.dpdk.org (Postfix) with ESMTP id 0D84848AC8 for ; Mon, 10 Nov 2025 09:32:26 +0100 (CET) Received: from mails.dpdk.org (localhost [127.0.0.1]) by mails.dpdk.org (Postfix) with ESMTP id DC504400D5; Mon, 10 Nov 2025 09:32:25 +0100 (CET) Received: from mail-il1-f228.google.com (mail-il1-f228.google.com [209.85.166.228]) by mails.dpdk.org (Postfix) with ESMTP id E69C8400D5 for ; Mon, 10 Nov 2025 09:32:23 +0100 (CET) Received: by mail-il1-f228.google.com with SMTP id e9e14a558f8ab-4330e912c51so12716295ab.3 for ; Mon, 10 Nov 2025 00:32:23 -0800 (PST) DKIM-Signature: v=1; a=rsa-sha256; c=relaxed/relaxed; d=iol.unh.edu; s=unh-iol; t=1762763543; x=1763368343; darn=dpdk.org; h=cc:to:from:subject:message-id:date:from:to:cc:subject:date :message-id:reply-to; bh=URFqrz4rdmo+x+NqE3Mfyrr03xq0MK18UA1RBZALoIg=; b=Qkrn2MdTMD2ySLyoQEP8ptCmcgwl9JPAP6W+ITaLl7HctTLez9JhZAf6RjXlJ72IG/ XPiCg171sy18LL4DOiInPmvfwnTNPIxBwLJqGAqCo9wuXsTm8gUqa85KrdpCRQmGQfuC sVthQ6u6+65aNukE8ddNFCb0a61a15f4y2m5k= X-Google-DKIM-Signature: v=1; a=rsa-sha256; c=relaxed/relaxed; d=1e100.net; s=20230601; t=1762763543; x=1763368343; h=cc:to:from:subject:message-id:date:x-gm-gg:x-gm-message-state:from :to:cc:subject:date:message-id:reply-to; bh=URFqrz4rdmo+x+NqE3Mfyrr03xq0MK18UA1RBZALoIg=; b=PbQeP6xMIZr21pUTw3oBp46XgnblTvmcJG1OJrW3q3FT8p7q0NfywB8XLrm3xVx7hl PRwR3vuGxACx8Y0ICiitfmmHIPycM2rswEuZ5N6X6ixFNx3VBTz5dAsBq9olxwnCRG+8 O3XtaL9yBWNCKh2NUV35A6jsXM9H1LnoweXh//ftoxlhESCyTayt39k3+tI56nAA5V7B LFvkXJ/GDDPtLWGMzf1e6S7YQK22tRHPM7vXwRm0N4zH5dv7OH0K6Za8dHJO8w6G97ZP TtjP0TcfWmolkLXJHyAjG0VR+mnavkIFWwMSFajm0gNLzSarnLdTNfab2XCpVIdSPaVW Ujng== X-Gm-Message-State: AOJu0YwdmBQSVdU3SyFX6n+5ELJ+U+DAEj61YiLP/VD1InvEj1YSpIjL k7vLwj/R2U0fFFWgpngAkTnXjx7/RPbbYF2UdwcdSVlfHk6D7xcjuTw5hsxK5gSVk1WxgUIeaD3 YLBvuV6am3onp4cdhrAoUBKaJ7Jt7hD4RRSkm X-Gm-Gg: ASbGncv6xBL9rX83eNykEeFWnJbLbb0M9WYirae8cScekkyhdcXtUZxPfdW+ujLy0hz 5CvU6erhdp+b9c50qFxj3lOdiKpTY+WCyk/L5OhxC2922umyoOfULa7GdpK1UcFzExgCmvOojf1 t6oIQRtWANZNnX2PPlYG62Iul41lfh3diEli+mh9jeVGQBh15vtv/qL7YNTBx1QE7JMaFzFVCrI /Oln6uNM3qnTCkQPU9saDr5vJyzLQ8nGnA3HAyBiHU2xjEdSMwbk6ea65DfALo/wna7Bnl8TQ21 I/c/eB58CytqsX1PHmhlYOQB0IU+0bP6kQtrdJjzRjse4DoJo3HazALBMSBDI313WYAaQFE4fH1 2UzFusSY3bgo7DDxfMC7efVUrI0UuJm8= X-Google-Smtp-Source: AGHT+IH0xNJutLB6sm+Og9bwSJccdKtOB/GwWhKToqyYsdg2FPXqC7p04XlPn9ntpbMNRilY96T6JH5i/gHn X-Received: by 2002:a05:6e02:1747:b0:433:2072:9d2c with SMTP id e9e14a558f8ab-43367ddda84mr116961855ab.10.1762763543163; Mon, 10 Nov 2025 00:32:23 -0800 (PST) Received: from postal.iol.unh.edu (postal.iol.unh.edu. [132.177.123.84]) by smtp-relay.gmail.com with ESMTPS id 8926c6da1cb9f-5b74679bafbsm1463170173.17.2025.11.10.00.32.23 (version=TLS1_2 cipher=ECDHE-ECDSA-AES128-GCM-SHA256 bits=128/128); Mon, 10 Nov 2025 00:32:23 -0800 (PST) X-Relaying-Domain: iol.unh.edu Date: Mon, 10 Nov 2025 00:32:23 -0800 (PST) Message-ID: <6911a317.050a0220.109112.ce4cSMTPIN_ADDED_MISSING@mx.google.com> Received: from [172.21.0.3] (unknown [172.18.0.240]) by postal.iol.unh.edu (Postfix) with ESMTP id A06FD6051830; Mon, 10 Nov 2025 03:32:22 -0500 (EST) Subject: |SUCCESS| [GIT MASTER] 0bd935abcb823f581ce53986986aa54eaf6f8140 From: dpdklab@iol.unh.edu To: Test Report Cc: dpdk-test-reports@iol.unh.edu, Xueming Li , Christian Ehrhardt , Kevin Traynor , Luca Boccassi Content-Type: text/plain X-BeenThere: test-report@dpdk.org X-Mailman-Version: 2.1.29 Precedence: list List-Id: automatic DPDK test reports List-Unsubscribe: , List-Archive: List-Post: List-Help: List-Subscribe: , Errors-To: test-report-bounces@dpdk.org _Testing PASS_ Branch: tags/v24.11 0bd935abcb823f581ce53986986aa54eaf6f8140 --> testing pass Upstream job id: Generic-DPDK-Compile-Meson#442440 Test environment and result as below: +------------------------------+--------------------+ | Environment | dpdk_meson_compile | +==============================+====================+ | Fedora Linux 42 | PASS | +------------------------------+--------------------+ | Debian GNU/Linux 12 | PASS | +------------------------------+--------------------+ | Red Hat Enterprise Linux 9.5 | PASS | +------------------------------+--------------------+ | Ubuntu 20.04 | PASS | +------------------------------+--------------------+ | Ubuntu 22.04 | PASS | +------------------------------+--------------------+ | CentOS Stream 10 | PASS | +------------------------------+--------------------+ | CentOS Stream 9 | PASS | +------------------------------+--------------------+ | Ubuntu 24.04 | PASS | +------------------------------+--------------------+ Fedora Linux 42 Kernel: 5.4 Compiler: clang gcc (GCC) 15.2.1 20250808 (Red Hat 15.2.1-1) Debian GNU/Linux 12 Kernel: 5.4 Compiler: gcc gcc (Debian 12.2.0-14+deb12u1) 12.2.0 Red Hat Enterprise Linux 9.5 Kernel: 5.4 Compiler: gcc gcc (GCC) 11.5.0 20240719 (Red Hat 11.5.0-2) Ubuntu 20.04 Kernel: 5.4 Compiler: gcc gcc (Ubuntu 9.4.0-1ubuntu1~20.04.2) 9.4.0 Ubuntu 22.04 Kernel: 5.4 Compiler: gcc gcc (Ubuntu 11.4.0-1ubuntu1~22.04) 11.4.0 CentOS Stream 10 Kernel: 5.4 Compiler: gcc gcc (GCC) 14.2.1 20250110 (Red Hat 14.2.1-8) CentOS Stream 9 Kernel: 5.4 Compiler: gcc gcc (GCC) 11.5.0 20240719 (Red Hat 11.5.0-11) Ubuntu 24.04 Kernel: 5.4 Compiler: gcc gcc (Ubuntu 13.3.0-6ubuntu2~24.04) 13.3.0 To view detailed results, visit: https://lab.dpdk.org/results/dashboard/tarballs/35519/ UNH-IOL DPDK Community Lab To manage your email subscriptions, visit: https://lab.dpdk.org/results/dashboard/preferences/subscriptions/