From mboxrd@z Thu Jan 1 00:00:00 1970 Return-Path: Received: from mails.dpdk.org (mails.dpdk.org [217.70.189.124]) by inbox.dpdk.org (Postfix) with ESMTP id 634EE48AC8 for ; Mon, 10 Nov 2025 09:54:21 +0100 (CET) Received: from mails.dpdk.org (localhost [127.0.0.1]) by mails.dpdk.org (Postfix) with ESMTP id 5BFC5402F0; Mon, 10 Nov 2025 09:54:21 +0100 (CET) Received: from mail-qv1-f98.google.com (mail-qv1-f98.google.com [209.85.219.98]) by mails.dpdk.org (Postfix) with ESMTP id D91564042E for ; Mon, 10 Nov 2025 09:54:20 +0100 (CET) Received: by mail-qv1-f98.google.com with SMTP id 6a1803df08f44-88246676008so14068796d6.3 for ; Mon, 10 Nov 2025 00:54:20 -0800 (PST) DKIM-Signature: v=1; a=rsa-sha256; c=relaxed/relaxed; d=iol.unh.edu; s=unh-iol; t=1762764860; x=1763369660; darn=dpdk.org; h=references:in-reply-to:cc:to:from:subject:message-id:date:from:to :cc:subject:date:message-id:reply-to; bh=Ea+x2EXQHuA0XJZGQgM7SaCLId6QSShx/v8dmyesXQk=; b=Y5SapgrE6vkNO+HanbemTzRjweBRKyO7VDsrcHPe0mhmOJLvjUfAiXfAY9Zyzp03t2 NYVh+VoxE2jM4t1S4lJRgSj1LSAwOlN3TEKc0SzSOYOJTXV7QSngpfrB4afaBxN+0SBi Ar7TInNy9NE5cfv7uyfLC3qjiZF1JIKYs9V8I= X-Google-DKIM-Signature: v=1; a=rsa-sha256; c=relaxed/relaxed; d=1e100.net; s=20230601; t=1762764860; x=1763369660; h=references:in-reply-to:cc:to:from:subject:message-id:date:x-gm-gg :x-gm-message-state:from:to:cc:subject:date:message-id:reply-to; bh=Ea+x2EXQHuA0XJZGQgM7SaCLId6QSShx/v8dmyesXQk=; b=unZ4Vn+coVGkfJ4CnrdGAjlVATIqng54JpZNl5jrDNTJ8Xp5887g4+pS2Y9ljZfe3b Cv5teUqS+S4kdfDSJIiNnVmv6tB0fFXXotCNP7JPG/O/ynHOBJvgfQfhVfs6E6F3Yj0m p9fYd5GbwrWm7E9eHtsYFuOz8ZmKO1vl/bS7XM5GAurptp5AjrFloJG3eDUa6y9ldWx+ ILPhc1LeZyYaI2GydZIIsk4ztGu5bnQjJ0Lfvxp+VaeI4/knpSEj5PrQCpKtXB0ReDv6 F900FzeqD/eY/g5yrc9+qTo3Xc9gwkl9AdrtT+99Xeqej+8EHivKJrIz5LCCgBxKTY58 gUvg== X-Gm-Message-State: AOJu0YzY1ssQRrs4DHNdUkwuE2xtjcPVyB20Yp4/AkE5rkVuoZw3smuJ 6pcWz06BxX9yBX3iZVhHfsccWrz+Yog5Y2B1aAAxrbq3xt5AOVu5t/C8AMUzun+abMlCXb53IrM 1tJyyRKgedwIlP3FmqpJdnMsTalRTFkgsF8QTu1lY09VSwPCcsjyuV0R5XoWM X-Gm-Gg: ASbGnct/fsKolYzsROtD0PtnYZQgdcUH66Rt1lerTRb9BtCWyECA/mL9kn38qWDM1NA sv4s//sNBGX2lXAYbwZnTWPNVIFgh3CV//zYIOrisHW24G9wMXS16oTCJ85HqVLaxZ+XM6gvccB E95p/mM5mxSWpOF7rCZJ2fJntG7fXkjpV7AweB8rXVdIfQH8aIfdHxomrIt7FvrWGL85qv1nXc9 az05U+e/wQjHEpYnbC7GugtNSH/rBsTpWrLpa0W2x9YfSvkUiOkn+XqZk49aRfaapMpznZjqsdn eBoRWF40l8yi8PKIwb531xx+UvEXNIhr+ok8MaNPiyGvDtYOj2iUq0lfyUixFoC3BGyWA5E72e4 f0ECRzat7 X-Google-Smtp-Source: AGHT+IHhBP8cj4UytCYjdZaX1ZiZT/b3Qf2zkSYMgTw+TrVMC+vc1dWAo9LUhCZzLJpwq7IjunlNsyUmBwu5 X-Received: by 2002:a05:6214:2583:b0:880:854:908f with SMTP id 6a1803df08f44-882386bc05cmr95133626d6.38.1762764860311; Mon, 10 Nov 2025 00:54:20 -0800 (PST) Received: from postal.iol.unh.edu (postal.iol.unh.edu. [2606:4100:3880:1234::84]) by smtp-relay.gmail.com with ESMTPS id 6a1803df08f44-88238b81d74sm8030066d6.29.2025.11.10.00.54.20 (version=TLS1_2 cipher=ECDHE-ECDSA-AES128-GCM-SHA256 bits=128/128); Mon, 10 Nov 2025 00:54:20 -0800 (PST) X-Relaying-Domain: iol.unh.edu Date: Mon, 10 Nov 2025 00:54:20 -0800 (PST) Message-ID: <6911a83c.050a0220.35430f.88c6SMTPIN_ADDED_MISSING@mx.google.com> Received: from [172.21.0.3] (unknown [172.18.0.240]) by postal.iol.unh.edu (Postfix) with ESMTP id F2F486051830; Mon, 10 Nov 2025 03:54:19 -0500 (EST) Subject: |SUCCESS| pw158625-158626 [PATCH] [v5,2/2] app/testpmd: support mult From: dpdklab@iol.unh.edu To: Test Report Cc: dpdk-test-reports@iol.unh.edu, Stephen Hemminger In-Reply-To: <20251110073610.14020-3-fengchengwen@huawei.com> References: <20251110073610.14020-3-fengchengwen@huawei.com> Content-Type: text/plain X-BeenThere: test-report@dpdk.org X-Mailman-Version: 2.1.29 Precedence: list List-Id: automatic DPDK test reports List-Unsubscribe: , List-Archive: List-Post: List-Help: List-Subscribe: , Errors-To: test-report-bounces@dpdk.org Test-Label: iol-unit-amd64-testing Test-Status: SUCCESS http://dpdk.org/patch/158626 _Testing PASS_ Submitter: Chengwen Feng Date: Monday, November 10 2025 07:36:10 DPDK git baseline: Repo:dpdk-next-net Branch: master CommitID:591ee7f468aebec30d68d30afa8d5e4dcfc897dc 158625-158626 --> testing pass Upstream job id: Generic-Unit-Test-DPDK#390473 Test environment and result as below: +-------------------------------+----------------+ | Environment | dpdk_unit_test | +===============================+================+ | CentOS Stream 10 | PASS | +-------------------------------+----------------+ | Fedora Linux 41 | PASS | +-------------------------------+----------------+ | Ubuntu 24.04 | PASS | +-------------------------------+----------------+ | CentOS Stream 9 | PASS | +-------------------------------+----------------+ | Debian GNU/Linux 12 | PASS | +-------------------------------+----------------+ | Ubuntu 22.04 | PASS | +-------------------------------+----------------+ | Ubuntu 20.04 | PASS | +-------------------------------+----------------+ | Red Hat Enterprise Linux 9.5 | PASS | +-------------------------------+----------------+ | Fedora Linux 40 | PASS | +-------------------------------+----------------+ | Windows Server 2022 | PASS | +-------------------------------+----------------+ | Red Hat Enterprise Linux 8.10 | PASS | +-------------------------------+----------------+ | Fedora Linux 42 | PASS | +-------------------------------+----------------+ CentOS Stream 10 Kernel: 5.15 Compiler: gcc gcc (GCC) 14.2.1 20250110 (Red Hat 14.2.1-8) Fedora Linux 41 Kernel: 5.15 Compiler: clang gcc (GCC) 14.3.1 20250523 (Red Hat 14.3.1-1) Ubuntu 24.04 Kernel: 5.15 Compiler: gcc gcc (Ubuntu 13.3.0-6ubuntu2~24.04) 13.3.0 CentOS Stream 9 Kernel: 5.15 Compiler: gcc gcc (GCC) 11.5.0 20240719 (Red Hat 11.5.0-11) Debian GNU/Linux 12 Kernel: 5.15 Compiler: gcc gcc (Debian 12.2.0-14+deb12u1) 12.2.0 Ubuntu 22.04 Kernel: 5.15 Compiler: gcc gcc (Ubuntu 11.4.0-1ubuntu1~22.04) 11.4.0 Ubuntu 20.04 Kernel: 5.15 Compiler: gcc gcc (Ubuntu 9.4.0-1ubuntu1~20.04.2) 9.4.0 Red Hat Enterprise Linux 9.5 Kernel: 5.15 Compiler: gcc gcc (GCC) 11.5.0 20240719 (Red Hat 11.5.0-2) Fedora Linux 40 Kernel: 5.15 Compiler: gcc gcc (GCC) 14.2.1 20240912 (Red Hat 14.2.1-3) Windows Server 2022 Kernel: 10.0.20348.2031 Compiler: clang 15.0.7, gcc 14.1.0 (MinGW), and MSVC VS 19.39.33521 Red Hat Enterprise Linux 8.10 Kernel: 5.15 Compiler: gcc gcc (GCC) 8.5.0 20210514 (Red Hat 8.5.0-22) Fedora Linux 42 Kernel: 5.15 Compiler: clang gcc (GCC) 15.2.1 20250808 (Red Hat 15.2.1-1) To view detailed results, visit: https://lab.dpdk.org/results/dashboard/patchsets/34516/ UNH-IOL DPDK Community Lab To manage your email subscriptions, visit: https://lab.dpdk.org/results/dashboard/preferences/subscriptions/