From mboxrd@z Thu Jan 1 00:00:00 1970 Return-Path: Received: from mails.dpdk.org (mails.dpdk.org [217.70.189.124]) by inbox.dpdk.org (Postfix) with ESMTP id 892A548AC8 for ; Mon, 10 Nov 2025 09:55:55 +0100 (CET) Received: from mails.dpdk.org (localhost [127.0.0.1]) by mails.dpdk.org (Postfix) with ESMTP id 845CD402C8; Mon, 10 Nov 2025 09:55:55 +0100 (CET) Received: from mail-io1-f100.google.com (mail-io1-f100.google.com [209.85.166.100]) by mails.dpdk.org (Postfix) with ESMTP id 1F478402C8 for ; Mon, 10 Nov 2025 09:55:54 +0100 (CET) Received: by mail-io1-f100.google.com with SMTP id ca18e2360f4ac-9489c7bc020so60850539f.1 for ; Mon, 10 Nov 2025 00:55:54 -0800 (PST) DKIM-Signature: v=1; a=rsa-sha256; c=relaxed/relaxed; d=iol.unh.edu; s=unh-iol; t=1762764953; x=1763369753; darn=dpdk.org; h=references:in-reply-to:cc:to:from:subject:message-id:date:from:to :cc:subject:date:message-id:reply-to; bh=Qxbqz/svfkM5Ktf6OuriQ+dARISJvRQFrjAUIoeZaKk=; b=R0GrcGinaZTW5bGtZiOjypv8U+yyr73s5VRuukWqBvEQ1IC4urf7kaY3d0njXb2FcI /8bTSJQgiUmm/KObauY3ua8oRZZObjcN2QalPVpqY5jGiobQvNqz9HWKFmAv59H78De7 oShuNNJ5scSldbtp1Pe5FwmUWI0sWMnW5/sm8= X-Google-DKIM-Signature: v=1; a=rsa-sha256; c=relaxed/relaxed; d=1e100.net; s=20230601; t=1762764953; x=1763369753; h=references:in-reply-to:cc:to:from:subject:message-id:date:x-gm-gg :x-gm-message-state:from:to:cc:subject:date:message-id:reply-to; bh=Qxbqz/svfkM5Ktf6OuriQ+dARISJvRQFrjAUIoeZaKk=; b=MLzsPp+SDQZImTY7fh78zu/Fdwp8I+BaCvb0Hf/Q+HXzNePaIzz5x5lManDPgA35Vd cJQx+6aewd/fqgJfylOi9rl6+0bawWLm+e+VzVgq7aFo5FpQP/NUgKcFPPiB5dvw7rLM jlqYWDPt21sx/w3+vEQLJU7paShhRXCMJZPBC51ZmarYQOz4KhhroqsesXgBMz9B84+q gNVDXtWKPzsSm5p4Q6ZK55hRcmGnFEweZMxmQhHbN3ScAuN/LtcQ2VECkZ8GwnaUR7Uq D2MouWxbY4A+Chcrvr3EQNUDjzCqXAb9MFLmR6Bq3p9RFo5Wfmw1TDpF4esvPFz0AKN2 BHSA== X-Gm-Message-State: AOJu0YyCZk/xYIRJ8sMVF6vTwNKHF87MaTF9cUQAZLTZ2FHj7ti+Ly+l aBProOPtBcoELmUWJQLgGzk5UlzF2wfSEifU0NtHYThxW4nXm/fEarHHHKZ6xZAVtkiOG0WVFsI vkKafVxrHY5gBmLU7Ndhsz2ufq1ircw3IWl6sPPlGaMXx X-Gm-Gg: ASbGncsWTMayB+X1rDMWkwVPyDNs15E8i0IsOLkTkVEx2z+g05o1Cs7rXXPTrH3+6O4 IjGGUoWu30Y0EoQWaqAI9gDHmuM8yZOHV39YlG1J5dhlt8PNmVYrOHeYNDBd9vo45NbX9T4ny88 dQFbNleLUEXSWXt5cj36+EtxPprUBOAD78wqBpVkEiNGF5k4ZHVuh1qCeclpMD8F6Ia8zUx4NNf 9NnzgmWumRRHbQ+JPA7bFHDE8vFUBl+vufwYnsuzX0HZaU3/f7uLLyrug1LAIl3mmVANYRFWX1X h/rQyJpAwfVJsE5IIR7KTrYI0lJJIkNM6en6cDPuFyaqSKbn2I2FTokgSxZhczIgGHjuS0AiJnh F/Un0O7R4nRd+N/kIRnbPi33ZsVP7mfs= X-Google-Smtp-Source: AGHT+IHZFRAHB1cecwxaZHOBuE3TIguGHRcymrW47cG7TBDzI5AXvcbIY/gNABgT32h3SiPgE+KumOnTW8FV X-Received: by 2002:a05:6602:168f:b0:948:9c72:cbb2 with SMTP id ca18e2360f4ac-9489c72d6c3mr711051439f.18.1762764953435; Mon, 10 Nov 2025 00:55:53 -0800 (PST) Received: from postal.iol.unh.edu (postal.iol.unh.edu. [132.177.123.84]) by smtp-relay.gmail.com with ESMTPS id ca18e2360f4ac-94888b31bb1sm61946239f.6.2025.11.10.00.55.53 (version=TLS1_2 cipher=ECDHE-ECDSA-AES128-GCM-SHA256 bits=128/128); Mon, 10 Nov 2025 00:55:53 -0800 (PST) X-Relaying-Domain: iol.unh.edu Date: Mon, 10 Nov 2025 00:55:53 -0800 (PST) Message-ID: <6911a899.5d0a0220.2c710b.f630SMTPIN_ADDED_MISSING@mx.google.com> Received: from [172.21.0.3] (unknown [172.18.0.240]) by postal.iol.unh.edu (Postfix) with ESMTP id 007E86051830; Mon, 10 Nov 2025 03:55:53 -0500 (EST) Subject: |SUCCESS| pw158627 [PATCH] [v2] net/ice: fix statistics read error From: dpdklab@iol.unh.edu To: Test Report Cc: dpdk-test-reports@iol.unh.edu, Bruce Richardson In-Reply-To: <20251110080514.2506769-1-zhichaox.zeng@intel.com> References: <20251110080514.2506769-1-zhichaox.zeng@intel.com> Content-Type: text/plain X-BeenThere: test-report@dpdk.org X-Mailman-Version: 2.1.29 Precedence: list List-Id: automatic DPDK test reports List-Unsubscribe: , List-Archive: List-Post: List-Help: List-Subscribe: , Errors-To: test-report-bounces@dpdk.org Test-Label: iol-compile-amd64-testing Test-Status: SUCCESS http://dpdk.org/patch/158627 _Testing PASS_ Submitter: Zhichao Zeng Date: Monday, November 10 2025 08:05:14 DPDK git baseline: Repo:dpdk-next-net-intel Branch: master CommitID:1655dc989bc95fa85fc76d32912d2e46c0851148 158627 --> testing pass Upstream job id: Windows-Compile-DPDK-Native#32249 Test environment and result as below: +-------------------------------+--------------------+------------------+-------------------+-------------------------+ | Environment | dpdk_meson_compile | dpdk_compile_ovs | dpdk_msvc_compile | dpdk_llvm_clang_compile | +===============================+====================+==================+===================+=========================+ | Debian GNU/Linux 12 | PASS | SKIPPED | SKIPPED | SKIPPED | +-------------------------------+--------------------+------------------+-------------------+-------------------------+ | CentOS Stream 10 | PASS | SKIPPED | SKIPPED | SKIPPED | +-------------------------------+--------------------+------------------+-------------------+-------------------------+ | CentOS Stream 9 | PASS | SKIPPED | SKIPPED | SKIPPED | +-------------------------------+--------------------+------------------+-------------------+-------------------------+ | Ubuntu 24.04 | PASS | PASS | SKIPPED | SKIPPED | +-------------------------------+--------------------+------------------+-------------------+-------------------------+ | Fedora Linux 42 | PASS | PASS | SKIPPED | SKIPPED | +-------------------------------+--------------------+------------------+-------------------+-------------------------+ | openSUSE Leap 15.6 | PASS | SKIPPED | SKIPPED | SKIPPED | +-------------------------------+--------------------+------------------+-------------------+-------------------------+ | Ubuntu 22.04 | PASS | SKIPPED | SKIPPED | SKIPPED | +-------------------------------+--------------------+------------------+-------------------+-------------------------+ | Red Hat Enterprise Linux 8.10 | PASS | SKIPPED | SKIPPED | SKIPPED | +-------------------------------+--------------------+------------------+-------------------+-------------------------+ | Ubuntu 20.04 | PASS | SKIPPED | SKIPPED | SKIPPED | +-------------------------------+--------------------+------------------+-------------------+-------------------------+ | Red Hat Enterprise Linux 9.5 | PASS | SKIPPED | SKIPPED | SKIPPED | +-------------------------------+--------------------+------------------+-------------------+-------------------------+ | Alpine Linux 3.22.0 | PASS | SKIPPED | SKIPPED | SKIPPED | +-------------------------------+--------------------+------------------+-------------------+-------------------------+ | FreeBSD 14.2 | PASS | SKIPPED | SKIPPED | SKIPPED | +-------------------------------+--------------------+------------------+-------------------+-------------------------+ | Windows Server 2022 | SKIPPED | SKIPPED | PASS | PASS | +-------------------------------+--------------------+------------------+-------------------+-------------------------+ Debian GNU/Linux 12 Kernel: 5.15 Compiler: gcc gcc (Debian 12.2.0-14+deb12u1) 12.2.0 CentOS Stream 10 Kernel: 5.15 Compiler: gcc gcc (GCC) 14.2.1 20250110 (Red Hat 14.2.1-8) CentOS Stream 9 Kernel: 5.15 Compiler: gcc gcc (GCC) 11.5.0 20240719 (Red Hat 11.5.0-11) Ubuntu 24.04 Kernel: 5.15 Compiler: gcc gcc (Ubuntu 13.3.0-6ubuntu2~24.04) 13.3.0 Fedora Linux 42 Kernel: 5.15 Compiler: gcc gcc (GCC) 15.2.1 20250808 (Red Hat 15.2.1-1) openSUSE Leap 15.6 Kernel: 5.15 Compiler: gcc gcc (SUSE Linux) 7.5.0 Ubuntu 22.04 Kernel: 5.15 Compiler: gcc gcc (Ubuntu 11.4.0-1ubuntu1~22.04) 11.4.0 Red Hat Enterprise Linux 8.10 Kernel: 5.15 Compiler: gcc gcc (GCC) 8.5.0 20210514 (Red Hat 8.5.0-22) Ubuntu 20.04 Kernel: 5.15 Compiler: gcc gcc (Ubuntu 9.4.0-1ubuntu1~20.04.2) 9.4.0 Red Hat Enterprise Linux 9.5 Kernel: 5.15 Compiler: gcc gcc (GCC) 11.5.0 20240719 (Red Hat 11.5.0-2) Alpine Linux 3.22.0 Kernel: 5.15 Compiler: gcc gcc (Alpine 14.2.0) 14.2.0 FreeBSD 14.2 Kernel: 14.2-RELEASE Compiler: clang 18.1.6 Windows Server 2022 Kernel: 10.0.20348.2031 Compiler: clang 15.0.7, gcc 14.1.0 (MinGW), and MSVC VS 19.39.33521 To view detailed results, visit: https://lab.dpdk.org/results/dashboard/patchsets/34517/ UNH-IOL DPDK Community Lab To manage your email subscriptions, visit: https://lab.dpdk.org/results/dashboard/preferences/subscriptions/