From mboxrd@z Thu Jan 1 00:00:00 1970 Return-Path: Received: from mails.dpdk.org (mails.dpdk.org [217.70.189.124]) by inbox.dpdk.org (Postfix) with ESMTP id 8E54D48ACA for ; Mon, 10 Nov 2025 10:03:43 +0100 (CET) Received: from mails.dpdk.org (localhost [127.0.0.1]) by mails.dpdk.org (Postfix) with ESMTP id 89272400D5; Mon, 10 Nov 2025 10:03:43 +0100 (CET) Received: from mail-oa1-f100.google.com (mail-oa1-f100.google.com [209.85.160.100]) by mails.dpdk.org (Postfix) with ESMTP id 9A982400D5 for ; Mon, 10 Nov 2025 10:03:42 +0100 (CET) Received: by mail-oa1-f100.google.com with SMTP id 586e51a60fabf-30cce892b7dso1464447fac.1 for ; Mon, 10 Nov 2025 01:03:42 -0800 (PST) DKIM-Signature: v=1; a=rsa-sha256; c=relaxed/relaxed; d=iol.unh.edu; s=unh-iol; t=1762765422; x=1763370222; darn=dpdk.org; h=references:in-reply-to:cc:to:from:subject:message-id:date:from:to :cc:subject:date:message-id:reply-to; bh=pjV2Eb+KwIKG6FoZDEoOlu46rZk+2CyQySUa+MMTf1E=; b=dGYIXzRyi3/q0dclgLF5FlSz+xnRwHFw8o9k8x/qR1r2hsctF3+A5bCUqJSj1l0YHR HUBe6RS+vekBukqI745RE+M/VU8nSGkd5HcBtRbEGdrVRrt2za1YvgHiayWv3HyxvnBu jyBF3Tmp6TAyI8+TWvEUpkdTHSv8w6mVgln7Q= X-Google-DKIM-Signature: v=1; a=rsa-sha256; c=relaxed/relaxed; d=1e100.net; s=20230601; t=1762765422; x=1763370222; h=references:in-reply-to:cc:to:from:subject:message-id:date:x-gm-gg :x-gm-message-state:from:to:cc:subject:date:message-id:reply-to; bh=pjV2Eb+KwIKG6FoZDEoOlu46rZk+2CyQySUa+MMTf1E=; b=Nd9H93I8VijEI++h2zMsrJbEDe/+8jAnvBbLNGo7YwKhndv6dSdweByqqzMMMGjcsC EExkZrMQwEStFtt6cRzn97AemulTDVgRm2SSDjNu2cS16nHtuwau3WkzYl5Zo13tcEcT tJiODSI6wWRI/gMCCgx+tXeCkFiDIjHI0SBUu7p759LX0O9+YX7D3XFbqFplh/bPm/QD TJ8p6tTZKDZe05nikZ0vvJzP3JRbWQWvN751/Hu+Fq9KK8lNCdOwH+XTmfRGE5ttoUUP SNobBoofL+yFoGwKF1lfpOHhnq8ErmRw2K0NgKtfVVXrCqZU785OQsUau29RxGSTuopl 148Q== X-Gm-Message-State: AOJu0YzSFmIgMVkfF99xNI4gO4lScutIs3T6Cxp2ppl+xaXyZ8YgKYvB BE2FP0muIK2ukp80VU3bkXs5yiuVO5hQaXVqSqewPgHz8UZTE8iHJx9DGs/u0OH3MdVG+d9fQ3b nX8kKtzSRO3NJtzBCa9td+L1K08u+dVk+VYaMsbLiAhqakLci2jnbh7xMgOt0 X-Gm-Gg: ASbGncuDhHVGdjne2hFgNCigFhz+i97KCXWmles37GEj5SO4BtseMuJZPvCvrhnfkWB irC89EAt10PA5k65f2B+Hrm3eGLRJktpq57lMa3JXsjy/ULhC7Ai6QA4feg07Ei0iWHYKz/itIV SMplAZ2K5lZuDkxWtO0TmaaSK77VBR0s4W4ICDMeIeQzZKJ5M+tls7kR5izEwF9tmwwtx2fQtZH /HAdSzxg+CBJY7T14fB4+MWo1Sg91CfkhPx9DyE1sxrmqkcF0BlMIz+yKgGQxK+ahh5Iia05ZZX uBVdOmzSFCSg0FsN0kt5+nOX+0z5SMxNlx7c2t35IC4UUs7OGqmJrwnGo3A6/86ifn5UIveKZBi MfpxUwNox X-Google-Smtp-Source: AGHT+IH8KjokT73AQPWFCOSFWcWKkNT89RzXgdaj7+VdY5FHw/NTPG02lS4ez6EHgrgElLaNYKbxK6hDatR2 X-Received: by 2002:a05:6870:7d08:b0:3d3:4338:bbab with SMTP id 586e51a60fabf-3e7c2721c68mr5587652fac.18.1762765421831; Mon, 10 Nov 2025 01:03:41 -0800 (PST) Received: from postal.iol.unh.edu (postal.iol.unh.edu. [2606:4100:3880:1234::84]) by smtp-relay.gmail.com with ESMTPS id 006d021491bc7-656c5696f75sm355500eaf.5.2025.11.10.01.03.41 (version=TLS1_2 cipher=ECDHE-ECDSA-AES128-GCM-SHA256 bits=128/128); Mon, 10 Nov 2025 01:03:41 -0800 (PST) X-Relaying-Domain: iol.unh.edu Date: Mon, 10 Nov 2025 01:03:41 -0800 (PST) Message-ID: <6911aa6d.050a0220.18ef7a.288bSMTPIN_ADDED_MISSING@mx.google.com> Received: from [172.21.0.2] (unknown [172.18.0.240]) by postal.iol.unh.edu (Postfix) with ESMTP id 51DE46051830; Mon, 10 Nov 2025 04:03:41 -0500 (EST) Subject: |SUCCESS| pw158627 [PATCH] [v2] net/ice: fix statistics read error From: dpdklab@iol.unh.edu To: Test Report Cc: dpdk-test-reports@iol.unh.edu, Bruce Richardson In-Reply-To: <20251110080514.2506769-1-zhichaox.zeng@intel.com> References: <20251110080514.2506769-1-zhichaox.zeng@intel.com> Content-Type: text/plain X-BeenThere: test-report@dpdk.org X-Mailman-Version: 2.1.29 Precedence: list List-Id: automatic DPDK test reports List-Unsubscribe: , List-Archive: List-Post: List-Help: List-Subscribe: , Errors-To: test-report-bounces@dpdk.org Test-Label: iol-compile-amd64-testing Test-Status: SUCCESS http://dpdk.org/patch/158627 _Testing PASS_ Submitter: Zhichao Zeng Date: Monday, November 10 2025 08:05:14 DPDK git baseline: Repo:dpdk-next-net-intel Branch: master CommitID:1655dc989bc95fa85fc76d32912d2e46c0851148 158627 --> testing pass Upstream job id: Windows-Compile-DPDK-Native#32250 Test environment and result as below: +-------------------------------+--------------------+------------------+-------------------+-------------------------+----------------------+ | Environment | dpdk_meson_compile | dpdk_compile_ovs | dpdk_msvc_compile | dpdk_llvm_clang_compile | dpdk_mingw64_compile | +===============================+====================+==================+===================+=========================+======================+ | Debian GNU/Linux 12 | PASS | SKIPPED | SKIPPED | SKIPPED | SKIPPED | +-------------------------------+--------------------+------------------+-------------------+-------------------------+----------------------+ | CentOS Stream 10 | PASS | SKIPPED | SKIPPED | SKIPPED | SKIPPED | +-------------------------------+--------------------+------------------+-------------------+-------------------------+----------------------+ | CentOS Stream 9 | PASS | SKIPPED | SKIPPED | SKIPPED | SKIPPED | +-------------------------------+--------------------+------------------+-------------------+-------------------------+----------------------+ | Ubuntu 24.04 | PASS | PASS | SKIPPED | SKIPPED | SKIPPED | +-------------------------------+--------------------+------------------+-------------------+-------------------------+----------------------+ | Fedora Linux 42 | PASS | PASS | SKIPPED | SKIPPED | SKIPPED | +-------------------------------+--------------------+------------------+-------------------+-------------------------+----------------------+ | openSUSE Leap 15.6 | PASS | SKIPPED | SKIPPED | SKIPPED | SKIPPED | +-------------------------------+--------------------+------------------+-------------------+-------------------------+----------------------+ | Ubuntu 22.04 | PASS | SKIPPED | SKIPPED | SKIPPED | SKIPPED | +-------------------------------+--------------------+------------------+-------------------+-------------------------+----------------------+ | Red Hat Enterprise Linux 8.10 | PASS | SKIPPED | SKIPPED | SKIPPED | SKIPPED | +-------------------------------+--------------------+------------------+-------------------+-------------------------+----------------------+ | Ubuntu 20.04 | PASS | SKIPPED | SKIPPED | SKIPPED | SKIPPED | +-------------------------------+--------------------+------------------+-------------------+-------------------------+----------------------+ | Red Hat Enterprise Linux 9.5 | PASS | SKIPPED | SKIPPED | SKIPPED | SKIPPED | +-------------------------------+--------------------+------------------+-------------------+-------------------------+----------------------+ | Alpine Linux 3.22.0 | PASS | SKIPPED | SKIPPED | SKIPPED | SKIPPED | +-------------------------------+--------------------+------------------+-------------------+-------------------------+----------------------+ | FreeBSD 14.2 | PASS | SKIPPED | SKIPPED | SKIPPED | SKIPPED | +-------------------------------+--------------------+------------------+-------------------+-------------------------+----------------------+ | Windows Server 2022 | SKIPPED | SKIPPED | PASS | PASS | PASS | +-------------------------------+--------------------+------------------+-------------------+-------------------------+----------------------+ Debian GNU/Linux 12 Kernel: 5.15 Compiler: gcc gcc (Debian 12.2.0-14+deb12u1) 12.2.0 CentOS Stream 10 Kernel: 5.15 Compiler: gcc gcc (GCC) 14.2.1 20250110 (Red Hat 14.2.1-8) CentOS Stream 9 Kernel: 5.15 Compiler: gcc gcc (GCC) 11.5.0 20240719 (Red Hat 11.5.0-11) Ubuntu 24.04 Kernel: 5.15 Compiler: gcc gcc (Ubuntu 13.3.0-6ubuntu2~24.04) 13.3.0 Fedora Linux 42 Kernel: 5.15 Compiler: gcc gcc (GCC) 15.2.1 20250808 (Red Hat 15.2.1-1) openSUSE Leap 15.6 Kernel: 5.15 Compiler: gcc gcc (SUSE Linux) 7.5.0 Ubuntu 22.04 Kernel: 5.15 Compiler: gcc gcc (Ubuntu 11.4.0-1ubuntu1~22.04) 11.4.0 Red Hat Enterprise Linux 8.10 Kernel: 5.15 Compiler: gcc gcc (GCC) 8.5.0 20210514 (Red Hat 8.5.0-22) Ubuntu 20.04 Kernel: 5.15 Compiler: gcc gcc (Ubuntu 9.4.0-1ubuntu1~20.04.2) 9.4.0 Red Hat Enterprise Linux 9.5 Kernel: 5.15 Compiler: gcc gcc (GCC) 11.5.0 20240719 (Red Hat 11.5.0-2) Alpine Linux 3.22.0 Kernel: 5.15 Compiler: gcc gcc (Alpine 14.2.0) 14.2.0 FreeBSD 14.2 Kernel: 14.2-RELEASE Compiler: clang 18.1.6 Windows Server 2022 Kernel: 10.0.20348.2031 Compiler: clang 15.0.7, gcc 14.1.0 (MinGW), and MSVC VS 19.39.33521 To view detailed results, visit: https://lab.dpdk.org/results/dashboard/patchsets/34517/ UNH-IOL DPDK Community Lab To manage your email subscriptions, visit: https://lab.dpdk.org/results/dashboard/preferences/subscriptions/