From mboxrd@z Thu Jan 1 00:00:00 1970 Return-Path: Received: from mails.dpdk.org (mails.dpdk.org [217.70.189.124]) by inbox.dpdk.org (Postfix) with ESMTP id ECDB848ACA for ; Mon, 10 Nov 2025 10:17:15 +0100 (CET) Received: from mails.dpdk.org (localhost [127.0.0.1]) by mails.dpdk.org (Postfix) with ESMTP id D0C78400D5; Mon, 10 Nov 2025 10:17:15 +0100 (CET) Received: from mail-qv1-f100.google.com (mail-qv1-f100.google.com [209.85.219.100]) by mails.dpdk.org (Postfix) with ESMTP id 2DF00400D5 for ; Mon, 10 Nov 2025 10:17:14 +0100 (CET) Received: by mail-qv1-f100.google.com with SMTP id 6a1803df08f44-88044caaa3eso30993066d6.3 for ; Mon, 10 Nov 2025 01:17:14 -0800 (PST) DKIM-Signature: v=1; a=rsa-sha256; c=relaxed/relaxed; d=iol.unh.edu; s=unh-iol; t=1762766233; x=1763371033; darn=dpdk.org; h=references:in-reply-to:cc:to:from:subject:message-id:date:from:to :cc:subject:date:message-id:reply-to; bh=QntoPJqOeTrLOqKYXK9w4OjwtHVfYjgiNdyxlmLPN2s=; b=Zl2ufAq47KxAG0lZi+jJrP8TWn4v+YBj8rOa0iYk5s+3r9e9CA8mW3fraHqwquF0Rs TWlTuuNBTuq6xqvYh4MgoilnM66j3Awi6SN0aUENB17H6xGLXTvoYzxpF/BjEAwJvRWg b40vNPSQ++o7CwuWMC5ZCtbcJ4BHzWCPwpCE8= X-Google-DKIM-Signature: v=1; a=rsa-sha256; c=relaxed/relaxed; d=1e100.net; s=20230601; t=1762766233; x=1763371033; h=references:in-reply-to:cc:to:from:subject:message-id:date:x-gm-gg :x-gm-message-state:from:to:cc:subject:date:message-id:reply-to; bh=QntoPJqOeTrLOqKYXK9w4OjwtHVfYjgiNdyxlmLPN2s=; b=YqMJDb3LDRfhqrsA8uN3S4Yi//Nff1K5CvN/0b2GlPh3ojf+eURR5G8KiroGsWEPAY P5l1I9l9Tb6UTw14bcij4N+pclSy63VzLdVGxgEH0sbBTUolndnyVFieQNq88RpTtmM2 hwxtBOrwcMydhYj+HZOR2R5+7CA1/SZr/HYUyqMGBlPRFYoUtaCN5lLJaHQHh3Ufy947 ELRGSPcWU9wzalsLWMp/JbyYTNs1Ueo4zXFPMj1RlJjvJ8Q/lXb6c7amnzlAj6mJEUNB fThOs6S8//EWfGWyGBma8mGgp6R1Av78MCGD+c522EHkA3cJiUt4ZspCkSyPaF+VkSn8 wnEA== X-Gm-Message-State: AOJu0YwqOXeHU51bDV4Sf80wPN9Nm/Iz6pf3P/9tHcm4N+CeJ+EKNbSD 1a80fDsEaBXXDDToZX6kuhm64oYOwiy/lJLVuYH2ROwQPgjhZUiJlT4OvLUE08vuKbWMlAoJZ4H eB5qJeI5gyauilRIlqWRGzBwan5Zu3kmu7T3h/6SrfzMA X-Gm-Gg: ASbGncv7gTyrDM3JCmpm3rjAeMzYQB4Rfc6ly85hMFUIe4OkZw8ZnSMcbGV2mksPRvY fl97yzR7yL7gDQjS27tH2u+G4kxrAv4iQUUsXSvTo+W+HCOi6Id0l2aiOORsXJolQ5r4MiMp48C WOk6c0FRlFHqB59kV3oXP9J0Uppxrlo5CJRA46pv1Fi1vfsg69sTCiD3CwP4z5SwMvjOw/6Ou+4 ZLB7opm/rzq6lmUlk2GgbtSErnJdaosCwn8ZEIdNCuG4qiOnJKnoCQr90ic5Qh5AfYROFlFYzLM pCVdJ09/svVBrm7lIjDN0Pj/5x/EDd3vGPJe3z1PT6uHCSoSnGAa9bj+sXGnGeCG/pZ+UEntQ/L 8mUtKWRdmyWTElO+2N6ACWCB7A4+itOM= X-Google-Smtp-Source: AGHT+IFgc03ngh1dzGcfaHAK9B6WE2tJK2LyaLodsG6IznzgNJl5hMqUr5NryCt9kRnDWQs9KDFuUc2RMCDr X-Received: by 2002:ad4:5ded:0:b0:880:4ec0:417f with SMTP id 6a1803df08f44-882386120e3mr105036896d6.24.1762766233330; Mon, 10 Nov 2025 01:17:13 -0800 (PST) Received: from postal.iol.unh.edu (postal.iol.unh.edu. [132.177.123.84]) by smtp-relay.gmail.com with ESMTPS id 6a1803df08f44-882389720d0sm8175116d6.5.2025.11.10.01.17.13 (version=TLS1_2 cipher=ECDHE-ECDSA-AES128-GCM-SHA256 bits=128/128); Mon, 10 Nov 2025 01:17:13 -0800 (PST) X-Relaying-Domain: iol.unh.edu Date: Mon, 10 Nov 2025 01:17:13 -0800 (PST) Message-ID: <6911ad99.d40a0220.3632d4.95eaSMTPIN_ADDED_MISSING@mx.google.com> Received: from [172.21.0.2] (unknown [172.18.0.240]) by postal.iol.unh.edu (Postfix) with ESMTP id 0E1626051830; Mon, 10 Nov 2025 04:17:13 -0500 (EST) Subject: |SUCCESS| pw158627 [PATCH] [v2] net/ice: fix statistics read error From: dpdklab@iol.unh.edu To: Test Report Cc: dpdk-test-reports@iol.unh.edu, Bruce Richardson In-Reply-To: <20251110080514.2506769-1-zhichaox.zeng@intel.com> References: <20251110080514.2506769-1-zhichaox.zeng@intel.com> Content-Type: text/plain X-BeenThere: test-report@dpdk.org X-Mailman-Version: 2.1.29 Precedence: list List-Id: automatic DPDK test reports List-Unsubscribe: , List-Archive: List-Post: List-Help: List-Subscribe: , Errors-To: test-report-bounces@dpdk.org Test-Label: iol-unit-amd64-testing Test-Status: SUCCESS http://dpdk.org/patch/158627 _Testing PASS_ Submitter: Zhichao Zeng Date: Monday, November 10 2025 08:05:14 DPDK git baseline: Repo:dpdk-next-net-intel Branch: master CommitID:1655dc989bc95fa85fc76d32912d2e46c0851148 158627 --> testing pass Upstream job id: Generic-Unit-Test-DPDK#390504 Test environment and result as below: +-------------------------------+----------------+ | Environment | dpdk_unit_test | +===============================+================+ | CentOS Stream 9 | PASS | +-------------------------------+----------------+ | CentOS Stream 10 | PASS | +-------------------------------+----------------+ | Fedora Linux 40 | PASS | +-------------------------------+----------------+ | Debian GNU/Linux 12 | PASS | +-------------------------------+----------------+ | Ubuntu 20.04 | PASS | +-------------------------------+----------------+ | Fedora Linux 41 | PASS | +-------------------------------+----------------+ | Red Hat Enterprise Linux 9.5 | PASS | +-------------------------------+----------------+ | Red Hat Enterprise Linux 8.10 | PASS | +-------------------------------+----------------+ | Fedora Linux 42 | PASS | +-------------------------------+----------------+ | Ubuntu 24.04 | PASS | +-------------------------------+----------------+ | Ubuntu 22.04 | PASS | +-------------------------------+----------------+ | Windows Server 2022 | PASS | +-------------------------------+----------------+ CentOS Stream 9 Kernel: 5.15 Compiler: gcc gcc (GCC) 11.5.0 20240719 (Red Hat 11.5.0-11) CentOS Stream 10 Kernel: 5.15 Compiler: gcc gcc (GCC) 14.2.1 20250110 (Red Hat 14.2.1-8) Fedora Linux 40 Kernel: 5.15 Compiler: clang gcc (GCC) 14.2.1 20240912 (Red Hat 14.2.1-3) Debian GNU/Linux 12 Kernel: 5.15 Compiler: gcc gcc (Debian 12.2.0-14+deb12u1) 12.2.0 Ubuntu 20.04 Kernel: 5.15 Compiler: gcc gcc (Ubuntu 9.4.0-1ubuntu1~20.04.2) 9.4.0 Fedora Linux 41 Kernel: 5.15 Compiler: clang gcc (GCC) 14.3.1 20250523 (Red Hat 14.3.1-1) Red Hat Enterprise Linux 9.5 Kernel: 5.15 Compiler: gcc gcc (GCC) 11.5.0 20240719 (Red Hat 11.5.0-2) Red Hat Enterprise Linux 8.10 Kernel: 5.15 Compiler: gcc gcc (GCC) 8.5.0 20210514 (Red Hat 8.5.0-22) Fedora Linux 42 Kernel: 5.15 Compiler: clang gcc (GCC) 15.2.1 20250808 (Red Hat 15.2.1-1) Ubuntu 24.04 Kernel: 5.15 Compiler: gcc gcc (Ubuntu 13.3.0-6ubuntu2~24.04) 13.3.0 Ubuntu 22.04 Kernel: 5.15 Compiler: gcc gcc (Ubuntu 11.4.0-1ubuntu1~22.04) 11.4.0 Windows Server 2022 Kernel: 10.0.20348.2031 Compiler: clang 15.0.7, gcc 14.1.0 (MinGW), and MSVC VS 19.39.33521 To view detailed results, visit: https://lab.dpdk.org/results/dashboard/patchsets/34517/ UNH-IOL DPDK Community Lab To manage your email subscriptions, visit: https://lab.dpdk.org/results/dashboard/preferences/subscriptions/