From mboxrd@z Thu Jan 1 00:00:00 1970 Return-Path: Received: from mails.dpdk.org (mails.dpdk.org [217.70.189.124]) by inbox.dpdk.org (Postfix) with ESMTP id 2613348ACA for ; Mon, 10 Nov 2025 10:39:22 +0100 (CET) Received: from mails.dpdk.org (localhost [127.0.0.1]) by mails.dpdk.org (Postfix) with ESMTP id 07208400D5; Mon, 10 Nov 2025 10:39:22 +0100 (CET) Received: from mail-oa1-f98.google.com (mail-oa1-f98.google.com [209.85.160.98]) by mails.dpdk.org (Postfix) with ESMTP id EC7A2400D5 for ; Mon, 10 Nov 2025 10:39:20 +0100 (CET) Received: by mail-oa1-f98.google.com with SMTP id 586e51a60fabf-3e2d1477b9cso1582624fac.2 for ; Mon, 10 Nov 2025 01:39:20 -0800 (PST) DKIM-Signature: v=1; a=rsa-sha256; c=relaxed/relaxed; d=iol.unh.edu; s=unh-iol; t=1762767560; x=1763372360; darn=dpdk.org; h=cc:to:from:subject:message-id:date:from:to:cc:subject:date :message-id:reply-to; bh=rxfXDQETUnwrYz1E/jlYSejxHcZd39mKKWDEHt0YrLU=; b=A8bOu547vGxK2LiWPnVORZKzdRvpapSYlzd2EX8pyhSnqEnMYvYnntaYf5z/ePZ7/I E+YrdIwg5dPXojAWtieJogrZJBCc4PrUqeEZfRZ7ifduFoyFk2yxZlBfEj+83M5+wL7D MXA5D5nbQTFyq+HdzSbxGw6AJW60aDlsYsUl0= X-Google-DKIM-Signature: v=1; a=rsa-sha256; c=relaxed/relaxed; d=1e100.net; s=20230601; t=1762767560; x=1763372360; h=cc:to:from:subject:message-id:date:x-gm-gg:x-gm-message-state:from :to:cc:subject:date:message-id:reply-to; bh=rxfXDQETUnwrYz1E/jlYSejxHcZd39mKKWDEHt0YrLU=; b=Y5QXum0+1R/mipNXWzTU49iCRJ07huQlnbGQ5t9m3LkrXKTNgOSBYRrVABySCzdZI1 CgmIq9giv8rSMyIUDxUM/lNixz8YNtZy50fOVr4HaeRTea2zHVmurVSNape8NLev7Kw2 SJukeB+C65NVesClbOdHAXjP/cuYYILdNkseWxliVkU/DVc/N5xLQV9DL5pLyN336siZ tvEY3FuUd8tQtFv/dmY+BOgUHGt6HADcYhuaXLb+j4NpoOEs5j+AAIXyLV4LYT83wzxZ j+RiEbGdryPf592SSQBT8I//n1iGvpUZCS3uB7rJvolLfC+cBePevkbl6ZRib4bpyUVg CuGQ== X-Gm-Message-State: AOJu0Yz7GyZQY9AhpnB7w547nfMR2vINn2HqN87ee4qKEjwOoKQ1gSOC 90cOBOohxT+zSej/AEuhp4r/K0uEh1nL2xesfveKXrGyxdExjrW1jc2XNcUbR1J1JFG64jWbsqT A/zhi7iZiW9yGbn7VD42AXDzJDxWtZNxtlVWE X-Gm-Gg: ASbGnct/UIqTHud5Ptyta9Ng6icn7RQqDUJNoI5oZygazn+Sk3O6TI72oHkPde0wctw b547/YAY4IkkzryKlswBELpqiWZX2sEQXoEtoPU2Jm50M8BYx0+7T3yacTSOMyQMixZMuJM2kmv k1IjZGBFNp75VoIGJYfFVn6IgyKIaF1afavZxSppVp7x5dUigiDlHPAS2iEYFGomuSf6fKwkKXM EGLmzDTIYnteqecoyGryv66xX2FAJ5R9opTR741ZAIFLdKOfhQ/Xh6lcsDZrZQHazt6nKzVBykg 9gNWbD5hoS/R8FMwwFxdEvFn4z+uch7/Wlp4jwqmEHEYAmgQ3cTe/SvlWWzsHrb7Gas25jWUVwF 0oyrzaLkinLeI2PCKHk30D3V/7PsnYdc= X-Google-Smtp-Source: AGHT+IFLOY143lL73T4SbMar6LbQg2siobU4LkikdOl6gO/UXxzaVbeq/fiyesUeVXz2chN89UhUHUFLlpFy X-Received: by 2002:a05:6870:418e:b0:3e7:e458:6699 with SMTP id 586e51a60fabf-3e7e45899aemr2422408fac.20.1762767560074; Mon, 10 Nov 2025 01:39:20 -0800 (PST) Received: from postal.iol.unh.edu (postal.iol.unh.edu. [132.177.123.84]) by smtp-relay.gmail.com with ESMTPS id 586e51a60fabf-3e41f3295f2sm752900fac.21.2025.11.10.01.39.19 (version=TLS1_2 cipher=ECDHE-ECDSA-AES128-GCM-SHA256 bits=128/128); Mon, 10 Nov 2025 01:39:20 -0800 (PST) X-Relaying-Domain: iol.unh.edu Date: Mon, 10 Nov 2025 01:39:20 -0800 (PST) Message-ID: <6911b2c8.050a0220.217ff1.6534SMTPIN_ADDED_MISSING@mx.google.com> Received: from [172.21.0.3] (unknown [172.18.0.240]) by postal.iol.unh.edu (Postfix) with ESMTP id 81C256051830; Mon, 10 Nov 2025 04:39:19 -0500 (EST) Subject: |SUCCESS| [GIT MASTER] 9784db2c5af1eecd02fc21132b59b5b266039b87 From: dpdklab@iol.unh.edu To: Test Report Cc: dpdk-test-reports@iol.unh.edu, Xueming Li , Christian Ehrhardt , Kevin Traynor , Luca Boccassi Content-Type: text/plain X-BeenThere: test-report@dpdk.org X-Mailman-Version: 2.1.29 Precedence: list List-Id: automatic DPDK test reports List-Unsubscribe: , List-Archive: List-Post: List-Help: List-Subscribe: , Errors-To: test-report-bounces@dpdk.org _Testing PASS_ Branch: tags/v22.11 9784db2c5af1eecd02fc21132b59b5b266039b87 --> testing pass Upstream job id: Generic-DPDK-Compile-Meson#442466 Test environment and result as below: +------------------------------+--------------------+ | Environment | dpdk_meson_compile | +==============================+====================+ | Ubuntu 20.04 | PASS | +------------------------------+--------------------+ | Fedora Linux 42 | PASS | +------------------------------+--------------------+ | Debian GNU/Linux 12 | PASS | +------------------------------+--------------------+ | Red Hat Enterprise Linux 9.5 | PASS | +------------------------------+--------------------+ | Ubuntu 22.04 | PASS | +------------------------------+--------------------+ | CentOS Stream 10 | PASS | +------------------------------+--------------------+ | CentOS Stream 9 | PASS | +------------------------------+--------------------+ | Ubuntu 24.04 | PASS | +------------------------------+--------------------+ Ubuntu 20.04 Kernel: 5.4 Compiler: gcc gcc (Ubuntu 9.4.0-1ubuntu1~20.04.2) 9.4.0 Fedora Linux 42 Kernel: 5.4 Compiler: gcc gcc (GCC) 15.2.1 20250808 (Red Hat 15.2.1-1) Debian GNU/Linux 12 Kernel: 5.4 Compiler: gcc gcc (Debian 12.2.0-14+deb12u1) 12.2.0 Red Hat Enterprise Linux 9.5 Kernel: 5.4 Compiler: gcc gcc (GCC) 11.5.0 20240719 (Red Hat 11.5.0-2) Ubuntu 22.04 Kernel: 5.4 Compiler: gcc gcc (Ubuntu 11.4.0-1ubuntu1~22.04) 11.4.0 CentOS Stream 10 Kernel: 5.4 Compiler: gcc gcc (GCC) 14.2.1 20250110 (Red Hat 14.2.1-8) CentOS Stream 9 Kernel: 5.4 Compiler: gcc gcc (GCC) 11.5.0 20240719 (Red Hat 11.5.0-11) Ubuntu 24.04 Kernel: 5.4 Compiler: gcc gcc (Ubuntu 13.3.0-6ubuntu2~24.04) 13.3.0 To view detailed results, visit: https://lab.dpdk.org/results/dashboard/tarballs/35517/ UNH-IOL DPDK Community Lab To manage your email subscriptions, visit: https://lab.dpdk.org/results/dashboard/preferences/subscriptions/