From mboxrd@z Thu Jan 1 00:00:00 1970 Return-Path: Received: from mails.dpdk.org (mails.dpdk.org [217.70.189.124]) by inbox.dpdk.org (Postfix) with ESMTP id 1E28648ACA for ; Mon, 10 Nov 2025 11:56:28 +0100 (CET) Received: from mails.dpdk.org (localhost [127.0.0.1]) by mails.dpdk.org (Postfix) with ESMTP id E59D1400D6; Mon, 10 Nov 2025 11:56:27 +0100 (CET) Received: from mail-pg1-f228.google.com (mail-pg1-f228.google.com [209.85.215.228]) by mails.dpdk.org (Postfix) with ESMTP id C1AB5400D6 for ; Mon, 10 Nov 2025 11:56:26 +0100 (CET) Received: by mail-pg1-f228.google.com with SMTP id 41be03b00d2f7-b98983baeacso1056605a12.1 for ; Mon, 10 Nov 2025 02:56:26 -0800 (PST) DKIM-Signature: v=1; a=rsa-sha256; c=relaxed/relaxed; d=iol.unh.edu; s=unh-iol; t=1762772186; x=1763376986; darn=dpdk.org; h=references:in-reply-to:cc:to:from:subject:message-id:date:from:to :cc:subject:date:message-id:reply-to; bh=FP7Dr+0zeWwCO2H8aDqLDX++3T1qnwfN446E6Kc9TR8=; b=Jn3X4bhdoqLfgXvoAorkCkXiZWkITeJk6x4bjB3VsdrRRKBDIkKrx8DdFOQnO1zvKG oBqJ+lyHqxp8ntWXC6RYfY7Ytp103EMxwI5WwAvxK9cFl1G6/NBTlXtTQGTfA52s3Yrt 8rxIvJZk+6vtjCeiFeIHbxjhPG0K8SPC8q+ws= X-Google-DKIM-Signature: v=1; a=rsa-sha256; c=relaxed/relaxed; d=1e100.net; s=20230601; t=1762772186; x=1763376986; h=references:in-reply-to:cc:to:from:subject:message-id:date:x-gm-gg :x-gm-message-state:from:to:cc:subject:date:message-id:reply-to; bh=FP7Dr+0zeWwCO2H8aDqLDX++3T1qnwfN446E6Kc9TR8=; b=XlYe8IfhTesirn54IceG06PqJM27l+AKTIbpvaqetY6XlPjaJyv0CKdU/6kP2qYM9+ cgybt/q48pI/mqpFxj1lD4KgIfls3oO9aElthsTW0aSHgAf00LWQqqdbvyuWBkrwzgzy 6GjTdddVEx47eY0genqNJT0hPn7BWPqRUE/uqdDqzsyTcnfkyfTUJwL+NtQ4VQq443MS Fp4sBXikCYyYQxnA0upx0O7wTBJMQDupxlFKaz9NbrnyUNG+5FYWP/JCe6dDryv6F6No t/ykj/ihNzHs4/LFBuZh5k48zUbkvuG7X8KNHeoRa5zJ4218B1xEfiH5PMEGFOkCivrF OdOQ== X-Gm-Message-State: AOJu0YyVnRcqtGwE8XbhUcBnMntCE7wXW4vRoNO0M8jApSCHg0nOmLkZ 06a0ejmu1e872MBxdGl/gGy9Hv8QSWFfcX9nIhVOiN5ZrYCTYlwN+P7LYa/w1a9YUEwZzx8juJt BuedX1OY2IUrjkgsDDe2bkpRv9X1yjG1qtxwwB3e9oq3uy/QnapCXQpktM1+k X-Gm-Gg: ASbGncv5Aw/edjv+b3pjrrJTcm7K2hgFgi7H6QtFOQwjLeeTu6NeBP+QkzCWoMJywxY Sxff5VMV8uDdoKYQ7IM9CtKBsJMfq2X44LncNJ00IvdnavJsRCM/E9+weri7hAAPms+IB8UYLD4 nJAMcoMFpjfBT4LDArT0jUzMO09MsMhAs3P3INhD5gsg+g/LimhYSxqm96hxuApUGmG/aLsjs89 vI95/VHwiNw0b2BbEVKJjNswPNmPoX3Wo2EYLCH6W1ltilp1A0pcTlDSvBbngF6taZSV+q552Hp hBjK1Odl0/KCmq2VBhkRudm/9HjN55AqN7xLwbyUN4sP9gI32aJqYdGLjSlqd4ru7lH3GdrexWM czsaaHDXi X-Google-Smtp-Source: AGHT+IH8ahCPRY+34wFiCFNtXDp0U3tTKnG3ASK4JR9rPn6gWO8hvhHp8Qj57W4Ar3Q+da2PzAxxEBjnF0Kn X-Received: by 2002:a17:903:388c:b0:297:f8d9:aae9 with SMTP id d9443c01a7336-297f8d9afdbmr71818215ad.51.1762772185802; Mon, 10 Nov 2025 02:56:25 -0800 (PST) Received: from postal.iol.unh.edu (postal.iol.unh.edu. [2606:4100:3880:1234::84]) by smtp-relay.gmail.com with ESMTPS id d9443c01a7336-2965104dddbsm13416645ad.29.2025.11.10.02.56.25 (version=TLS1_2 cipher=ECDHE-ECDSA-AES128-GCM-SHA256 bits=128/128); Mon, 10 Nov 2025 02:56:25 -0800 (PST) X-Relaying-Domain: iol.unh.edu Date: Mon, 10 Nov 2025 02:56:25 -0800 (PST) Message-ID: <6911c4d9.170a0220.505bd.4069SMTPIN_ADDED_MISSING@mx.google.com> Received: from [172.21.0.2] (unknown [172.18.0.240]) by postal.iol.unh.edu (Postfix) with ESMTP id 3FC226051830; Mon, 10 Nov 2025 05:56:25 -0500 (EST) Subject: |SUCCESS| pw158627 [PATCH] [v2] net/ice: fix statistics read error From: dpdklab@iol.unh.edu To: Test Report Cc: dpdk-test-reports@iol.unh.edu, Bruce Richardson In-Reply-To: <20251110080514.2506769-1-zhichaox.zeng@intel.com> References: <20251110080514.2506769-1-zhichaox.zeng@intel.com> Content-Type: text/plain X-BeenThere: test-report@dpdk.org X-Mailman-Version: 2.1.29 Precedence: list List-Id: automatic DPDK test reports List-Unsubscribe: , List-Archive: List-Post: List-Help: List-Subscribe: , Errors-To: test-report-bounces@dpdk.org Test-Label: iol-unit-arm64-testing Test-Status: SUCCESS http://dpdk.org/patch/158627 _Testing PASS_ Submitter: Zhichao Zeng Date: Monday, November 10 2025 08:05:14 DPDK git baseline: Repo:dpdk-next-net-intel Branch: master CommitID:1655dc989bc95fa85fc76d32912d2e46c0851148 158627 --> testing pass Upstream job id: Generic-Unit-Test-DPDK#390501 Test environment and result as below: +------------------------------+----------------+--------------+---------------------------+------------------------------+ | Environment | dpdk_unit_test | lpm_autotest | cryptodev_sw_zuc_autotest | cryptodev_sw_snow3g_autotest | +==============================+================+==============+===========================+==============================+ | CentOS Stream 9 | PASS | SKIPPED | SKIPPED | SKIPPED | +------------------------------+----------------+--------------+---------------------------+------------------------------+ | Ubuntu 20.04 | PASS | PASS | SKIPPED | SKIPPED | +------------------------------+----------------+--------------+---------------------------+------------------------------+ | Fedora Linux 42 | PASS | SKIPPED | SKIPPED | SKIPPED | +------------------------------+----------------+--------------+---------------------------+------------------------------+ | CentOS Stream 10 | PASS | SKIPPED | SKIPPED | SKIPPED | +------------------------------+----------------+--------------+---------------------------+------------------------------+ | Debian GNU/Linux 12 | PASS | SKIPPED | SKIPPED | SKIPPED | +------------------------------+----------------+--------------+---------------------------+------------------------------+ | Fedora Linux 40 | PASS | SKIPPED | SKIPPED | SKIPPED | +------------------------------+----------------+--------------+---------------------------+------------------------------+ | Ubuntu 22.04 | PASS | SKIPPED | SKIPPED | SKIPPED | +------------------------------+----------------+--------------+---------------------------+------------------------------+ | Ubuntu 24.04 | PASS | SKIPPED | SKIPPED | SKIPPED | +------------------------------+----------------+--------------+---------------------------+------------------------------+ | Fedora Linux 41 | PASS | SKIPPED | SKIPPED | SKIPPED | +------------------------------+----------------+--------------+---------------------------+------------------------------+ | Red Hat Enterprise Linux 9.5 | PASS | SKIPPED | SKIPPED | SKIPPED | +------------------------------+----------------+--------------+---------------------------+------------------------------+ | Debian 12 (arm) | SKIPPED | SKIPPED | PASS | PASS | +------------------------------+----------------+--------------+---------------------------+------------------------------+ CentOS Stream 9 Kernel: 5.4 Compiler: gcc gcc (GCC) 11.5.0 20240719 (Red Hat 11.5.0-11) Ubuntu 20.04 Kernel: 5.4 Compiler: gcc gcc (Ubuntu 9.4.0-1ubuntu1~20.04.2) 9.4.0 Fedora Linux 42 Kernel: 5.4 Compiler: gcc gcc (GCC) 15.2.1 20250808 (Red Hat 15.2.1-1) CentOS Stream 10 Kernel: 5.4 Compiler: gcc gcc (GCC) 14.2.1 20250110 (Red Hat 14.2.1-8) Debian GNU/Linux 12 Kernel: 5.4 Compiler: gcc gcc (Debian 12.2.0-14+deb12u1) 12.2.0 Fedora Linux 40 Kernel: 5.4 Compiler: gcc gcc (GCC) 14.2.1 20240912 (Red Hat 14.2.1-3) Ubuntu 22.04 Kernel: 5.4 Compiler: gcc gcc (Ubuntu 11.4.0-1ubuntu1~22.04) 11.4.0 Ubuntu 24.04 Kernel: 5.4 Compiler: gcc gcc (Ubuntu 13.3.0-6ubuntu2~24.04) 13.3.0 Fedora Linux 41 Kernel: 5.4 Compiler: clang gcc (GCC) 14.3.1 20250523 (Red Hat 14.3.1-1) Red Hat Enterprise Linux 9.5 Kernel: 5.4 Compiler: gcc gcc (GCC) 11.5.0 20240719 (Red Hat 11.5.0-2) Debian 12 (arm) Kernel: Depends on container host Compiler: gcc (Debian 12.2.0-14) 12.2.0 To view detailed results, visit: https://lab.dpdk.org/results/dashboard/patchsets/34517/ UNH-IOL DPDK Community Lab To manage your email subscriptions, visit: https://lab.dpdk.org/results/dashboard/preferences/subscriptions/