From mboxrd@z Thu Jan 1 00:00:00 1970 Return-Path: Received: from mails.dpdk.org (mails.dpdk.org [217.70.189.124]) by inbox.dpdk.org (Postfix) with ESMTP id 8C51748ACB for ; Mon, 10 Nov 2025 12:20:37 +0100 (CET) Received: from mails.dpdk.org (localhost [127.0.0.1]) by mails.dpdk.org (Postfix) with ESMTP id 87216400D6; Mon, 10 Nov 2025 12:20:37 +0100 (CET) Received: from mail-yw1-f225.google.com (mail-yw1-f225.google.com [209.85.128.225]) by mails.dpdk.org (Postfix) with ESMTP id EFB6E400D6 for ; Mon, 10 Nov 2025 12:20:36 +0100 (CET) Received: by mail-yw1-f225.google.com with SMTP id 00721157ae682-78682bab930so38564107b3.1 for ; Mon, 10 Nov 2025 03:20:36 -0800 (PST) DKIM-Signature: v=1; a=rsa-sha256; c=relaxed/relaxed; d=iol.unh.edu; s=unh-iol; t=1762773636; x=1763378436; darn=dpdk.org; h=references:in-reply-to:cc:to:from:subject:message-id:date:from:to :cc:subject:date:message-id:reply-to; bh=NBlbzyxt9fQ2XMMehKDkDEcPJfai9pB0jBhnFONxQGI=; b=BiFIeVmdfMtJv8Lqqmaen5TyCvct4L1tAqaFFvS+C/sf1+tH8I8R/1CQHuaCZKsqFM Zh8cVImTUHFw3SbkAFYUJtQUnsty20ChB8imW6EjhFlNP8C8XC1hcf0/R6YWFFjt88cL 4bw5b3+p3aB32P+dS3AT9fWOMXPD2iXleg+oM= X-Google-DKIM-Signature: v=1; a=rsa-sha256; c=relaxed/relaxed; d=1e100.net; s=20230601; t=1762773636; x=1763378436; h=references:in-reply-to:cc:to:from:subject:message-id:date:x-gm-gg :x-gm-message-state:from:to:cc:subject:date:message-id:reply-to; bh=NBlbzyxt9fQ2XMMehKDkDEcPJfai9pB0jBhnFONxQGI=; b=VJqnpkUk1yj+CGBpWlBVtAaar1kuadeBwMcQLnZzUsU5xQhe8gmOz4EquxeWqC721e VNWa0lYSsTil2kVezEL2476XwyXmRb38zVwi+o3qc1ltNGlk7CrHocnhmg8SH6AIA+R7 yxmg3VwlJuSSjgxLsW9mENikWI64e4SqT9rG2DQAzCVE1goepoji2z0jw8yGPC6Yo8Um OgXAyJJDAgMfHyUtBM95N6fLFfIm0YwLxR+f/2i00Hd7DnYjL88442QP17wFevXK3vvu iXXhBe421THQ31QG/oomvFDYbIWlWEfpFWw7ID87H+U+O/RokE1/wC3oGiXHUxEM2PAK 9MvQ== X-Gm-Message-State: AOJu0YxctnEmV0qos+qwzQdNrVi2oRUpQjWboCsWysS1m4SSGYXiJbaR 94rQEkkJktiB/mUgwkAhPd3MIqOgRaM902CbH1TImvoJLhiEP2TyJz27z9zTsvZcVs5YqGau8Lw rMU8fOSDXwHXg8NOrPmoG+dKRxvJgknAzZLAyNKF/2jFkI/VOFHp/2debNxXy X-Gm-Gg: ASbGncsVlNyL9quwXHMxKhQGwm2SHf82P9tTcnIWaoK4jj7vhhZrvbuI0v1aJkhMhR5 xARsb9jkOFFW0SjLGlVBIPXcj+J+yVqT9w+Fj2LfBxaxdw8b0dcFp/4jK9dcxSHNyGmBc/WvCpm ejhXJYju8zdAvxJCLdtAUjIljVOfWM6HoeLMNAbyPDNBkCuLjtmE7Dh4Uy3FgPLA67EeGi5t0MC CC3Uq6QQnGqFzbNYxPeeT9KuWCM/EgnY5G0uY83tMW9dTM4C2R7E2ect+CE6sO0kiPDbGoLHnRI kIoRdA+iL/JGeYKAKG3mRLax/ciY6zp45zhB8vgDt+w11QBZHDsUxGCnW3Ur904TNXP33r7jb9K fejAU5vCT X-Google-Smtp-Source: AGHT+IHDTMU9M5rsK0CHOOBbm9LbOinH6oEk4zCCz1cYPqd5KPd2QzAYPkV2pTMcM9tsYTW2bfrfOdnHCMph X-Received: by 2002:a05:690c:9419:10b0:786:4a6e:353c with SMTP id 00721157ae682-787d4dbeec4mr57714507b3.1.1762773636333; Mon, 10 Nov 2025 03:20:36 -0800 (PST) Received: from postal.iol.unh.edu (postal.iol.unh.edu. [2606:4100:3880:1234::84]) by smtp-relay.gmail.com with ESMTPS id 00721157ae682-787d69e55b0sm3338887b3.33.2025.11.10.03.20.36 (version=TLS1_2 cipher=ECDHE-ECDSA-AES128-GCM-SHA256 bits=128/128); Mon, 10 Nov 2025 03:20:36 -0800 (PST) X-Relaying-Domain: iol.unh.edu Date: Mon, 10 Nov 2025 03:20:36 -0800 (PST) Message-ID: <6911ca84.050a0220.2ac8d4.16b3SMTPIN_ADDED_MISSING@mx.google.com> Received: from [172.21.0.3] (unknown [172.18.0.240]) by postal.iol.unh.edu (Postfix) with ESMTP id 10AC66051830; Mon, 10 Nov 2025 06:20:36 -0500 (EST) Subject: |SUCCESS| pw158625-158626 [PATCH] [v5,2/2] app/testpmd: support mult From: dpdklab@iol.unh.edu To: Test Report Cc: dpdk-test-reports@iol.unh.edu, Stephen Hemminger In-Reply-To: <20251110073610.14020-3-fengchengwen@huawei.com> References: <20251110073610.14020-3-fengchengwen@huawei.com> Content-Type: text/plain X-BeenThere: test-report@dpdk.org X-Mailman-Version: 2.1.29 Precedence: list List-Id: automatic DPDK test reports List-Unsubscribe: , List-Archive: List-Post: List-Help: List-Subscribe: , Errors-To: test-report-bounces@dpdk.org Test-Label: iol-compile-arm64-testing Test-Status: SUCCESS http://dpdk.org/patch/158626 _Testing PASS_ Submitter: fengchengwen Date: Monday, November 10 2025 07:36:10 DPDK git baseline: Repo:dpdk-next-net Branch: master CommitID:591ee7f468aebec30d68d30afa8d5e4dcfc897dc 158625-158626 --> testing pass Upstream job id: Generic-DPDK-Compile-Meson#442488 Test environment and result as below: +------------------------------+--------------------+ | Environment | dpdk_meson_compile | +==============================+====================+ | Ubuntu 20.04 | PASS | +------------------------------+--------------------+ | Debian GNU/Linux 12 | PASS | +------------------------------+--------------------+ | Red Hat Enterprise Linux 9.5 | PASS | +------------------------------+--------------------+ | Fedora Linux 42 | PASS | +------------------------------+--------------------+ | Ubuntu 22.04 | PASS | +------------------------------+--------------------+ | CentOS Stream 10 | PASS | +------------------------------+--------------------+ | Ubuntu 24.04 | PASS | +------------------------------+--------------------+ | CentOS Stream 9 | PASS | +------------------------------+--------------------+ Ubuntu 20.04 Kernel: 5.15 Compiler: clang gcc (Ubuntu 9.4.0-1ubuntu1~20.04.2) 9.4.0 Debian GNU/Linux 12 Kernel: 5.4 Compiler: gcc gcc (Debian 12.2.0-14+deb12u1) 12.2.0 Red Hat Enterprise Linux 9.5 Kernel: 5.4 Compiler: gcc gcc (GCC) 11.5.0 20240719 (Red Hat 11.5.0-2) Fedora Linux 42 Kernel: 5.4 Compiler: gcc gcc (GCC) 15.2.1 20250808 (Red Hat 15.2.1-1) Ubuntu 22.04 Kernel: 5.4 Compiler: gcc gcc (Ubuntu 11.4.0-1ubuntu1~22.04) 11.4.0 CentOS Stream 10 Kernel: 5.4 Compiler: gcc gcc (GCC) 14.2.1 20250110 (Red Hat 14.2.1-8) Ubuntu 24.04 Kernel: 5.4 Compiler: gcc gcc (Ubuntu 13.3.0-6ubuntu2~24.04) 13.3.0 CentOS Stream 9 Kernel: 5.4 Compiler: gcc gcc (GCC) 11.5.0 20240719 (Red Hat 11.5.0-11) To view detailed results, visit: https://lab.dpdk.org/results/dashboard/patchsets/34516/ UNH-IOL DPDK Community Lab To manage your email subscriptions, visit: https://lab.dpdk.org/results/dashboard/preferences/subscriptions/